{"text_format":"1","workbook":"xlsx","n_sheets":17,"sheets":["겉표지","표지","원가","총괄표","내역서","노임근거","일대목차","일위대가","일위노임","합산자재","단가조사","목차","산출집계","기본산출서","목록별산출서","옵션","사용설명"],"not_rendered":{"charts":0,"images":8,"macros":1,"external_links":0,"defined_names":20,"comments":0,"pivot_tables":0},"unopened":[],"bounds":{"document_bytes":16777216,"sheet_cells":100000,"rows_first":2000,"rows_last":500,"rows_between":2000,"halvings":0,"cell_chars":16384,"cell_head_chars":4096},"cells_cut":0,"cells_raw":0,"read":"whole","date_system":"1900"}

{"sheet":"겉표지","index":0,"n_rows":46,"n_cols":26,"rows_kept":46,"cut":false,"hidden":true,"merged":[[43,3,43,6],[44,3,44,6],[45,3,45,6],[46,3,46,6],[37,3,37,6],[38,3,38,6],[39,3,39,6],[40,3,40,6],[41,3,41,6],[42,3,42,6],[36,3,36,6],[0,0,0,8],[17,3,17,6],[19,3,19,6],[21,3,21,6],[35,3,35,5]]}
[{"$f":"표지!A1","v":"見 積 書"},null,null,null,null,null,null,null,null,null,null,null,null,null,null," ",null,null,null,null,null,null,null,null,null,"견적가로형식-1"]
[]
[]
[]
[]
[]
[]
[]
[]
[]
[]
[]
[]
[]
[]
[]
[]
[null,null,"件    名:",{"$f":"표지!C13","v":"교육시설(서일관) 승강기 증축공사 및 리모델링 전기공사"}]
[]
[null,null,"提 出 處:",{"$f":"표지!C4","v":"             貴下"}]
[]
[null,null,"提 出 日:",{"$f":"표지!C6","v":"2025년 10월 29일"}]
[]
[]
[]
[]
[]
[]
[]
[]
[]
[]
[]
[]
[]
[null,null,null,{"$f":"표지!I3","v":"대 한 민 국 주 식 회 사"}]
[null,null,null,{"$f":"표지!I4","v":" "}]
[null,null,null,{"$f":"표지!I5","v":"ㅇ ㅇ 시 ㅇ  ㅇ  구 ㅇ  ㅇ  동"}]
[null,null,null,{"$f":"표지!I6","v":" "}]
[null,null,null,{"$f":"표지!I7","v":"대표이사    홍      길      동"}]
[null,null,null,{"$f":"표지!I8","v":" "}]
[null,null,null,{"$f":"표지!I9","v":"대표전화   (02) 0 0 0 - 0 0 0 0"}]
[null,null,null,{"$f":"표지!I10","v":" "}]
[null,null,null,{"$f":"표지!I11","v":"팩    스   (02) 0 0 0 - 0 0 0 0"}]
[null,null," ",{"$f":"표지!I12","v":" "}]
[null,null,null,{"$f":"표지!I13","v":" "}]

{"sheet":"표지","index":1,"n_rows":44,"n_cols":16,"rows_kept":44,"cut":false,"hidden":true,"merged":[[43,1,43,6],[43,7,43,9],[40,1,40,6],[40,7,40,9],[41,1,41,6],[41,7,41,9],[42,1,42,6],[42,7,42,9],[38,1,38,2],[38,5,38,6],[38,7,38,9],[39,1,39,2],[39,5,39,6],[39,7,39,9],[36,1,36,2],[36,5,36,6],[36,7,36,9],[37,1,37,2],[37,5,37,6],[37,7,37,9],[34,1,34,2],[34,5,34,6],[34,7,34,9],[35,1,35,2],[35,5,35,6],[35,7,35,9],[32,1,32,2],[32,5,32,6],[32,7,32,9],[33,1,33,2],[33,5,33,6],[33,7,33,9],[30,1,30,2],[30,5,30,6],[30,7,30,9],[31,1,31,2],[31,5,31,6],[31,7,31,9],[28,1,28,2],[28,5,28,6],[28,7,28,9],[29,1,29,2],[29,5,29,6],[29,7,29,9],[26,1,26,2],[26,5,26,6],[26,7,26,9],[27,1,27,2],[27,5,27,6],[27,7,27,9],[24,1,24,2],[24,5,24,6],[24,7,24,9],[25,1,25,2],[25,5,25,6],[25,7,25,9],[22,1,22,2],[22,5,22,6],[22,7,22,9],[23,1,23,2],[23,5,23,6],[23,7,23,9],[20,1,20,2],[20,5,20,6],[20,7,20,9],[21,1,21,2],[21,5,21,6],[21,7,21,9],[18,1,18,2],[18,5,18,6],[18,7,18,9],[19,1,19,2],[19,5,19,6],[19,7,19,9],[14,2,14,8],[16,1,16,2],[16,5,16,6],[16,7,16,9],[17,1,17,2],[17,5,17,6],[17,7,17,9],[9,8,9,10],[10,8,10,10],[11,8,11,10],[12,2,12,6],[12,8,12,10],[13,1,13,6],[13,7,13,8],[6,1,6,6],[6,8,6,10],[7,1,7,6],[7,8,7,10],[8,1,8,6],[8,8,8,10],[0,0,0,10],[3,2,3,6],[3,8,3,10],[4,1,4,6],[4,8,4,10],[5,2,5,6],[5,8,5,10]]}
["見 積 書"]
[]
[null,null,null,null,null,null,null,null,"대 한 민 국 주 식 회 사"]
[null,"제 출 처:","             貴下",null,null,null,null,null," "]
[null,null,null,null,null,null,null," ","ㅇ ㅇ 시 ㅇ  ㅇ  구 ㅇ  ㅇ  동"]
[null,"제 출 일:","2025년 10월 29일",null,null,null,null,null," "]
[null,null,null,null,null,null,null," ","대표이사    홍      길      동"]
[null,"아래와 같이 見積書를 제출합니다.",null,null,null,null,null,null," "]
[null,null,null,null,null,null,null," ","대표전화   (02) 0 0 0 - 0 0 0 0"]
[null,null,null,null,null,null,null,null," "]
[null,null,null,null,null,null,null," ","팩    스   (02) 0 0 0 - 0 0 0 0"]
[null,null,null,null,null,null,null,null," "]
[null,"공 사 명:","교육시설(서일관) 승강기 증축공사 및 리모델링 전기공사",null,null,null,null,null," "]
[]
[null,"공사금액:",{"$f":"\"一金\"&NUMBERSTRING(F40,2)&\"원整(\"&DOLLAR(F40,0)&\")\"","v":"一金零원整(₩0)"}]
[]
[null,"내  용",null,"단위","수량","금    액",null,"비       고",null,null,null,null,"요율","금액","이윤","끝자리맞추기"]
[null,"재    료    비",null,"식",1,{"$f":"옵션!$B$2","v":0},null,null,null,null,null,null,null,{"$f":"E18*F18","v":0}]
[null,"노    무    비",null,"식",1,{"$f":"옵션!$C$2","v":0},null,null,null,null,null,null,null,0]
[null,"간 접 노 무 비",null,"식",1,{"$f":"TRUNC((F19)*M20/100)","v":0},null,"(직접 노무비) * 15.2 %",null,null,null,null,15.2,0]
[null,"( 소      계 )",null,null,null,{"$f":"SUM(F18:F20)","v":0},null,null,null,null,null,null,null,0]
[null,"기  계  경  비",null,"식",1,{"$f":"옵션!$D$2","v":0},null,null,null,null,null,null,null,0]
[null,"산 재 보 험 료",null,"식",1,{"$f":"TRUNC((F19+F20)*M23/100)","v":0},null,"(노무비) * 3.56 %",null,null,null,null,3.56,0]
[null,"고 용 보 험 료",null,"식",1,{"$f":"TRUNC((F19+F20)*M24/100)","v":0},null,"(노무비) * 1.01 %",null,null,null,null,1.01,0]
[null,"건 강 보 험 료",null,"식",1,{"$f":"TRUNC((F19)*M25/100)","v":0},null,"(직접 노무비) * 3.545 %",null,null,null,null,3.5449999999999999,0]
[null,"연 금 보 험 료",null,"식",1,{"$f":"TRUNC((F19)*M26/100)","v":0},null,"(직접 노무비) * 4.5 %",null,null,null,null,4.5,0]
[null,"퇴 직 금 공 제",null,"식",1,{"$f":"TRUNC((F19)*M27/100)","v":0},null,"(직접 노무비) * 2.3 %",null,null,null,null,2.2999999999999998,0]
[null,"안 전 관 리 비",null,"식",1,{"$f":"TRUNC((F18+F19+0/1.1)*M28/100)","v":0},null,"(재료+직노+관급재/1.1) * 3.11 %",null,null,null,null,3.11,0]
[null,"기  타  경  비",null,"식",1,{"$f":"TRUNC((F21)*M29/100)","v":0},null,"(재료+노무) * 4.7 %",null,null,null,null,4.7,0]
[null,"노인장기요양보험",null,"식",1,{"$f":"TRUNC((F25)*M30/100)","v":0},null,"(건강 보험료) * 12.95 %",null,null,null,null,12.95,0]
[null,"( 소      계 )",null,null,null,{"$f":"SUM(F22:F30)","v":0},null,null,null,null,null,null,null,0]
[null,"일 반 관 리 비",null,"식",1,{"$f":"TRUNC((F21+F31)*M32/100)","v":0},null,"(재료+노무+경비) * 8 %",null,null,null,null,8,0]
[null,"이          윤",null,"식",1,{"$f":"O33-((SUM(N18:N32)+O33-TRUNC((SUM(N18:N32)+O33)/P33)*P33))","v":0},null,"(노무+경비+일반관리비) * 15 %",null,null,null,null,15,0,{"$f":"TRUNC((F19+F20+F31+F32)*M33/100)","v":0},100000]
[null,"( 총  원  가 )",null,null,null,{"$f":"SUM(N18:N33)","v":0},null,null,null,null,null,null,null,0]
[null,"부 가 가 치 세",null,"식",1,{"$f":"TRUNC((F34)*M35/100)","v":0},null,null,null,null,null,null,10,0]
[null," ",null,null,null,null,null,null,null,null,null,null,null,0]
[null," ",null,null,null,null,null,null,null,null,null,null,null,0]
[null," ",null,null,null,null,null,null,null,null,null,null,null,0]
[null," ",null,null,null,null,null,null,null,null,null,null,null,0]
[null,"( 총      계 )",null,null,null,{"$f":"N40","v":0},null,null,null,null,null,null,null,{"$f":"SUM(N18:N39)","v":0}]
[null,"1. 부가가치세 별도"]
[null,"2. 한전불입금 별도"]
[null,"  "]
[null," "]

{"sheet":"원가","index":2,"n_rows":35,"n_cols":13,"rows_kept":35,"cut":false,"hidden":false,"merged":[[31,0,31,2],[32,0,32,2],[33,0,33,2],[34,0,34,2],[25,1,25,2],[26,0,26,2],[27,0,27,2],[28,0,28,2],[29,0,29,2],[30,0,30,2],[7,1,9,1],[0,0,0,4],[2,0,2,1],[2,2,2,3],[3,0,3,1],[4,1,6,1]]}
["원 가 계 산 서"]
[]
["공사명:",null,"교육시설(서일관) 승강기 증축공사 및 리모델링 전기공사",null,"공사기간: 2.5개월"]
["비 목",null,"구  분","금 액","구  성  비"," ",null,null,"요율","수량","금액","이윤","끝자리 맞추기"]
[null,"재 료 비","직 접 재 료 비",{"$f":"옵션!$B$2","v":0},null,null," ",null,null,1,{"$f":"D5*J5","v":0}]
[null,null,"간 접 재 료 비",null,null,null,null,null,null,null,{"$f":"D6*J6","v":0}]
[" ",null,"( 소      계 )",{"$f":"SUM(D5:D6)","v":0},null,null,null,null,null,null,0]
["순","노 무 비","직 접 노 무 비",{"$f":"옵션!$C$2","v":0},null,null,null,null,null,1,0]
[null,null,"간 접 노 무 비",{"$f":"TRUNC(D8*I9/100)","v":0},"(직접 노무비) * ",null,null,null,null,1,0]
[null,null,"( 소      계 )",{"$f":"SUM(D8:D9)","v":0},null,null,null,null,null,null,0]
[" ",null,"기  계  경  비",{"$f":"옵션!$D$2","v":0},null,null,null,null,null,1,0]
[null,null,"산 재 보 험 료",{"$f":"TRUNC(D10*I12/100)","v":0},"(노무비) *",null,null,null,null,1,0]
["공",null,"고 용 보 험 료",{"$f":"TRUNC(D10*I13/100)","v":0},"(노무비) * ",null,null,null,null,1,0]
[null,"경","산업안전보건관리비",{"$f":"TRUNC((D7+D8)*I14/100)","v":0},"(재료+직노) * ",null,null,null,null,1,0]
[" ",null,"기  타  경  비",{"$f":"TRUNC((D7+D10)*I15/100)","v":0},"(재료+노무) *",null,null,null,null,1,0]
[null,null,"건 강 보 험 료",{"$f":"TRUNC(D8*I16/100)","v":0},"(직접 노무비) *",null,null,null,null,1,0]
[null,null,"연 금 보 험 료",{"$f":"TRUNC(D8*I17/100)","v":0},"(직접 노무비) * ",null,null,null,null,1,0]
["사",null,"노인장기요양보험",{"$f":"TRUNC(D16*I18/100)","v":0},"(건강 보험료) * ",null,null,null,null,1,0]
[" "," "," ",null,null,null,null,null,null,null,0]
[null,null," ",null,null,null,null,null,null,null,0]
[null,null," ",null,null,null,null,null,null,null,0]
[null,"비"," ",null,null,null,null,null,null,null,0]
["비",null," ",null,null,null,null,null,null,null,0]
[null,null," ",null,null,null,null,null,null,null,0]
[null,null,"( 소      계 )",{"$f":"SUM(D11:D24)","v":0},null,null,null,null,null,null,0]
[null,"( 순 공 사 비 계 )",null,{"$f":"D7+D10+D25","v":0},null,null,null,null,null,null,0]
["일 반 관 리 비",null,null,{"$f":"TRUNC((D7+D10+D25)*I27/100)","v":0},"(재료+노무+경비) *",null,null,null,null,1,0]
["이          윤",null,null,{"$f":"L28-((SUM(K5:K27)+L28-TRUNC((SUM(K5:K27)+L28)/M28)*M28))","v":0},"(노무+경비+일반관리비) * ",null,null,null,null,1,0,{"$f":"TRUNC((D10+D25+D27)*I28/100)","v":0},100000]
["( 총  원  가 )",null,null,{"$f":"SUM(K5:K28)","v":0},null,null,null,null,null,null,0]
["부 가 가 치 세",null,null,{"$f":"TRUNC(D29*I30/100)","v":0},null,null,null,null,null,1,0]
["도  급  금  액",null,null,{"$f":"D29+D30","v":0},null,null,null,null,null,null,0]
[" ",null,null,null,null,null,null,null,null,null,0]
[" ",null,null,null,null,null,null,null,null,null,0]
[" ",null,null,null,null,null,null,null,null,null,0]
["( 총      계 )",null,null,{"$f":"K35","v":0},null,null,null,null,null,null,{"$f":"SUM(K5:K34)","v":0}]

{"sheet":"총괄표","index":3,"n_rows":81,"n_cols":27,"rows_kept":81,"cut":false,"hidden":false,"merged":[[0,3,0,16],[1,0,2,0],[1,1,2,1],[1,2,2,2],[1,3,2,3],[1,4,2,4],[1,5,2,5],[1,6,2,6],[1,7,1,8],[1,9,1,11],[3,3,3,16],[29,3,29,16],[55,3,55,16],[1,12,1,13],[1,15,2,15],[1,16,2,16]]}
["총줄수->","81","2.0","[ 교육시설(서일관) 승강기 증축공사 및 리모델링 전기공사 ]",null,null,null,null,null,null,null,null,null,null,null,null,null,null,null,null,null,null,null,null,null,null,"연속견적가로형식"]
["번호","공종코드","…","공   종   명","규격","단위","수량","재료비",null,"노무비",null,null,"경비",null,null,"계","비고"]
[null,null,null,null,null,null,null,"단가","금액","수량","단가","금액","단가","금액","단가"]
[null,"공종줄",null,"[교육시설(서일관) 승강기 증축공사 및 리모델링 전기공사]"]
[null,"001",null,"1.엘리베이터",null,"식",1,{"$f":"총괄표!I55","v":0},{"$f":"G5*H5","v":0},null,{"$f":"총괄표!L55","v":0},{"$f":"G5*K5","v":0},{"$f":"총괄표!N55","v":0},{"$f":"G5*M5","v":0},null,{"$f":"SUM(I5,L5,N5)","v":0}]
[null,"002",null,"2.화장실",null,"식",1,{"$f":"총괄표!I81","v":0},0,null,{"$f":"총괄표!L81","v":0},0,{"$f":"총괄표!N81","v":0},0,null,0]
[null,null,null,null,null,null,null,null,0,null,null,0,null,0,null,0]
[null,null,null,null,null,null,null,null,0,null,null,0,null,0,null,0]
[null,null,null,null,null,null,null,null,0,null,null,0,null,0,null,0]
[null,null,null,null,null,null,null,null,0,null,null,0,null,0,null,0]
[null,null,null,null,null,null,null,null,0,null,null,0,null,0,null,0]
[null,null,null,null,null,null,null,null,0,null,null,0,null,0,null,0]
[null,null,null,null,null,null,null,null,0,null,null,0,null,0,null,0]
[null,null,null,null,null,null,null,null,0,null,null,0,null,0,null,0]
[null,null,null,null,null,null,null,null,0,null,null,0,null,0,null,0]
[null,null,null,null,null,null,null,null,0,null,null,0,null,0,null,0]
[null,null,null,null,null,null,null,null,0,null,null,0,null,0,null,0]
[null,null,null,null,null,null,null,null,0,null,null,0,null,0,null,0]
[null,null,null,null,null,null,null,null,0,null,null,0,null,0,null,0]
[null,null,null,null,null,null,null,null,0,null,null,0,null,0,null,0]
[null,null,null,null,null,null,null,null,0,null,null,0,null,0,null,0]
[null,null,null,null,null,null,null,null,0,null,null,0,null,0,null,0]
[null,null,null,null,null,null,null,null,0,null,null,0,null,0,null,0]
[null,null,null,null,null,null,null,null,0,null,null,0,null,0,null,0]
[null,null,null,null,null,null,null,null,0,null,null,0,null,0,null,0]
[null,null,null,null,null,null,null,null,0,null,null,0,null,0,null,0]
[null,null,null,null,null,null,null,null,0,null,null,0,null,0,null,0]
[null,null,null,null,null,null,null,null,0,null,null,0,null,0,null,0]
[null,null,"Total","( 합       계 )",null,null,null,null,{"$f":"TRUNC(SUM(I4:I28))","v":0},null,null,{"$f":"TRUNC(SUM(L4:L28))","v":0},null,{"$f":"TRUNC(SUM(N4:N28))","v":0},null,{"$f":"TRUNC(SUM(P4:P28))","v":0}]
[null,"공종줄",null,"1.엘리베이터"]
[null,"00101",null,"1-1.철거공사",null,"식",1,{"$f":"내역서!I29","v":0},{"$f":"G31*H31","v":0},null,{"$f":"내역서!L29","v":0},{"$f":"G31*K31","v":0},{"$f":"내역서!N29","v":0},{"$f":"G31*M31","v":0},null,{"$f":"SUM(I31,L31,N31)","v":0}]
[null,"00102",null,"1-2.전력간선공사",null,"식",1,{"$f":"내역서!I55","v":0},0,null,{"$f":"내역서!L55","v":0},0,{"$f":"내역서!N55","v":0},0,null,0]
[null,"00103",null,"1-3.전등설비공사",null,"식",1,{"$f":"내역서!I81","v":0},0,null,{"$f":"내역서!L81","v":0},0,{"$f":"내역서!N81","v":0},0,null,0]
[null,"00104",null,"1-4.전열설비공사",null,"식",1,{"$f":"내역서!I107","v":0},0,null,{"$f":"내역서!L107","v":0},0,{"$f":"내역서!N107","v":0},0,null,0]
[null,null,null,null,null,null,null,null,0,null,null,0,null,0,null,0]
[null,null,null,null,null,null,null,null,0,null,null,0,null,0,null,0]
[null,null,null,null,null,null,null,null,0,null,null,0,null,0,null,0]
[null,null,null,null,null,null,null,null,0,null,null,0,null,0,null,0]
[null,null,null,null,null,null,null,null,0,null,null,0,null,0,null,0]
[null,null,null,null,null,null,null,null,0,null,null,0,null,0,null,0]
[null,null,null,null,null,null,null,null,0,null,null,0,null,0,null,0]
[null,null,null,null,null,null,null,null,0,null,null,0,null,0,null,0]
[null,null,null,null,null,null,null,null,0,null,null,0,null,0,null,0]
[null,null,null,null,null,null,null,null,0,null,null,0,null,0,null,0]
[null,null,null,null,null,null,null,null,0,null,null,0,null,0,null,0]
[null,null,null,null,null,null,null,null,0,null,null,0,null,0,null,0]
[null,null,null,null,null,null,null,null,0,null,null,0,null,0,null,0]
[null,null,null,null,null,null,null,null,0,null,null,0,null,0,null,0]
[null,null,null,null,null,null,null,null,0,null,null,0,null,0,null,0]
[null,null,null,null,null,null,null,null,0,null,null,0,null,0,null,0]
[null,null,null,null,null,null,null,null,0,null,null,0,null,0,null,0]
[null,null,null,null,null,null,null,null,0,null,null,0,null,0,null,0]
[null,null,null,null,null,null,null,null,0,null,null,0,null,0,null,0]
[null,null,null,null,null,null,null,null,0,null,null,0,null,0,null,0]
[null,"001","Total","( 합       계 )",null,null,null,null,{"$f":"TRUNC(SUM(I30:I54))","v":0},null,null,{"$f":"TRUNC(SUM(L30:L54))","v":0},null,{"$f":"TRUNC(SUM(N30:N54))","v":0},null,{"$f":"TRUNC(SUM(P30:P54))","v":0}]
[null,"공종줄",null,"2.화장실"]
[null,"00201",null,"2-1.철거공사",null,"식",1,{"$f":"내역서!I133","v":0},{"$f":"G57*H57","v":0},null,{"$f":"내역서!L133","v":0},{"$f":"G57*K57","v":0},{"$f":"내역서!N133","v":0},{"$f":"G57*M57","v":0},null,{"$f":"SUM(I57,L57,N57)","v":0}]
[null,"00202",null,"2-2.전력간선공사",null,"식",1,{"$f":"내역서!I159","v":0},0,null,{"$f":"내역서!L159","v":0},0,{"$f":"내역서!N159","v":0},0,null,0]
[null,"00203",null,"2-3.전등설비공사",null,"식",1,{"$f":"내역서!I185","v":0},0,null,{"$f":"내역서!L185","v":0},0,{"$f":"내역서!N185","v":0},0,null,0]
[null,"00204",null,"2-4.전열설비공사",null,"식",1,{"$f":"내역서!I211","v":0},0,null,{"$f":"내역서!L211","v":0},0,{"$f":"내역서!N211","v":0},0,null,0]
[null,null,null,null,null,null,null,null,0,null,null,0,null,0,null,0]
[null,null,null,null,null,null,null,null,0,null,null,0,null,0,null,0]
[null,null,null,null,null,null,null,null,0,null,null,0,null,0,null,0]
[null,null,null,null,null,null,null,null,0,null,null,0,null,0,null,0]
[null,null,null,null,null,null,null,null,0,null,null,0,null,0,null,0]
[null,null,null,null,null,null,null,null,0,null,null,0,null,0,null,0]
[null,null,null,null,null,null,null,null,0,null,null,0,null,0,null,0]
[null,null,null,null,null,null,null,null,0,null,null,0,null,0,null,0]
[null,null,null,null,null,null,null,null,0,null,null,0,null,0,null,0]
[null,null,null,null,null,null,null,null,0,null,null,0,null,0,null,0]
[null,null,null,null,null,null,null,null,0,null,null,0,null,0,null,0]
[null,null,null,null,null,null,null,null,0,null,null,0,null,0,null,0]
[null,null,null,null,null,null,null,null,0,null,null,0,null,0,null,0]
[null,null,null,null,null,null,null,null,0,null,null,0,null,0,null,0]
[null,null,null,null,null,null,null,null,0,null,null,0,null,0,null,0]
[null,null,null,null,null,null,null,null,0,null,null,0,null,0,null,0]
[null,null,null,null,null,null,null,null,0,null,null,0,null,0,null,0]
[null,null,null,null,null,null,null,null,0,null,null,0,null,0,null,0]
[null,null,null,null,null,null,null,null,0,null,null,0,null,0,null,0]
[null,null,null,null,null,null,null,null,0,null,null,0,null,0,null,0]
[null,"002","Total","( 합       계 )",null,null,null,null,{"$f":"TRUNC(SUM(I56:I80))","v":0},null,null,{"$f":"TRUNC(SUM(L56:L80))","v":0},null,{"$f":"TRUNC(SUM(N56:N80))","v":0},null,{"$f":"TRUNC(SUM(P56:P80))","v":0}]

{"sheet":"내역서","index":4,"n_rows":211,"n_cols":31,"rows_kept":211,"cut":false,"hidden":false,"merged":[[0,22,0,24],[1,0,2,0],[1,1,2,1],[1,2,2,2],[1,3,2,3],[1,4,2,4],[1,5,2,5],[1,6,2,6],[1,7,1,8],[1,9,1,11],[1,12,1,13],[1,15,2,15],[1,16,2,16],[0,3,0,16],[133,3,133,16],[159,3,159,16],[185,3,185,16],[3,3,3,16],[29,3,29,16],[55,3,55,16],[81,3,81,16],[107,3,107,16]]}
["총줄수->","211","2.0","[ 교육시설(서일관) 승강기 증축공사 및 리모델링 전기공사 ]",null,null,null,null,null,null,null,null,null,null,null,null,null,null,null,null,null,null,"노임 계산 정보",null,null,null,"부속재 및 손료"]
["번호","공종코드","코드","명   칭","규   격","단위","수량","재료비",null,"노무비",null,null,"경비",null,null,"계","비고",null,null,null,null,null,"노임계","전체(%)","공종별(%)","노임 소수","CD배관재","일반배관재","소모재","자재계","노임계"]
[null,null,null,null,null,null,null,"단가","금액","수량","단가","금액","단가","금액","단가",null,null,null,null,null,null,null,null,null,null,null,null,null,null,{"$f":"IF(옵션!$C$11 =0, \"1\", 옵션!$C$11)","v":1},{"$f":"IF(옵션!$C$12 =0, \"1\", 옵션!$C$12)","v":1}]
[null,"공종줄",null,"1.엘리베이터::1-1.철거공사"]
["MM041720642","00101","391115ZZ701Z0004","LED 면조명 철거",null,"개",{"$f":"산출집계!H5","v":17},null,{"$f":"TRUNC(G5*H5)","v":0},{"$f":"산출집계!J5","v":17},{"$f":"합산자재!I56","v":0},{"$f":"TRUNC(G5*K5)","v":0},{"$f":"합산자재!J56","v":0},{"$f":"TRUNC(G5*M5)","v":0},null,{"$f":"SUM(I5,L5,N5)","v":0}]
["MM041720653","00101","391115ZZ701Z0005","LED 원형직부등 철거",null,"개",{"$f":"산출집계!H6","v":1},null,0,{"$f":"산출집계!J6","v":1},{"$f":"합산자재!I57","v":0},0,{"$f":"합산자재!J57","v":0},0,null,0]
["MM041720651","00101","391115ZZ701Z0007","LED 파이프펜던트 철거",null,"개",{"$f":"산출집계!H7","v":2},null,0,{"$f":"산출집계!J7","v":2},{"$f":"합산자재!I59","v":0},0,{"$f":"합산자재!J59","v":0},0,null,0]
["MM041720663","00101","391115ZZ701Z0009","기타 전기공사","배관, 배선정리","식",{"$f":"산출집계!H8","v":7},null,0,{"$f":"산출집계!J8","v":7},{"$f":"합산자재!I61","v":0},0,{"$f":"합산자재!J61","v":0},0,null,0]
["MM041720657","00101","391115ZZ701Z0010","전등스위치 철거",null,"개",{"$f":"산출집계!H9","v":8},null,0,{"$f":"산출집계!J9","v":8},{"$f":"합산자재!I62","v":0},0,{"$f":"합산자재!J62","v":0},0,null,0]
["MM041720659","00101","391115ZZ701Z0011","콘센트 철거",null,"개",{"$f":"산출집계!H10","v":4},null,0,{"$f":"산출집계!J10","v":4},{"$f":"합산자재!I63","v":0},0,{"$f":"합산자재!J63","v":0},0,null,0]
["56900017016","00101","L001010101000075","노 무 비","내선전공","인",{"$f":"노임근거!G11","v":4},{"$f":"합산자재!H65","v":0},0,{"$f":"노임근거!G11","v":4},{"$f":"합산자재!I65","v":0},0,{"$f":"합산자재!J65","v":0},0,null,0,null,null,null,null,null,null,null,null,null,"노임계",null,null,null,null,{"$f":"L11","v":0}]
["A0300000000","00101","RENT000000000006","[ 공 구 손 료 ]","노무비의 3 %","식",1,{"$f":"IF(TRUNC((AD13+AC13)/$AE$3)*$AE$3-AD13 <0, AC13, TRUNC((AD13+AC13)/$AE$3)*$AE$3-AD13)","v":0},{"$f":"H12","v":0},1,null,0,null,0,null,0]
[null,null,null,null,null,null,null,null,{"$f":"TRUNC(G13*H13)","v":0},null,null,0,null,0,null,0,null,null,null,null,null,null,null,null,null,null,null,null,{"$f":"TRUNC(AE13*옵션!$B$36/100)","v":0},{"$f":"TRUNC(SUM(L4:L11))","v":0},{"$f":"TRUNC(SUM(AE4:AE12))","v":0}]
[null,null,null,null,null,null,null,null,0,null,null,0,null,0,null,0]
[null,null,null,null,null,null,null,null,0,null,null,0,null,0,null,0]
[null,null,null,null,null,null,null,null,0,null,null,0,null,0,null,0]
[null,null,null,null,null,null,null,null,0,null,null,0,null,0,null,0]
[null,null,null,null,null,null,null,null,0,null,null,0,null,0,null,0]
[null,null,null,null,null,null,null,null,0,null,null,0,null,0,null,0]
[null,null,null,null,null,null,null,null,0,null,null,0,null,0,null,0]
[null,null,null,null,null,null,null,null,0,null,null,0,null,0,null,0]
[null,null,null,null,null,null,null,null,0,null,null,0,null,0,null,0]
[null,null,null,null,null,null,null,null,0,null,null,0,null,0,null,0]
[null,null,null,null,null,null,null,null,0,null,null,0,null,0,null,0]
[null,null,null,null,null,null,null,null,0,null,null,0,null,0,null,0]
[null,null,null,null,null,null,null,null,0,null,null,0,null,0,null,0]
[null,null,null,null,null,null,null,null,0,null,null,0,null,0,null,0]
[null,null,null,null,null,null,null,null,0,null,null,0,null,0,null,0]
[null,"합계줄",null,"( 합       계 )",null,null,null,null,{"$f":"TRUNC(SUM(I4:I28))","v":0},null,null,{"$f":"TRUNC(SUM(L4:L28))","v":0},null,{"$f":"TRUNC(SUM(N4:N28))","v":0},null,{"$f":"TRUNC(SUM(P4:P28))","v":0}]
[null,"공종줄",null,"1.엘리베이터::1-2.전력간선공사"]
["59753017007","00102","3913170620174414","1종금속제가요전선관","42 mm 일반-비방수","m",{"$f":"산출집계!H42","v":3},{"$f":"합산자재!H6","v":0},{"$f":"TRUNC(G31*H31)","v":0},{"$f":"산출집계!J42","v":3},{"$f":"합산자재!I6","v":0},{"$f":"TRUNC(G31*K31)","v":0},{"$f":"합산자재!J6","v":0},{"$f":"TRUNC(G31*M31)","v":0},null,{"$f":"SUM(I31,L31,N31)","v":0},null,null,null,null,null,null,null,null,null,null,null,null,{"$f":"G31*H31","v":0}]
["59753017008","00102","3913170620174415","1종금속제가요전선관","54 mm 일반-비방수","m",{"$f":"산출집계!H43","v":55},{"$f":"합산자재!H7","v":0},0,{"$f":"산출집계!J43","v":50},{"$f":"합산자재!I7","v":0},0,{"$f":"합산자재!J7","v":0},0,null,0,null,null,null,null,null,null,null,null,null,null,null,null,0]
["E1450927204","00102","2612152420683698","접지용비닐절연전선(F-GV)","10㎟","m",{"$f":"산출집계!H44","v":3},{"$f":"합산자재!H23","v":0},0,{"$f":"산출집계!J44","v":3},{"$f":"합산자재!I23","v":0},0,{"$f":"합산자재!J23","v":0},0,null,0,null,null,null,null,null,null,null,null,null,null,null,null,0]
["E1450927205","00102","2612152420683699","접지용비닐절연전선(F-GV)","16㎟","m",{"$f":"산출집계!H45","v":55},{"$f":"합산자재!H24","v":0},0,{"$f":"산출집계!J45","v":50},{"$f":"합산자재!I24","v":0},0,{"$f":"합산자재!J24","v":0},0,null,0,null,null,null,null,null,null,null,null,null,null,null,null,0]
["E1450287564","00102","2612162920683946","폴리에틸렌 난연케이블","0.6/1kv F-CV 4C×10㎟","m",{"$f":"산출집계!H46","v":3},{"$f":"합산자재!H26","v":0},0,{"$f":"산출집계!J46","v":3},{"$f":"합산자재!I26","v":0},0,{"$f":"합산자재!J26","v":0},0,null,0,null,null,null,null,null,null,null,null,null,null,null,null,0]
["E1450287565","00102","2612162920683947","폴리에틸렌 난연케이블","0.6/1kv F-CV 4C×16㎟","m",{"$f":"산출집계!H47","v":52},{"$f":"합산자재!H27","v":0},0,{"$f":"산출집계!J47","v":50},{"$f":"합산자재!I27","v":0},0,{"$f":"합산자재!J27","v":0},0,null,0,null,null,null,null,null,null,null,null,null,null,null,null,0]
["MM300015105","00102","3912161620167029","배선용차단기(ABS-54)","4P 50AF 50AT","EA",{"$f":"산출집계!H48","v":1},{"$f":"합산자재!H45","v":0},0,{"$f":"산출집계!J48","v":1},{"$f":"합산자재!I45","v":0},0,{"$f":"합산자재!J45","v":0},0,null,0]
["E9400177001","00102","3912143210033786","러그단자","동관단자 1 HOLE 10 ㎟","개",{"$f":"산출집계!H49","v":10},{"$f":"합산자재!H50","v":0},0,{"$f":"산출집계!J49","v":10},{"$f":"합산자재!I50","v":0},0,{"$f":"합산자재!J50","v":0},0,null,0]
["E9400177002","00102","3912143210033787","러그단자","동관단자 1 HOLE 16 ㎟","개",{"$f":"산출집계!H50","v":10},{"$f":"합산자재!H51","v":0},0,{"$f":"산출집계!J50","v":10},{"$f":"합산자재!I51","v":0},0,{"$f":"합산자재!J51","v":0},0,null,0]
["56959100802","00102","EAB110212000","LP-ELEV 분전반","600Wx600Hx150D","면",{"$f":"산출집계!H51","v":1},{"$f":"일대목차!I6","v":0},0,{"$f":"산출집계!J51","v":1},{"$f":"일대목차!L6","v":0},0,{"$f":"일대목차!N6","v":0},0,null,0,null,null,null,null,null,null,null,null,null,"노임계"]
["A0100000000","00102","RENT000000000003","[ 소모 잡자재 ]","전선, 전선관의 2 %","식",1,{"$f":"IF(TRUNC((AD41+AC41)/$AD$3)*$AD$3-AD41 <0, AC41, TRUNC((AD41+AC41)/$AD$3)*$AD$3-AD41)","v":0},{"$f":"H41","v":0},1,null,0,null,0,null,0,null,null,null,null,null,null,null,null,null,null,null,null,{"$f":"TRUNC(TRUNC(SUM(AC30:AC40))*옵션!$B$33/100)","v":0},{"$f":"TRUNC(SUM(I30:I40))+TRUNC(SUM(N30:N40))","v":0}]
["56900017016","00102","L001010101000075","노 무 비","내선전공","인",{"$f":"노임근거!G40","v":7},{"$f":"합산자재!H65","v":0},{"$f":"TRUNC(G42*H42)","v":0},{"$f":"노임근거!G40","v":7},{"$f":"합산자재!I65","v":0},0,{"$f":"합산자재!J65","v":0},0,null,0,null,null,null,null,null,null,null,null,null,null,null,null,null,null,{"$f":"L42","v":0}]
["56900017076","00102","L001010101000078","노 무 비","저압케이블전공","인",{"$f":"노임근거!G41","v":3},{"$f":"합산자재!H66","v":0},{"$f":"TRUNC(G43*H43)","v":0},{"$f":"노임근거!G41","v":3},{"$f":"합산자재!I66","v":0},0,{"$f":"합산자재!J66","v":0},0,null,0,null,null,null,null,null,null,null,null,null,null,null,null,null,null,{"$f":"L43","v":0}]
["A0300000000","00102","RENT000000000006","[ 공 구 손 료 ]","노무비의 3 %","식",1,{"$f":"IF(TRUNC((AD45+AC45)/$AE$3)*$AE$3-AD45 <0, AC45, TRUNC((AD45+AC45)/$AE$3)*$AE$3-AD45)","v":0},{"$f":"H44","v":0},1,null,0,null,0,null,0]
[null,null,null,null,null,null,null,null,{"$f":"TRUNC(G45*H45)","v":0},null,null,0,null,0,null,0,null,null,null,null,null,null,null,null,null,null,null,null,{"$f":"TRUNC(AE45*옵션!$B$36/100)","v":0},{"$f":"TRUNC(SUM(L30:L43))","v":0},{"$f":"TRUNC(SUM(AE30:AE44))","v":0}]
[null,null,null,null,null,null,null,null,0,null,null,0,null,0,null,0]
[null,null,null,null,null,null,null,null,0,null,null,0,null,0,null,0]
[null,null,null,null,null,null,null,null,0,null,null,0,null,0,null,0]
[null,null,null,null,null,null,null,null,0,null,null,0,null,0,null,0]
[null,null,null,null,null,null,null,null,0,null,null,0,null,0,null,0]
[null,null,null,null,null,null,null,null,0,null,null,0,null,0,null,0]
[null,null,null,null,null,null,null,null,0,null,null,0,null,0,null,0]
[null,null,null,null,null,null,null,null,0,null,null,0,null,0,null,0]
[null,null,null,null,null,null,null,null,0,null,null,0,null,0,null,0]
[null,"합계줄",null,"( 합       계 )",null,null,null,null,{"$f":"TRUNC(SUM(I30:I54))","v":0},null,null,{"$f":"TRUNC(SUM(L30:L54))","v":0},null,{"$f":"TRUNC(SUM(N30:N54))","v":0},null,{"$f":"TRUNC(SUM(P30:P54))","v":0}]
[null,"공종줄",null,"1.엘리베이터::1-3.전등설비공사"]
["59753017003","00103","3913170620174410","1종금속제가요전선관","16 mm 일반-비방수","m",{"$f":"산출집계!H79","v":159},{"$f":"합산자재!H5","v":0},{"$f":"TRUNC(G57*H57)","v":0},{"$f":"산출집계!J79","v":145},{"$f":"합산자재!I5","v":0},{"$f":"TRUNC(G57*K57)","v":0},{"$f":"합산자재!J5","v":0},{"$f":"TRUNC(G57*M57)","v":0},null,{"$f":"SUM(I57,L57,N57)","v":0},null,null,null,null,null,null,null,null,null,null,null,null,{"$f":"G57*H57","v":0}]
["59753777102","00103","3912130610035778","스위치박스","1 개용 54 mm","개",{"$f":"산출집계!H80","v":5},{"$f":"합산자재!H14","v":0},0,{"$f":"산출집계!J80","v":5},{"$f":"합산자재!I14","v":0},0,{"$f":"합산자재!J14","v":0},0,null,0]
["59753777111","00103","3912130610035781","스위치박스","2 개용 54 mm","개",{"$f":"산출집계!H81","v":2},{"$f":"합산자재!H15","v":0},0,{"$f":"산출집계!J81","v":2},{"$f":"합산자재!I15","v":0},0,{"$f":"합산자재!J15","v":0},0,null,0]
["MM481669624","00103","2612162922076727","450/750V 내열비닐절연전선","HFIX 1.78mm(2.5㎟)","m",{"$f":"산출집계!H82","v":478},{"$f":"합산자재!H20","v":0},0,{"$f":"산출집계!J82","v":435},{"$f":"합산자재!I20","v":0},0,{"$f":"합산자재!J20","v":0},0,null,0,null,null,null,null,null,null,null,null,null,null,null,null,{"$f":"G60*H60","v":0}]
["59301517001","00103","3912998720170517","매입스위치","250V 1로1구","개",{"$f":"산출집계!H83","v":1},{"$f":"합산자재!H28","v":0},0,{"$f":"산출집계!J83","v":1},{"$f":"합산자재!I28","v":0},0,{"$f":"합산자재!J28","v":0},0,null,0]
["59301517002","00103","3912998720170518","매입스위치","250V 1로2구","개",{"$f":"산출집계!H84","v":1},{"$f":"합산자재!H29","v":0},0,{"$f":"산출집계!J84","v":1},{"$f":"합산자재!I29","v":0},0,{"$f":"합산자재!J29","v":0},0,null,0]
["59301517003","00103","3912998720170519","매입스위치","250V 1로3구","개",{"$f":"산출집계!H85","v":3},{"$f":"합산자재!H30","v":0},0,{"$f":"산출집계!J85","v":3},{"$f":"합산자재!I30","v":0},0,{"$f":"합산자재!J30","v":0},0,null,0]
["59301517004","00103","3912998720170520","매입스위치","250V 1로4구","개",{"$f":"산출집계!H86","v":2},{"$f":"합산자재!H31","v":0},0,{"$f":"산출집계!J86","v":2},{"$f":"합산자재!I31","v":0},0,{"$f":"합산자재!J31","v":0},0,null,0]
["MM041720685","00103","391115ZZ701Z0003","LED 면조명","기존","개",{"$f":"산출집계!H87","v":13},{"$f":"합산자재!H55","v":0},0,{"$f":"산출집계!J87","v":13},{"$f":"합산자재!I55","v":0},0,{"$f":"합산자재!J55","v":0},0,null,0]
["MM041720674","00103","391115ZZ701Z0006","LED 파이프펜던트","기존","개",{"$f":"산출집계!H88","v":2},{"$f":"합산자재!H58","v":0},0,{"$f":"산출집계!J88","v":2},{"$f":"합산자재!I58","v":0},0,{"$f":"합산자재!J58","v":0},0,null,0]
["A0100000000","00103","RENT000000000003","[ 소모 잡자재 ]","전선, 전선관의 2 %","식",1,{"$f":"IF(TRUNC((AD67+AC67)/$AD$3)*$AD$3-AD67 <0, AC67, TRUNC((AD67+AC67)/$AD$3)*$AD$3-AD67)","v":0},{"$f":"H67","v":0},1,null,0,null,0,null,0,null,null,null,null,null,null,null,null,null,"노임계",null,null,{"$f":"TRUNC(TRUNC(SUM(AC56:AC66))*옵션!$B$33/100)","v":0},{"$f":"TRUNC(SUM(I56:I66))+TRUNC(SUM(N56:N66))","v":0}]
["56900017016","00103","L001010101000075","노 무 비","내선전공","인",{"$f":"노임근거!G67","v":13},{"$f":"합산자재!H65","v":0},{"$f":"TRUNC(G68*H68)","v":0},{"$f":"노임근거!G67","v":13},{"$f":"합산자재!I65","v":0},0,{"$f":"합산자재!J65","v":0},0,null,0,null,null,null,null,null,null,null,null,null,null,null,null,null,null,{"$f":"L68","v":0}]
["A0300000000","00103","RENT000000000006","[ 공 구 손 료 ]","노무비의 3 %","식",1,{"$f":"IF(TRUNC((AD70+AC70)/$AE$3)*$AE$3-AD70 <0, AC70, TRUNC((AD70+AC70)/$AE$3)*$AE$3-AD70)","v":0},{"$f":"H69","v":0},1,null,0,null,0,null,0]
[null,null,null,null,null,null,null,null,{"$f":"TRUNC(G70*H70)","v":0},null,null,0,null,0,null,0,null,null,null,null,null,null,null,null,null,null,null,null,{"$f":"TRUNC(AE70*옵션!$B$36/100)","v":0},{"$f":"TRUNC(SUM(L56:L68))","v":0},{"$f":"TRUNC(SUM(AE56:AE69))","v":0}]
[null,null,null,null,null,null,null,null,0,null,null,0,null,0,null,0]
[null,null,null,null,null,null,null,null,0,null,null,0,null,0,null,0]
[null,null,null,null,null,null,null,null,0,null,null,0,null,0,null,0]
[null,null,null,null,null,null,null,null,0,null,null,0,null,0,null,0]
[null,null,null,null,null,null,null,null,0,null,null,0,null,0,null,0]
[null,null,null,null,null,null,null,null,0,null,null,0,null,0,null,0]
[null,null,null,null,null,null,null,null,0,null,null,0,null,0,null,0]
[null,null,null,null,null,null,null,null,0,null,null,0,null,0,null,0]
[null,null,null,null,null,null,null,null,0,null,null,0,null,0,null,0]
[null,null,null,null,null,null,null,null,0,null,null,0,null,0,null,0]
[null,"합계줄",null,"( 합       계 )",null,null,null,null,{"$f":"TRUNC(SUM(I56:I80))","v":0},null,null,{"$f":"TRUNC(SUM(L56:L80))","v":0},null,{"$f":"TRUNC(SUM(N56:N80))","v":0},null,{"$f":"TRUNC(SUM(P56:P80))","v":0}]
[null,"공종줄",null,"1.엘리베이터::1-4.전열설비공사"]
["59753097002","00104","3913170610035664","합성수지제 가요전선관","CD-난연성 16㎜","m",{"$f":"산출집계!H116","v":40},{"$f":"합산자재!H4","v":0},{"$f":"TRUNC(G83*H83)","v":0},{"$f":"산출집계!J116","v":37},{"$f":"합산자재!I4","v":0},{"$f":"TRUNC(G83*K83)","v":0},{"$f":"합산자재!J4","v":0},{"$f":"TRUNC(G83*M83)","v":0},null,{"$f":"SUM(I83,L83,N83)","v":0},null,null,null,null,null,null,null,null,null,null,{"$f":"G83*H83","v":0},null,{"$f":"G83*H83","v":0}]
["A0600000000","00104","RENT000000000001","[ 배관 부속재 ]","CD 전선관의 40 %","식",1,{"$f":"TRUNC(AA84*옵션!$B$32/100)","v":0},0,1,null,0,null,0,null,0,null,null,null,null,null,null,null,null,null,null,{"$f":"TRUNC(SUM(AA82:AA83))","v":0}]
["59753017003","00104","3913170620174410","1종금속제가요전선관","16 mm 일반-비방수","m",{"$f":"산출집계!H117","v":170},{"$f":"합산자재!H5","v":0},0,{"$f":"산출집계!J117","v":155},{"$f":"합산자재!I5","v":0},0,{"$f":"합산자재!J5","v":0},0,null,0,null,null,null,null,null,null,null,null,null,null,null,null,{"$f":"G85*H85","v":0}]
["59753017043","00104","3913170620174434","1종금속제가요전선관","커넥터, 16 mm 일반-비방수","개",{"$f":"산출집계!H118","v":30},{"$f":"합산자재!H10","v":0},0,{"$f":"산출집계!J118","v":30},{"$f":"합산자재!I10","v":0},0,{"$f":"합산자재!J10","v":0},0,null,0]
["59753767011","00104","3912130810035750","아우트렛박스","8각 54㎜","개",{"$f":"산출집계!H119","v":15},{"$f":"합산자재!H12","v":0},0,{"$f":"산출집계!J119","v":15},{"$f":"합산자재!I12","v":0},0,{"$f":"합산자재!J12","v":0},0,null,0]
["59753777102","00104","3912130610035778","스위치박스","1 개용 54 mm","개",{"$f":"산출집계!H120","v":15},{"$f":"합산자재!H14","v":0},0,{"$f":"산출집계!J120","v":15},{"$f":"합산자재!I14","v":0},0,{"$f":"합산자재!J14","v":0},0,null,0]
["59753767201","00104","3912130820174710","아우트렛박스 커버","커버, 8각, 평형","개",{"$f":"산출집계!H121","v":15},{"$f":"합산자재!H17","v":0},0,{"$f":"산출집계!J121","v":15},{"$f":"합산자재!I17","v":0},0,{"$f":"합산자재!J17","v":0},0,null,0]
["E1450667003","00104","2612162922076728","450/750V 내열비닐절연전선","HFIX 2.25mm(4㎟)","m",{"$f":"산출집계!H122","v":634},{"$f":"합산자재!H21","v":0},0,{"$f":"산출집계!J122","v":577},{"$f":"합산자재!I21","v":0},0,{"$f":"합산자재!J21","v":0},0,null,0,null,null,null,null,null,null,null,null,null,"노임계",null,null,{"$f":"G90*H90","v":0}]
["59350317206","00104","3912140620170850","콘센트","매입-접지형, 250V 2구","개",{"$f":"산출집계!H123","v":15},{"$f":"합산자재!H32","v":0},0,{"$f":"산출집계!J123","v":15},{"$f":"합산자재!I32","v":0},0,{"$f":"합산자재!J32","v":0},0,null,0]
["MM300020604","00104","3912161420167114","누전차단기(32KGRc)","2P 30AF 20AT","EA",{"$f":"산출집계!H124","v":5},{"$f":"합산자재!H46","v":0},0,{"$f":"산출집계!J124","v":5},{"$f":"합산자재!I46","v":0},0,{"$f":"합산자재!J46","v":0},0,null,0]
["56959100801","00104","EAB110211000","배관용 홈파기","Φ22이하","m",{"$f":"산출집계!H125","v":37},{"$f":"일대목차!I5","v":0},0,{"$f":"산출집계!J125","v":37},{"$f":"일대목차!L5","v":0},0,{"$f":"일대목차!N5","v":0},0,null,0]
["56953100908","00104","EAB110220000","벽관통 구멍(코어드릴)","Φ50-벽두께 25cm","개소",{"$f":"산출집계!H126","v":5},{"$f":"일대목차!I4","v":0},0,{"$f":"산출집계!J126","v":5},{"$f":"일대목차!L4","v":0},0,{"$f":"일대목차!N4","v":0},0,null,0]
["A0100000000","00104","RENT000000000003","[ 소모 잡자재 ]","전선, 전선관의 2 %","식",1,{"$f":"IF(TRUNC((AD95+AC95)/$AD$3)*$AD$3-AD95 <0, AC95, TRUNC((AD95+AC95)/$AD$3)*$AD$3-AD95)","v":0},{"$f":"H95","v":0},1,null,0,null,0,null,0,null,null,null,null,null,null,null,null,null,null,null,null,{"$f":"TRUNC(TRUNC(SUM(AC82:AC94))*옵션!$B$33/100)","v":0},{"$f":"TRUNC(SUM(I82:I94))+TRUNC(SUM(N82:N94))","v":0}]
["56900017016","00104","L001010101000075","노 무 비","내선전공","인",{"$f":"노임근거!G90","v":17},{"$f":"합산자재!H65","v":0},{"$f":"TRUNC(G96*H96)","v":0},{"$f":"노임근거!G90","v":17},{"$f":"합산자재!I65","v":0},0,{"$f":"합산자재!J65","v":0},0,null,0,null,null,null,null,null,null,null,null,null,null,null,null,null,null,{"$f":"L96","v":0}]
["A0300000000","00104","RENT000000000006","[ 공 구 손 료 ]","노무비의 3 %","식",1,{"$f":"IF(TRUNC((AD98+AC98)/$AE$3)*$AE$3-AD98 <0, AC98, TRUNC((AD98+AC98)/$AE$3)*$AE$3-AD98)","v":0},{"$f":"H97","v":0},1,null,0,null,0,null,0]
[null,null,null,null,null,null,null,null,{"$f":"TRUNC(G98*H98)","v":0},null,null,0,null,0,null,0,null,null,null,null,null,null,null,null,null,null,null,null,{"$f":"TRUNC(AE98*옵션!$B$36/100)","v":0},{"$f":"TRUNC(SUM(L82:L96))","v":0},{"$f":"TRUNC(SUM(AE82:AE97))","v":0}]
[null,null,null,null,null,null,null,null,0,null,null,0,null,0,null,0]
[null,null,null,null,null,null,null,null,0,null,null,0,null,0,null,0]
[null,null,null,null,null,null,null,null,0,null,null,0,null,0,null,0]
[null,null,null,null,null,null,null,null,0,null,null,0,null,0,null,0]
[null,null,null,null,null,null,null,null,0,null,null,0,null,0,null,0]
[null,null,null,null,null,null,null,null,0,null,null,0,null,0,null,0]
[null,null,null,null,null,null,null,null,0,null,null,0,null,0,null,0]
[null,null,null,null,null,null,null,null,0,null,null,0,null,0,null,0]
[null,"합계줄",null,"( 합       계 )",null,null,null,null,{"$f":"TRUNC(SUM(I82:I106))","v":0},null,null,{"$f":"TRUNC(SUM(L82:L106))","v":0},null,{"$f":"TRUNC(SUM(N82:N106))","v":0},null,{"$f":"TRUNC(SUM(P82:P106))","v":0}]
[null,"공종줄",null,"2.화장실::2-1.철거공사"]
["MM041720655","00201","391115ZZ701Z0002","LED 다운라이트 철거",null,"개",{"$f":"산출집계!H153","v":85},null,{"$f":"TRUNC(G109*H109)","v":0},{"$f":"산출집계!J153","v":85},{"$f":"합산자재!I54","v":0},{"$f":"TRUNC(G109*K109)","v":0},{"$f":"합산자재!J54","v":0},{"$f":"TRUNC(G109*M109)","v":0},null,{"$f":"SUM(I109,L109,N109)","v":0}]
["MM041720661","00201","391115ZZ701Z0008","PVC함 철거",null,"면",{"$f":"산출집계!H154","v":5},null,{"$f":"TRUNC(G110*H110)","v":0},{"$f":"산출집계!J154","v":5},{"$f":"합산자재!I60","v":0},0,{"$f":"합산자재!J60","v":0},0,null,0]
["MM041720657","00201","391115ZZ701Z0010","전등스위치 철거",null,"개",{"$f":"산출집계!H155","v":7},null,{"$f":"TRUNC(G111*H111)","v":0},{"$f":"산출집계!J155","v":7},{"$f":"합산자재!I62","v":0},0,{"$f":"합산자재!J62","v":0},0,null,0]
["MM041720659","00201","391115ZZ701Z0011","콘센트 철거",null,"개",{"$f":"산출집계!H156","v":15},null,{"$f":"TRUNC(G112*H112)","v":0},{"$f":"산출집계!J156","v":15},{"$f":"합산자재!I63","v":0},0,{"$f":"합산자재!J63","v":0},0,null,0]
["56900017016","00201","L001010101000075","노 무 비","내선전공","인",{"$f":"노임근거!G113","v":4},{"$f":"합산자재!H65","v":0},{"$f":"TRUNC(G113*H113)","v":0},{"$f":"노임근거!G113","v":4},{"$f":"합산자재!I65","v":0},0,{"$f":"합산자재!J65","v":0},0,null,0,null,null,null,null,null,null,null,null,null,"노임계",null,null,null,null,{"$f":"L113","v":0}]
["A0300000000","00201","RENT000000000006","[ 공 구 손 료 ]","노무비의 3 %","식",1,{"$f":"IF(TRUNC((AD115+AC115)/$AE$3)*$AE$3-AD115 <0, AC115, TRUNC((AD115+AC115)/$AE$3)*$AE$3-AD115)","v":0},{"$f":"H114","v":0},1,null,0,null,0,null,0]
[null,null,null,null,null,null,null,null,{"$f":"TRUNC(G115*H115)","v":0},null,null,0,null,0,null,0,null,null,null,null,null,null,null,null,null,null,null,null,{"$f":"TRUNC(AE115*옵션!$B$36/100)","v":0},{"$f":"TRUNC(SUM(L108:L113))","v":0},{"$f":"TRUNC(SUM(AE108:AE114))","v":0}]
[null,null,null,null,null,null,null,null,0,null,null,0,null,0,null,0]
[null,null,null,null,null,null,null,null,0,null,null,0,null,0,null,0]
[null,null,null,null,null,null,null,null,0,null,null,0,null,0,null,0]
[null,null,null,null,null,null,null,null,0,null,null,0,null,0,null,0]
[null,null,null,null,null,null,null,null,0,null,null,0,null,0,null,0]
[null,null,null,null,null,null,null,null,0,null,null,0,null,0,null,0]
[null,null,null,null,null,null,null,null,0,null,null,0,null,0,null,0]
[null,null,null,null,null,null,null,null,0,null,null,0,null,0,null,0]
[null,null,null,null,null,null,null,null,0,null,null,0,null,0,null,0]
[null,null,null,null,null,null,null,null,0,null,null,0,null,0,null,0]
[null,null,null,null,null,null,null,null,0,null,null,0,null,0,null,0]
[null,null,null,null,null,null,null,null,0,null,null,0,null,0,null,0]
[null,null,null,null,null,null,null,null,0,null,null,0,null,0,null,0]
[null,null,null,null,null,null,null,null,0,null,null,0,null,0,null,0]
[null,null,null,null,null,null,null,null,0,null,null,0,null,0,null,0]
[null,null,null,null,null,null,null,null,0,null,null,0,null,0,null,0]
[null,null,null,null,null,null,null,null,0,null,null,0,null,0,null,0]
[null,"합계줄",null,"( 합       계 )",null,null,null,null,{"$f":"TRUNC(SUM(I108:I132))","v":0},null,null,{"$f":"TRUNC(SUM(L108:L132))","v":0},null,{"$f":"TRUNC(SUM(N108:N132))","v":0},null,{"$f":"TRUNC(SUM(P108:P132))","v":0}]
[null,"공종줄",null,"2.화장실::2-2.전력간선공사"]
["59753017008","00202","3913170620174415","1종금속제가요전선관","54 mm 일반-비방수","m",{"$f":"산출집계!H190","v":66},{"$f":"합산자재!H7","v":0},{"$f":"TRUNC(G135*H135)","v":0},{"$f":"산출집계!J190","v":60},{"$f":"합산자재!I7","v":0},{"$f":"TRUNC(G135*K135)","v":0},{"$f":"합산자재!J7","v":0},{"$f":"TRUNC(G135*M135)","v":0},null,{"$f":"SUM(I135,L135,N135)","v":0},null,null,null,null,null,null,null,null,null,null,null,null,{"$f":"G135*H135","v":0}]
["MM300040379","00202","3913171221650789","전선덕트","알루미늄 150x100mm","m",{"$f":"산출집계!H191","v":2},{"$f":"합산자재!H19","v":0},0,{"$f":"산출집계!J191","v":2},{"$f":"합산자재!I19","v":0},0,{"$f":"합산자재!J19","v":0},0,null,0]
["E1450927205","00202","2612152420683699","접지용비닐절연전선(F-GV)","16㎟","m",{"$f":"산출집계!H192","v":99},{"$f":"합산자재!H24","v":0},0,{"$f":"산출집계!J192","v":90},{"$f":"합산자재!I24","v":0},0,{"$f":"합산자재!J24","v":0},0,null,0,null,null,null,null,null,null,null,null,null,null,null,null,{"$f":"G137*H137","v":0}]
["E1450287565","00202","2612162920683947","폴리에틸렌 난연케이블","0.6/1kv F-CV 4C×16㎟","m",{"$f":"산출집계!H193","v":94},{"$f":"합산자재!H27","v":0},0,{"$f":"산출집계!J193","v":90},{"$f":"합산자재!I27","v":0},0,{"$f":"합산자재!J27","v":0},0,null,0,null,null,null,null,null,null,null,null,null,null,null,null,{"$f":"G138*H138","v":0}]
["MM300015105","00202","3912161620167029","배선용차단기(ABS-54)","4P 50AF 50AT","EA",{"$f":"산출집계!H194","v":1},{"$f":"합산자재!H45","v":0},0,{"$f":"산출집계!J194","v":1},{"$f":"합산자재!I45","v":0},0,{"$f":"합산자재!J45","v":0},0,null,0]
["E9400177002","00202","3912143210033787","러그단자","동관단자 1 HOLE 16 ㎟","개",{"$f":"산출집계!H195","v":10},{"$f":"합산자재!H51","v":0},0,{"$f":"산출집계!J195","v":10},{"$f":"합산자재!I51","v":0},0,{"$f":"합산자재!J51","v":0},0,null,0]
["56953100908","00202","EAB110220000","벽관통 구멍(코어드릴)","Φ50-벽두께 25cm","개소",{"$f":"산출집계!H196","v":1},{"$f":"일대목차!I4","v":0},0,{"$f":"산출집계!J196","v":1},{"$f":"일대목차!L4","v":0},0,{"$f":"일대목차!N4","v":0},0,null,0]
["56959100803","00202","EAB110213000","LP-화장실 분전반","600Wx700Hx150D","면",{"$f":"산출집계!H197","v":1},{"$f":"일대목차!I7","v":0},0,{"$f":"산출집계!J197","v":1},{"$f":"일대목차!L7","v":0},0,{"$f":"일대목차!N7","v":0},0,null,0,null,null,null,null,null,null,null,null,null,"노임계"]
["A0100000000","00202","RENT000000000003","[ 소모 잡자재 ]","전선, 전선관의 2 %","식",1,{"$f":"IF(TRUNC((AD143+AC143)/$AD$3)*$AD$3-AD143 <0, AC143, TRUNC((AD143+AC143)/$AD$3)*$AD$3-AD143)","v":0},{"$f":"H143","v":0},1,null,0,null,0,null,0,null,null,null,null,null,null,null,null,null,null,null,null,{"$f":"TRUNC(TRUNC(SUM(AC134:AC142))*옵션!$B$33/100)","v":0},{"$f":"TRUNC(SUM(I134:I142))+TRUNC(SUM(N134:N142))","v":0}]
["56900017016","00202","L001010101000075","노 무 비","내선전공","인",{"$f":"노임근거!G142","v":9},{"$f":"합산자재!H65","v":0},{"$f":"TRUNC(G144*H144)","v":0},{"$f":"노임근거!G142","v":9},{"$f":"합산자재!I65","v":0},0,{"$f":"합산자재!J65","v":0},0,null,0,null,null,null,null,null,null,null,null,null,null,null,null,null,null,{"$f":"L144","v":0}]
["56900017076","00202","L001010101000078","노 무 비","저압케이블전공","인",{"$f":"노임근거!G143","v":5},{"$f":"합산자재!H66","v":0},{"$f":"TRUNC(G145*H145)","v":0},{"$f":"노임근거!G143","v":5},{"$f":"합산자재!I66","v":0},0,{"$f":"합산자재!J66","v":0},0,null,0,null,null,null,null,null,null,null,null,null,null,null,null,null,null,{"$f":"L145","v":0}]
["A0300000000","00202","RENT000000000006","[ 공 구 손 료 ]","노무비의 3 %","식",1,{"$f":"IF(TRUNC((AD147+AC147)/$AE$3)*$AE$3-AD147 <0, AC147, TRUNC((AD147+AC147)/$AE$3)*$AE$3-AD147)","v":0},{"$f":"H146","v":0},1,null,0,null,0,null,0]
[null,null,null,null,null,null,null,null,{"$f":"TRUNC(G147*H147)","v":0},null,null,0,null,0,null,0,null,null,null,null,null,null,null,null,null,null,null,null,{"$f":"TRUNC(AE147*옵션!$B$36/100)","v":0},{"$f":"TRUNC(SUM(L134:L145))","v":0},{"$f":"TRUNC(SUM(AE134:AE146))","v":0}]
[null,null,null,null,null,null,null,null,0,null,null,0,null,0,null,0]
[null,null,null,null,null,null,null,null,0,null,null,0,null,0,null,0]
[null,null,null,null,null,null,null,null,0,null,null,0,null,0,null,0]
[null,null,null,null,null,null,null,null,0,null,null,0,null,0,null,0]
[null,null,null,null,null,null,null,null,0,null,null,0,null,0,null,0]
[null,null,null,null,null,null,null,null,0,null,null,0,null,0,null,0]
[null,null,null,null,null,null,null,null,0,null,null,0,null,0,null,0]
[null,null,null,null,null,null,null,null,0,null,null,0,null,0,null,0]
[null,null,null,null,null,null,null,null,0,null,null,0,null,0,null,0]
[null,null,null,null,null,null,null,null,0,null,null,0,null,0,null,0]
[null,null,null,null,null,null,null,null,0,null,null,0,null,0,null,0]
[null,"합계줄",null,"( 합       계 )",null,null,null,null,{"$f":"TRUNC(SUM(I134:I158))","v":0},null,null,{"$f":"TRUNC(SUM(L134:L158))","v":0},null,{"$f":"TRUNC(SUM(N134:N158))","v":0},null,{"$f":"TRUNC(SUM(P134:P158))","v":0}]
[null,"공종줄",null,"2.화장실::2-3.전등설비공사"]
["59753097002","00203","3913170610035664","합성수지제 가요전선관","CD-난연성 16㎜","m",{"$f":"산출집계!H227","v":14},{"$f":"합산자재!H4","v":0},{"$f":"TRUNC(G161*H161)","v":0},{"$f":"산출집계!J227","v":13},{"$f":"합산자재!I4","v":0},{"$f":"TRUNC(G161*K161)","v":0},{"$f":"합산자재!J4","v":0},{"$f":"TRUNC(G161*M161)","v":0},null,{"$f":"SUM(I161,L161,N161)","v":0},null,null,null,null,null,null,null,null,null,null,{"$f":"G161*H161","v":0},null,{"$f":"G161*H161","v":0}]
["A0600000000","00203","RENT000000000001","[ 배관 부속재 ]","CD 전선관의 40 %","식",1,{"$f":"TRUNC(AA162*옵션!$B$32/100)","v":0},0,1,null,0,null,0,null,0,null,null,null,null,null,null,null,null,null,null,{"$f":"TRUNC(SUM(AA160:AA161))","v":0}]
["59753017023","00203","3913170620174422","1종금속제가요전선관","16 mm 일반-방수","m",{"$f":"산출집계!H228","v":240},{"$f":"합산자재!H8","v":0},0,{"$f":"산출집계!J228","v":219},{"$f":"합산자재!I8","v":0},0,{"$f":"합산자재!J8","v":0},0,null,0,null,null,null,null,null,null,null,null,null,null,null,null,{"$f":"G163*H163","v":0}]
["59753017063","00203","3913170620174446","1종금속제가요전선관","커넥터, 16 mm 일반-방수","개",{"$f":"산출집계!H229","v":150},{"$f":"합산자재!H11","v":0},0,{"$f":"산출집계!J229","v":150},{"$f":"합산자재!I11","v":0},0,{"$f":"합산자재!J11","v":0},0,null,0]
["59753767041","00203","3912130810035753","아우트렛박스","중형4각 54㎜","개",{"$f":"산출집계!H230","v":75},{"$f":"합산자재!H13","v":0},0,{"$f":"산출집계!J230","v":75},{"$f":"합산자재!I13","v":0},0,{"$f":"합산자재!J13","v":0},0,null,0]
["59753777102","00203","3912130610035778","스위치박스","1 개용 54 mm","개",{"$f":"산출집계!H231","v":7},{"$f":"합산자재!H14","v":0},0,{"$f":"산출집계!J231","v":7},{"$f":"합산자재!I14","v":0},0,{"$f":"합산자재!J14","v":0},0,null,0]
["59753767231","00203","3912130820174713","아우트렛박스 커버","커버, 4각, 평형","개",{"$f":"산출집계!H232","v":75},{"$f":"합산자재!H18","v":0},0,{"$f":"산출집계!J232","v":75},{"$f":"합산자재!I18","v":0},0,{"$f":"합산자재!J18","v":0},0,null,0]
["MM481669624","00203","2612162922076727","450/750V 내열비닐절연전선","HFIX 1.78mm(2.5㎟)","m",{"$f":"산출집계!H233","v":784},{"$f":"합산자재!H20","v":0},0,{"$f":"산출집계!J233","v":713},{"$f":"합산자재!I20","v":0},0,{"$f":"합산자재!J20","v":0},0,null,0,null,null,null,null,null,null,null,null,null,"노임계",null,null,{"$f":"G168*H168","v":0}]
["59301517001","00203","3912998720170517","매입스위치","250V 1로1구","개",{"$f":"산출집계!H234","v":7},{"$f":"합산자재!H28","v":0},0,{"$f":"산출집계!J234","v":7},{"$f":"합산자재!I28","v":0},0,{"$f":"합산자재!J28","v":0},0,null,0]
["56959100801","00203","EAB110211000","배관용 홈파기","Φ22이하","m",{"$f":"산출집계!H235","v":9},{"$f":"일대목차!I5","v":0},0,{"$f":"산출집계!J235","v":9},{"$f":"일대목차!L5","v":0},0,{"$f":"일대목차!N5","v":0},0,null,0]
["MM041720729","00203","391115ZZ701Z0001","LED 다운라이트","12W","개",{"$f":"산출집계!H236","v":75},{"$f":"합산자재!H53","v":0},0,{"$f":"산출집계!J236","v":75},{"$f":"합산자재!I53","v":0},0,{"$f":"합산자재!J53","v":0},0,null,0]
["A0100000000","00203","RENT000000000003","[ 소모 잡자재 ]","전선, 전선관의 2 %","식",1,{"$f":"IF(TRUNC((AD172+AC172)/$AD$3)*$AD$3-AD172 <0, AC172, TRUNC((AD172+AC172)/$AD$3)*$AD$3-AD172)","v":0},{"$f":"H172","v":0},1,null,0,null,0,null,0,null,null,null,null,null,null,null,null,null,null,null,null,{"$f":"TRUNC(TRUNC(SUM(AC160:AC171))*옵션!$B$33/100)","v":0},{"$f":"TRUNC(SUM(I160:I171))+TRUNC(SUM(N160:N171))","v":0}]
["56900017016","00203","L001010101000075","노 무 비","내선전공","인",{"$f":"노임근거!G168","v":32},{"$f":"합산자재!H65","v":0},{"$f":"TRUNC(G173*H173)","v":0},{"$f":"노임근거!G168","v":32},{"$f":"합산자재!I65","v":0},0,{"$f":"합산자재!J65","v":0},0,null,0,null,null,null,null,null,null,null,null,null,null,null,null,null,null,{"$f":"L173","v":0}]
["A0300000000","00203","RENT000000000006","[ 공 구 손 료 ]","노무비의 3 %","식",1,{"$f":"IF(TRUNC((AD175+AC175)/$AE$3)*$AE$3-AD175 <0, AC175, TRUNC((AD175+AC175)/$AE$3)*$AE$3-AD175)","v":0},{"$f":"H174","v":0},1,null,0,null,0,null,0]
[null,null,null,null,null,null,null,null,{"$f":"TRUNC(G175*H175)","v":0},null,null,0,null,0,null,0,null,null,null,null,null,null,null,null,null,null,null,null,{"$f":"TRUNC(AE175*옵션!$B$36/100)","v":0},{"$f":"TRUNC(SUM(L160:L173))","v":0},{"$f":"TRUNC(SUM(AE160:AE174))","v":0}]
[null,null,null,null,null,null,null,null,0,null,null,0,null,0,null,0]
[null,null,null,null,null,null,null,null,0,null,null,0,null,0,null,0]
[null,null,null,null,null,null,null,null,0,null,null,0,null,0,null,0]
[null,null,null,null,null,null,null,null,0,null,null,0,null,0,null,0]
[null,null,null,null,null,null,null,null,0,null,null,0,null,0,null,0]
[null,null,null,null,null,null,null,null,0,null,null,0,null,0,null,0]
[null,null,null,null,null,null,null,null,0,null,null,0,null,0,null,0]
[null,null,null,null,null,null,null,null,0,null,null,0,null,0,null,0]
[null,null,null,null,null,null,null,null,0,null,null,0,null,0,null,0]
[null,"합계줄",null,"( 합       계 )",null,null,null,null,{"$f":"TRUNC(SUM(I160:I184))","v":0},null,null,{"$f":"TRUNC(SUM(L160:L184))","v":0},null,{"$f":"TRUNC(SUM(N160:N184))","v":0},null,{"$f":"TRUNC(SUM(P160:P184))","v":0}]
[null,"공종줄",null,"2.화장실::2-4.전열설비공사"]
["59753097002","00204","3913170610035664","합성수지제 가요전선관","CD-난연성 16㎜","m",{"$f":"산출집계!H264","v":22},{"$f":"합산자재!H4","v":0},{"$f":"TRUNC(G187*H187)","v":0},{"$f":"산출집계!J264","v":20},{"$f":"합산자재!I4","v":0},{"$f":"TRUNC(G187*K187)","v":0},{"$f":"합산자재!J4","v":0},{"$f":"TRUNC(G187*M187)","v":0},null,{"$f":"SUM(I187,L187,N187)","v":0},null,null,null,null,null,null,null,null,null,null,{"$f":"G187*H187","v":0},null,{"$f":"G187*H187","v":0}]
["A0600000000","00204","RENT000000000001","[ 배관 부속재 ]","CD 전선관의 40 %","식",1,{"$f":"TRUNC(AA188*옵션!$B$32/100)","v":0},0,1,null,0,null,0,null,0,null,null,null,null,null,null,null,null,null,null,{"$f":"TRUNC(SUM(AA186:AA187))","v":0}]
["59753017023","00204","3913170620174422","1종금속제가요전선관","16 mm 일반-방수","m",{"$f":"산출집계!H265","v":236},{"$f":"합산자재!H8","v":0},0,{"$f":"산출집계!J265","v":215},{"$f":"합산자재!I8","v":0},0,{"$f":"합산자재!J8","v":0},0,null,0,null,null,null,null,null,null,null,null,null,null,null,null,{"$f":"G189*H189","v":0}]
["59753017025","00204","3913170620174424","1종금속제가요전선관","28 mm 일반-방수","m",{"$f":"산출집계!H266","v":52},{"$f":"합산자재!H9","v":0},0,{"$f":"산출집계!J266","v":48},{"$f":"합산자재!I9","v":0},0,{"$f":"합산자재!J9","v":0},0,null,0,null,null,null,null,null,null,null,null,null,null,null,null,{"$f":"G190*H190","v":0}]
["59753017063","00204","3913170620174446","1종금속제가요전선관","커넥터, 16 mm 일반-방수","개",{"$f":"산출집계!H267","v":20},{"$f":"합산자재!H11","v":0},0,{"$f":"산출집계!J267","v":20},{"$f":"합산자재!I11","v":0},0,{"$f":"합산자재!J11","v":0},0,null,0]
["59753767011","00204","3912130810035750","아우트렛박스","8각 54㎜","개",{"$f":"산출집계!H268","v":10},{"$f":"합산자재!H12","v":0},0,{"$f":"산출집계!J268","v":10},{"$f":"합산자재!I12","v":0},0,{"$f":"합산자재!J12","v":0},0,null,0]
["59753777102","00204","3912130610035778","스위치박스","1 개용 54 mm","개",{"$f":"산출집계!H269","v":10},{"$f":"합산자재!H14","v":0},0,{"$f":"산출집계!J269","v":10},{"$f":"합산자재!I14","v":0},0,{"$f":"합산자재!J14","v":0},0,null,0]
["MM300003404","00204","3912130610036792","PVC BOX 4각","4 각","개",{"$f":"산출집계!H270","v":1},{"$f":"합산자재!H16","v":0},0,{"$f":"산출집계!J270","v":1},{"$f":"합산자재!I16","v":0},0,{"$f":"합산자재!J16","v":0},0,null,0]
["59753767201","00204","3912130820174710","아우트렛박스 커버","커버, 8각, 평형","개",{"$f":"산출집계!H271","v":10},{"$f":"합산자재!H17","v":0},0,{"$f":"산출집계!J271","v":10},{"$f":"합산자재!I17","v":0},0,{"$f":"합산자재!J17","v":0},0,null,0]
["E1450667003","00204","2612162922076728","450/750V 내열비닐절연전선","HFIX 2.25mm(4㎟)","m",{"$f":"산출집계!H272","v":775},{"$f":"합산자재!H21","v":0},0,{"$f":"산출집계!J272","v":705},{"$f":"합산자재!I21","v":0},0,{"$f":"합산자재!J21","v":0},0,null,0,null,null,null,null,null,null,null,null,null,null,null,null,{"$f":"G196*H196","v":0}]
["E1450927201","00204","2612152420683695","접지용비닐절연전선(F-GV)","2.5㎟","m",{"$f":"산출집계!H273","v":52},{"$f":"합산자재!H22","v":0},0,{"$f":"산출집계!J273","v":48},{"$f":"합산자재!I22","v":0},0,{"$f":"합산자재!J22","v":0},0,null,0,null,null,null,null,null,null,null,null,null,null,null,null,{"$f":"G197*H197","v":0}]
["E1450287561","00204","2612162920683943","폴리에틸렌 난연케이블","0.6/1kv F-CV 4C×2.5㎟","m",{"$f":"산출집계!H274","v":50},{"$f":"합산자재!H25","v":0},0,{"$f":"산출집계!J274","v":48},{"$f":"합산자재!I25","v":0},0,{"$f":"합산자재!J25","v":0},0,null,0,null,null,null,null,null,null,null,null,null,null,null,null,{"$f":"G198*H198","v":0}]
["59350317121","00204","3912140620170834","콘센트","노출-접지형, 250V 원형","개",{"$f":"산출집계!H275","v":10},{"$f":"합산자재!H33","v":0},0,{"$f":"산출집계!J275","v":10},{"$f":"합산자재!I33","v":0},0,{"$f":"합산자재!J33","v":0},0,null,0,null,null,null,null,null,null,null,null,null,"노임계"]
["59350317208","00204","3912140621030228","방우콘센트","매입-접지형, 250V 2구","개",{"$f":"산출집계!H276","v":10},{"$f":"합산자재!H34","v":0},0,{"$f":"산출집계!J276","v":10},{"$f":"합산자재!I34","v":0},0,{"$f":"합산자재!J34","v":0},0,null,0]
["MM300014814","00204","3912161620267304","배선용차단기(ABS-34)","4P 30AF 20AT","EA",{"$f":"산출집계!H277","v":1},{"$f":"합산자재!H44","v":0},0,{"$f":"산출집계!J277","v":1},{"$f":"합산자재!I44","v":0},0,{"$f":"합산자재!J44","v":0},0,null,0]
["E9400267002","00204","3912143221650908","압착단자","R형동선 나압착 2.5 ㎟","개",{"$f":"산출집계!H278","v":5},{"$f":"합산자재!H52","v":0},0,{"$f":"산출집계!J278","v":5},{"$f":"합산자재!I52","v":0},0,{"$f":"합산자재!J52","v":0},0,null,0]
["56959100801","00204","EAB110211000","배관용 홈파기","Φ22이하","m",{"$f":"산출집계!H279","v":20},{"$f":"일대목차!I5","v":0},0,{"$f":"산출집계!J279","v":20},{"$f":"일대목차!L5","v":0},0,{"$f":"일대목차!N5","v":0},0,null,0]
["56953100908","00204","EAB110220000","벽관통 구멍(코어드릴)","Φ50-벽두께 25cm","개소",{"$f":"산출집계!H280","v":10},{"$f":"일대목차!I4","v":0},0,{"$f":"산출집계!J280","v":10},{"$f":"일대목차!L4","v":0},0,{"$f":"일대목차!N4","v":0},0,null,0]
["A0100000000","00204","RENT000000000003","[ 소모 잡자재 ]","전선, 전선관의 2 %","식",1,{"$f":"IF(TRUNC((AD205+AC205)/$AD$3)*$AD$3-AD205 <0, AC205, TRUNC((AD205+AC205)/$AD$3)*$AD$3-AD205)","v":0},{"$f":"H205","v":0},1,null,0,null,0,null,0,null,null,null,null,null,null,null,null,null,null,null,null,{"$f":"TRUNC(TRUNC(SUM(AC186:AC204))*옵션!$B$33/100)","v":0},{"$f":"TRUNC(SUM(I186:I204))+TRUNC(SUM(N186:N204))","v":0}]
["56900017016","00204","L001010101000075","노 무 비","내선전공","인",{"$f":"노임근거!G199","v":21},{"$f":"합산자재!H65","v":0},{"$f":"TRUNC(G206*H206)","v":0},{"$f":"노임근거!G199","v":21},{"$f":"합산자재!I65","v":0},0,{"$f":"합산자재!J65","v":0},0,null,0,null,null,null,null,null,null,null,null,null,null,null,null,null,null,{"$f":"L206","v":0}]
["56900017076","00204","L001010101000078","노 무 비","저압케이블전공","인",{"$f":"노임근거!G200","v":1},{"$f":"합산자재!H66","v":0},{"$f":"TRUNC(G207*H207)","v":0},{"$f":"노임근거!G200","v":1},{"$f":"합산자재!I66","v":0},0,{"$f":"합산자재!J66","v":0},0,null,0,null,null,null,null,null,null,null,null,null,null,null,null,null,null,{"$f":"L207","v":0}]
["A0300000000","00204","RENT000000000006","[ 공 구 손 료 ]","노무비의 3 %","식",1,{"$f":"IF(TRUNC((AD209+AC209)/$AE$3)*$AE$3-AD209 <0, AC209, TRUNC((AD209+AC209)/$AE$3)*$AE$3-AD209)","v":0},{"$f":"H208","v":0},1,null,0,null,0,null,0]
[null,null,null,null,null,null,null,null,{"$f":"TRUNC(G209*H209)","v":0},null,null,0,null,0,null,0,null,null,null,null,null,null,null,null,null,null,null,null,{"$f":"TRUNC(AE209*옵션!$B$36/100)","v":0},{"$f":"TRUNC(SUM(L186:L207))","v":0},{"$f":"TRUNC(SUM(AE186:AE208))","v":0}]
[null,null,null,null,null,null,null,null,{"$f":"TRUNC(G210*H210)","v":0},null,null,0,null,0,null,0]
[null,"합계줄",null,"( 합       계 )",null,null,null,null,{"$f":"TRUNC(SUM(I186:I210))","v":0},null,null,{"$f":"TRUNC(SUM(L186:L210))","v":0},null,{"$f":"TRUNC(SUM(N186:N210))","v":0},null,{"$f":"TRUNC(SUM(P186:P210))","v":0}]

{"sheet":"노임근거","index":5,"n_rows":200,"n_cols":28,"rows_kept":200,"cut":false,"hidden":true,"merged":[[1,15,1,17],[1,18,2,18],[1,19,2,19],[0,3,0,19],[1,0,2,0],[1,1,2,1],[1,2,2,2],[1,3,2,3],[1,4,2,4],[1,5,2,5],[1,6,1,9],[1,10,2,10],[1,11,1,14],[133,3,133,19],[159,3,159,19],[185,3,185,19],[3,3,3,19],[29,3,29,19],[55,3,55,19],[81,3,81,19],[107,3,107,19]]}
["총줄수->","211",null,"[ 교육시설(서일관) 승강기 증축공사 및 리모델링 전기공사 ] - 노임 산출근거(2025년 하반기 노임)",null,null,null,null,null,null,null,null,null,null,null,null,null,null,null,null,null,null,null,null,null,null,"내선전공","저압케이블전공"]
["번호","공종코드","코드","명   칭","규   격","단위","수량",null,null,null,"코드","공량산출",null,null,null,"단 위 단 가 산 출",null,null,"품셈근거","비고"]
[null,null,null,null,null,null,"결정수량","할증","산출수량","재할%",null,"명칭","품셈","할증%","공량","단가","단위단가","단위계"]
[null,"공종줄",null,"1.엘리베이터::1-1.철거공사"]
[null,"00101","391115ZZ701Z0004","LED 면조명 철거",null,"개",{"$f":"내역서!G5","v":17},{"$f":"IF(I5<>0,G5-I5,\"\")","v":0},{"$f":"내역서!J5","v":17},null,"56900017016","내선전공",0.221,30,{"$f":"IF(I5*M5=0,\"\",I5*M5*(N5/100))","v":1.1271},null,null,null,"전기5-25-3","철거자재",null,null,null,null,null,null,{"$f":"O5","v":1.1271}]
[null,"00101","391115ZZ701Z0005","LED 원형직부등 철거",null,"개",{"$f":"내역서!G6","v":1},0,{"$f":"내역서!J6","v":1},null,"56900017016","내선전공",0.11700000000000001,30,3.5099999999999999E-2,null,null,null,"전기5-25-3","철거자재",null,null,null,null,null,null,3.5099999999999999E-2]
[null,"00101","391115ZZ701Z0007","LED 파이프펜던트 철거",null,"개",{"$f":"내역서!G7","v":2},0,{"$f":"내역서!J7","v":2},null,"56900017016","내선전공",0.249,30,0.14940000000000001,null,null,null,"전기5-25-3","철거자재",null,null,null,null,null,null,0.14940000000000001]
[null,"00101","391115ZZ701Z0009","기타 전기공사","배관, 배선정리","식",{"$f":"내역서!G8","v":7},0,{"$f":"내역서!J8","v":7},null,"56900017016","내선전공",0.5,100,3.5,null,null,null,null,"산출계상",null,null,null,null,null,null,3.5]
[null,"00101","391115ZZ701Z0010","전등스위치 철거",null,"개",{"$f":"내역서!G9","v":8},0,{"$f":"내역서!J9","v":8},null,"56900017016","내선전공",8.5000000000000006E-2,30,0.20400000000000001,null,null,null,"전기5-23나","철거자재",null,null,null,null,null,null,0.20400000000000001]
[null,"00101","391115ZZ701Z0011","콘센트 철거",null,"개",{"$f":"내역서!G10","v":4},0,{"$f":"내역서!J10","v":4},null,"56900017016","내선전공",0.08,30,9.6000000000000002E-2,null,null,null,"전기5-23가","철거자재",null,null,null,null,null,null,9.6000000000000002E-2]
[null,"00101","L001010101000075","노 무 비","내선전공","인",{"$f":"IF(H11*I11/100+0.5 <1, TRUNC(H11*I11/100, 3), TRUNC(H11*I11/100+0.5, J11))","v":4},{"$f":"(옵션!$B$12*옵션!$B$41)/100","v":80},{"$f":"SUM(AA5:AA10)","v":5.1116000000000001},{"$f":"옵션!$C$41","v":0},null,null,null,null,"",null,null,null,null,null,null,null,null,null,null,null,{"$f":"SUM(AA5:AA10)","v":5.1116000000000001}]
[null,null,null,null,null,null,null,{"$f":"IF(I12<>0,G12-I12,\"\")","v":""},null,null,null,null,null,null,""]
[null,null,null,null,null,null,null,"",null,null,null,null,null,null,""]
[null,null,null,null,null,null,null,"",null,null,null,null,null,null,""]
[null,null,null,null,null,null,null,"",null,null,null,null,null,null,""]
[null,null,null,null,null,null,null,"",null,null,null,null,null,null,""]
[null,null,null,null,null,null,null,"",null,null,null,null,null,null,""]
[null,null,null,null,null,null,null,"",null,null,null,null,null,null,""]
[null,null,null,null,null,null,null,"",null,null,null,null,null,null,""]
[null,null,null,null,null,null,null,"",null,null,null,null,null,null,""]
[null,null,null,null,null,null,null,"",null,null,null,null,null,null,""]
[null,null,null,null,null,null,null,"",null,null,null,null,null,null,""]
[null,null,null,null,null,null,null,"",null,null,null,null,null,null,""]
[null,null,null,null,null,null,null,"",null,null,null,null,null,null,""]
[null,null,null,null,null,null,null,"",null,null,null,null,null,null,""]
[null,null,null,null,null,null,null,"",null,null,null,null,null,null,""]
[null,null,null,null,null,null,null,"",null,null,null,null,null,null,""]
[null,null,null,null,null,null,null,"",null,null,null,null,null,null,""]
[null,null,null,null,null,null,null,"",null,null,null,null,null,null,""]
[null,"공종줄",null,"1.엘리베이터::1-2.전력간선공사"]
[null,"00102","3913170620174414","1종금속제가요전선관","42 mm 일반-비방수","m",{"$f":"내역서!G31","v":3},{"$f":"IF(I31<>0,G31-I31,\"\")","v":0},{"$f":"내역서!J31","v":3},10,"56900017016","내선전공",0.104,100,{"$f":"IF(I31*M31=0,\"\",I31*M31*(N31/100))","v":0.312},null,null,null,"전기5-1",null,null,null,null,null,null,null,{"$f":"O31","v":0.312}]
[null,"00102","3913170620174415","1종금속제가요전선관","54 mm 일반-비방수","m",{"$f":"내역서!G32","v":55},5,{"$f":"내역서!J32","v":50},10,"56900017016","내선전공",0.13600000000000001,100,6.8000000000000007,null,null,null,"전기5-1",null,null,null,null,null,null,null,{"$f":"O32","v":6.8000000000000007}]
[null,"00102","2612152420683698","접지용비닐절연전선(F-GV)","10㎟","m",{"$f":"내역서!G33","v":3},0,{"$f":"내역서!J33","v":3},10,"56900017016","내선전공",6.0000000000000001E-3,150,2.7000000000000003E-2,null,null,null,"전기3-38",null,null,null,null,null,null,null,{"$f":"O33","v":2.7000000000000003E-2}]
[null,"00102","2612152420683699","접지용비닐절연전선(F-GV)","16㎟","m",{"$f":"내역서!G34","v":55},5,{"$f":"내역서!J34","v":50},10,"56900017016","내선전공",7.0000000000000001E-3,150,0.52500000000000002,null,null,null,"전기3-38",null,null,null,null,null,null,null,{"$f":"O34","v":0.52500000000000002}]
[null,"00102","2612162920683946","폴리에틸렌 난연케이블","0.6/1kv F-CV 4C×10㎟","m",{"$f":"내역서!G35","v":3},0,{"$f":"내역서!J35","v":3},5,"56900017076","저압케이블전공",4.9000000000000002E-2,100,0.14700000000000002,null,null,null,"전기5-13",null,null,null,null,null,null,null,null,{"$f":"O35","v":0.14700000000000002}]
[null,"00102","2612162920683947","폴리에틸렌 난연케이블","0.6/1kv F-CV 4C×16㎟","m",{"$f":"내역서!G36","v":52},2,{"$f":"내역서!J36","v":50},5,"56900017076","저압케이블전공",5.9799999999999999E-2,100,2.9899999999999998,null,null,null,"전기5-11",null,null,null,null,null,null,null,null,{"$f":"O36","v":2.9899999999999998}]
[null,"00102","3912161620167029","배선용차단기(ABS-54)","4P 50AF 50AT","EA",{"$f":"내역서!G37","v":1},0,{"$f":"내역서!J37","v":1},null,"56900017016","내선전공",0.33800000000000002,100,0.33800000000000002,null,null,null,"전기5-19",null,null,null,null,null,null,null,{"$f":"O37","v":0.33800000000000002}]
[null,"00102","3912143210033787","러그단자","동관단자 1 HOLE 16 ㎟","개",{"$f":"내역서!G39","v":10},0,{"$f":"내역서!J39","v":10},null,"56900017076","저압케이블전공",8.1000000000000003E-2,120,0.97199999999999998,null,null,null,"전기4-37",null,null,null,null,null,null,null,null,{"$f":"O38","v":0.97199999999999998}]
[null,"00102","EAB110212000","LP-ELEV 분전반","600Wx600Hx150D","면",1,0,1,null,"56900017016","내선전공",0.66,100,0.66,null,null,null,"전기5-4","제 3호",null,null,null,null,null,null,{"$f":"O39","v":0.66}]
[null,"00102","L001010101000075","노 무 비","내선전공","인",{"$f":"IF(H40*I40/100+0.5 <1, TRUNC(H40*I40/100, 3), TRUNC(H40*I40/100+0.5, J40))","v":7},{"$f":"(옵션!$B$12*옵션!$B$42)/100","v":80},{"$f":"SUM(AA31:AA39)","v":8.6620000000000008},{"$f":"옵션!$C$42","v":0},null,null,null,null,"",null,null,null,null,null,null,null,null,null,null,null,{"$f":"SUM(AA31:AA39)","v":8.6620000000000008},{"$f":"SUM(AB31:AB39)","v":4.109}]
[null,"00102","L001010101000078","노 무 비","저압케이블전공","인",{"$f":"IF(H41*I41/100+0.5 <1, TRUNC(H41*I41/100, 3), TRUNC(H41*I41/100+0.5, J41))","v":3},{"$f":"(옵션!$B$12*옵션!$B$42)/100","v":80},{"$f":"SUM(AB31:AB39)","v":4.109},{"$f":"옵션!$C$42","v":0},null,null,null,null,""]
[null,null,null,null,null,null,null,{"$f":"IF(I42<>0,G42-I42,\"\")","v":""},null,null,null,null,null,null,""]
[null,null,null,null,null,null,null,"",null,null,null,null,null,null,""]
[null,null,null,null,null,null,null,"",null,null,null,null,null,null,""]
[null,null,null,null,null,null,null,"",null,null,null,null,null,null,""]
[null,null,null,null,null,null,null,"",null,null,null,null,null,null,""]
[null,null,null,null,null,null,null,"",null,null,null,null,null,null,""]
[null,null,null,null,null,null,null,"",null,null,null,null,null,null,""]
[null,null,null,null,null,null,null,"",null,null,null,null,null,null,""]
[null,null,null,null,null,null,null,"",null,null,null,null,null,null,""]
[null,null,null,null,null,null,null,"",null,null,null,null,null,null,""]
[null,null,null,null,null,null,null,"",null,null,null,null,null,null,""]
[null,null,null,null,null,null,null,"",null,null,null,null,null,null,""]
[null,null,null,null,null,null,null,"",null,null,null,null,null,null,""]
[null,null,null,null,null,null,null,"",null,null,null,null,null,null,""]
[null,"공종줄",null,"1.엘리베이터::1-3.전등설비공사"]
[null,"00103","3913170620174410","1종금속제가요전선관","16 mm 일반-비방수","m",{"$f":"내역서!G57","v":159},{"$f":"IF(I57<>0,G57-I57,\"\")","v":14},{"$f":"내역서!J57","v":145},10,"56900017016","내선전공",4.3999999999999997E-2,100,{"$f":"IF(I57*M57=0,\"\",I57*M57*(N57/100))","v":6.38},null,null,null,"전기5-1",null,null,null,null,null,null,null,{"$f":"O57","v":6.38}]
[null,"00103","3912130610035778","스위치박스","1 개용 54 mm","개",{"$f":"내역서!G58","v":5},0,{"$f":"내역서!J58","v":5},null,"56900017016","내선전공",0.2,100,1,null,null,null,"전기5-3",null,null,null,null,null,null,null,1]
[null,"00103","3912130610035781","스위치박스","2 개용 54 mm","개",{"$f":"내역서!G59","v":2},0,{"$f":"내역서!J59","v":2},null,"56900017016","내선전공",0.2,100,0.4,null,null,null,"전기5-3",null,null,null,null,null,null,null,0.4]
[null,"00103","2612162922076727","450/750V 내열비닐절연전선","HFIX 1.78mm(2.5㎟)","m",{"$f":"내역서!G60","v":478},43,{"$f":"내역서!J60","v":435},10,"56900017016","내선전공",0.01,100,4.3500000000000005,null,null,null,"전기5-10",null,null,null,null,null,null,null,4.3500000000000005]
[null,"00103","3912998720170517","매입스위치","250V 1로1구","개",{"$f":"내역서!G61","v":1},0,{"$f":"내역서!J61","v":1},null,"56900017016","내선전공",8.5000000000000006E-2,100,8.5000000000000006E-2,null,null,null,"전기5-23-2",null,null,null,null,null,null,null,8.5000000000000006E-2]
[null,"00103","3912998720170518","매입스위치","250V 1로2구","개",{"$f":"내역서!G62","v":1},0,{"$f":"내역서!J62","v":1},null,"56900017016","내선전공",8.5000000000000006E-2,100,8.5000000000000006E-2,null,null,null,"전기5-23-2",null,null,null,null,null,null,null,8.5000000000000006E-2]
[null,"00103","3912998720170519","매입스위치","250V 1로3구","개",{"$f":"내역서!G63","v":3},0,{"$f":"내역서!J63","v":3},null,"56900017016","내선전공",8.5000000000000006E-2,100,0.255,null,null,null,"전기5-23-2",null,null,null,null,null,null,null,0.255]
[null,"00103","3912998720170520","매입스위치","250V 1로4구","개",{"$f":"내역서!G64","v":2},0,{"$f":"내역서!J64","v":2},null,"56900017016","내선전공",8.5000000000000006E-2,100,0.17,null,null,null,"전기5-23-2",null,null,null,null,null,null,null,0.17]
[null,"00103","391115ZZ701Z0003","LED 면조명","기존","개",{"$f":"내역서!G65","v":13},0,{"$f":"내역서!J65","v":13},null,"56900017016","내선전공",0.221,100,2.8730000000000002,null,null,null,"전기5-25-3",null,null,null,null,null,null,null,2.8730000000000002]
[null,"00103","391115ZZ701Z0006","LED 파이프펜던트","기존","개",{"$f":"내역서!G66","v":2},0,{"$f":"내역서!J66","v":2},null,"56900017016","내선전공",0.249,100,0.498,null,null,null,"전기5-25-3",null,null,null,null,null,null,null,0.498]
[null,"00103","L001010101000075","노 무 비","내선전공","인",{"$f":"IF(H67*I67/100+0.5 <1, TRUNC(H67*I67/100, 3), TRUNC(H67*I67/100+0.5, J67))","v":13},{"$f":"(옵션!$B$12*옵션!$B$43)/100","v":80},{"$f":"SUM(AA57:AA66)","v":16.096000000000004},{"$f":"옵션!$C$43","v":0},null,null,null,null,"",null,null,null,null,null,null,null,null,null,null,null,{"$f":"SUM(AA57:AA66)","v":16.096000000000004}]
[null,null,null,null,null,null,null,{"$f":"IF(I68<>0,G68-I68,\"\")","v":""},null,null,null,null,null,null,""]
[null,null,null,null,null,null,null,"",null,null,null,null,null,null,""]
[null,null,null,null,null,null,null,"",null,null,null,null,null,null,""]
[null,null,null,null,null,null,null,"",null,null,null,null,null,null,""]
[null,null,null,null,null,null,null,"",null,null,null,null,null,null,""]
[null,null,null,null,null,null,null,"",null,null,null,null,null,null,""]
[null,null,null,null,null,null,null,"",null,null,null,null,null,null,""]
[null,null,null,null,null,null,null,"",null,null,null,null,null,null,""]
[null,null,null,null,null,null,null,"",null,null,null,null,null,null,""]
[null,null,null,null,null,null,null,"",null,null,null,null,null,null,""]
[null,null,null,null,null,null,null,"",null,null,null,null,null,null,""]
[null,null,null,null,null,null,null,"",null,null,null,null,null,null,""]
[null,null,null,null,null,null,null,"",null,null,null,null,null,null,""]
[null,null,null,null,null,null,null,"",null,null,null,null,null,null,""]
[null,"공종줄",null,"1.엘리베이터::1-4.전열설비공사"]
[null,"00104","3913170610035664","합성수지제 가요전선관","CD-난연성 16㎜","m",{"$f":"내역서!G83","v":40},{"$f":"IF(I83<>0,G83-I83,\"\")","v":3},{"$f":"내역서!J83","v":37},10,"56900017016","내선전공",0.04,100,{"$f":"IF(I83*M83=0,\"\",I83*M83*(N83/100))","v":1.48},null,null,null,"전기5-1",null,null,null,null,null,null,null,{"$f":"O83","v":1.48}]
[null,"00104","3913170620174410","1종금속제가요전선관","16 mm 일반-비방수","m",{"$f":"내역서!G85","v":170},15,{"$f":"내역서!J85","v":155},10,"56900017016","내선전공",4.3999999999999997E-2,100,6.8199999999999994,null,null,null,"전기5-1",null,null,null,null,null,null,null,6.8199999999999994]
[null,"00104","3912130810035750","아우트렛박스","8각 54㎜","개",{"$f":"내역서!G87","v":15},0,{"$f":"내역서!J87","v":15},null,"56900017016","내선전공",0.12,100,1.7999999999999998,null,null,null,"전기5-3",null,null,null,null,null,null,null,1.7999999999999998]
[null,"00104","3912130610035778","스위치박스","1 개용 54 mm","개",{"$f":"내역서!G88","v":15},0,{"$f":"내역서!J88","v":15},null,"56900017016","내선전공",0.2,100,3,null,null,null,"전기5-3",null,null,null,null,null,null,null,3]
[null,"00104","2612162922076728","450/750V 내열비닐절연전선","HFIX 2.25mm(4㎟)","m",{"$f":"내역서!G90","v":634},57,{"$f":"내역서!J90","v":577},10,"56900017016","내선전공",0.01,100,5.7700000000000005,null,null,null,"전기5-10",null,null,null,null,null,null,null,5.7700000000000005]
[null,"00104","3912140620170850","콘센트","매입-접지형, 250V 2구","개",{"$f":"내역서!G91","v":15},0,{"$f":"내역서!J91","v":15},null,"56900017016","내선전공",0.08,100,1.2,null,null,null,"전기5-23-1",null,null,null,null,null,null,null,1.2]
[null,"00104","3912161420167114","누전차단기(32KGRc)","2P 30AF 20AT","EA",{"$f":"내역서!G92","v":5},0,{"$f":"내역서!J92","v":5},null,"56900017016","내선전공",0.13300000000000001,100,0.66500000000000004,null,null,null,"전기5-19",null,null,null,null,null,null,null,0.66500000000000004]
[null,"00104","L001010101000075","노 무 비","내선전공","인",{"$f":"IF(H90*I90/100+0.5 <1, TRUNC(H90*I90/100, 3), TRUNC(H90*I90/100+0.5, J90))","v":17},{"$f":"(옵션!$B$12*옵션!$B$44)/100","v":80},{"$f":"SUM(AA83:AA89)","v":20.734999999999996},{"$f":"옵션!$C$44","v":0},null,null,null,null,"",null,null,null,null,null,null,null,null,null,null,null,{"$f":"SUM(AA83:AA89)","v":20.734999999999996}]
[null,null,null,null,null,null,null,{"$f":"IF(I91<>0,G91-I91,\"\")","v":""},null,null,null,null,null,null,""]
[null,null,null,null,null,null,null,"",null,null,null,null,null,null,""]
[null,null,null,null,null,null,null,"",null,null,null,null,null,null,""]
[null,null,null,null,null,null,null,"",null,null,null,null,null,null,""]
[null,null,null,null,null,null,null,"",null,null,null,null,null,null,""]
[null,null,null,null,null,null,null,"",null,null,null,null,null,null,""]
[null,null,null,null,null,null,null,"",null,null,null,null,null,null,""]
[null,null,null,null,null,null,null,"",null,null,null,null,null,null,""]
[null,null,null,null,null,null,null,"",null,null,null,null,null,null,""]
[null,null,null,null,null,null,null,"",null,null,null,null,null,null,""]
[null,null,null,null,null,null,null,"",null,null,null,null,null,null,""]
[null,null,null,null,null,null,null,"",null,null,null,null,null,null,""]
[null,null,null,null,null,null,null,"",null,null,null,null,null,null,""]
[null,null,null,null,null,null,null,"",null,null,null,null,null,null,""]
[null,null,null,null,null,null,null,"",null,null,null,null,null,null,""]
[null,null,null,null,null,null,null,"",null,null,null,null,null,null,""]
[null,null,null,null,null,null,null,"",null,null,null,null,null,null,""]
[null,"공종줄",null,"2.화장실::2-1.철거공사"]
[null,"00201","391115ZZ701Z0002","LED 다운라이트 철거",null,"개",{"$f":"내역서!G109","v":85},{"$f":"IF(I109<>0,G109-I109,\"\")","v":0},{"$f":"내역서!J109","v":85},null,"56900017016","내선전공",0.155,30,{"$f":"IF(I109*M109=0,\"\",I109*M109*(N109/100))","v":3.9525000000000001},null,null,null,"전기5-25-3","철거자재",null,null,null,null,null,null,{"$f":"O109","v":3.9525000000000001}]
[null,"00201","391115ZZ701Z0008","PVC함 철거",null,"면",{"$f":"내역서!G110","v":5},{"$f":"IF(I110<>0,G110-I110,\"\")","v":0},{"$f":"내역서!J110","v":5},null,"56900017016","내선전공",0.18,30,0.26999999999999996,null,null,null,"전기5-4","철거자재",null,null,null,null,null,null,{"$f":"O110","v":0.26999999999999996}]
[null,"00201","391115ZZ701Z0010","전등스위치 철거",null,"개",{"$f":"내역서!G111","v":7},{"$f":"IF(I111<>0,G111-I111,\"\")","v":0},{"$f":"내역서!J111","v":7},null,"56900017016","내선전공",8.5000000000000006E-2,30,0.17850000000000002,null,null,null,"전기5-23나","철거자재",null,null,null,null,null,null,{"$f":"O111","v":0.17850000000000002}]
[null,"00201","391115ZZ701Z0011","콘센트 철거",null,"개",{"$f":"내역서!G112","v":15},{"$f":"IF(I112<>0,G112-I112,\"\")","v":0},{"$f":"내역서!J112","v":15},null,"56900017016","내선전공",0.08,30,0.36,null,null,null,"전기5-23가","철거자재",null,null,null,null,null,null,{"$f":"O112","v":0.36}]
[null,"00201","L001010101000075","노 무 비","내선전공","인",{"$f":"IF(H113*I113/100+0.5 <1, TRUNC(H113*I113/100, 3), TRUNC(H113*I113/100+0.5, J113))","v":4},{"$f":"(옵션!$B$12*옵션!$B$45)/100","v":80},{"$f":"SUM(AA109:AA112)","v":4.7610000000000001},{"$f":"옵션!$C$45","v":0},null,null,null,null,"",null,null,null,null,null,null,null,null,null,null,null,{"$f":"SUM(AA109:AA112)","v":4.7610000000000001}]
[null,null,null,null,null,null,null,{"$f":"IF(I114<>0,G114-I114,\"\")","v":""},null,null,null,null,null,null,""]
[null,null,null,null,null,null,null,"",null,null,null,null,null,null,""]
[null,null,null,null,null,null,null,"",null,null,null,null,null,null,""]
[null,null,null,null,null,null,null,"",null,null,null,null,null,null,""]
[null,null,null,null,null,null,null,"",null,null,null,null,null,null,""]
[null,null,null,null,null,null,null,"",null,null,null,null,null,null,""]
[null,null,null,null,null,null,null,"",null,null,null,null,null,null,""]
[null,null,null,null,null,null,null,"",null,null,null,null,null,null,""]
[null,null,null,null,null,null,null,"",null,null,null,null,null,null,""]
[null,null,null,null,null,null,null,"",null,null,null,null,null,null,""]
[null,null,null,null,null,null,null,"",null,null,null,null,null,null,""]
[null,null,null,null,null,null,null,"",null,null,null,null,null,null,""]
[null,null,null,null,null,null,null,"",null,null,null,null,null,null,""]
[null,null,null,null,null,null,null,"",null,null,null,null,null,null,""]
[null,null,null,null,null,null,null,"",null,null,null,null,null,null,""]
[null,null,null,null,null,null,null,"",null,null,null,null,null,null,""]
[null,null,null,null,null,null,null,"",null,null,null,null,null,null,""]
[null,null,null,null,null,null,null,"",null,null,null,null,null,null,""]
[null,null,null,null,null,null,null,"",null,null,null,null,null,null,""]
[null,null,null,null,null,null,null,"",null,null,null,null,null,null,""]
[null,"공종줄",null,"2.화장실::2-2.전력간선공사"]
[null,"00202","3913170620174415","1종금속제가요전선관","54 mm 일반-비방수","m",{"$f":"내역서!G135","v":66},{"$f":"IF(I135<>0,G135-I135,\"\")","v":6},{"$f":"내역서!J135","v":60},10,"56900017016","내선전공",0.13600000000000001,100,{"$f":"IF(I135*M135=0,\"\",I135*M135*(N135/100))","v":8.16},null,null,null,"전기5-1",null,null,null,null,null,null,null,{"$f":"O135","v":8.16}]
[null,"00202","3913171221650789","전선덕트","알루미늄 150x100mm","m",{"$f":"내역서!G136","v":2},0,{"$f":"내역서!J136","v":2},5,"56900017016","내선전공",0.4,70,0.55999999999999994,null,null,null,"전기5-7",null,null,null,null,null,null,null,{"$f":"O136","v":0.55999999999999994}]
[null,"00202","2612152420683699","접지용비닐절연전선(F-GV)","16㎟","m",{"$f":"내역서!G137","v":99},9,{"$f":"내역서!J137","v":90},10,"56900017016","내선전공",7.0000000000000001E-3,150,0.94500000000000006,null,null,null,"전기3-38",null,null,null,null,null,null,null,{"$f":"O137","v":0.94500000000000006}]
[null,"00202","2612162920683947","폴리에틸렌 난연케이블","0.6/1kv F-CV 4C×16㎟","m",{"$f":"내역서!G138","v":94},4,{"$f":"내역서!J138","v":90},5,"56900017076","저압케이블전공",5.9799999999999999E-2,100,5.3819999999999997,null,null,null,"전기5-11",null,null,null,null,null,null,null,null,{"$f":"O138","v":5.3819999999999997}]
[null,"00202","3912161620167029","배선용차단기(ABS-54)","4P 50AF 50AT","EA",{"$f":"내역서!G139","v":1},0,{"$f":"내역서!J139","v":1},null,"56900017016","내선전공",0.33800000000000002,100,0.33800000000000002,null,null,null,"전기5-19",null,null,null,null,null,null,null,{"$f":"O139","v":0.33800000000000002}]
[null,"00202","3912143210033787","러그단자","동관단자 1 HOLE 16 ㎟","개",{"$f":"내역서!G140","v":10},0,{"$f":"내역서!J140","v":10},null,"56900017076","저압케이블전공",8.1000000000000003E-2,120,0.97199999999999998,null,null,null,"전기4-37",null,null,null,null,null,null,null,null,{"$f":"O140","v":0.97199999999999998}]
[null,"00202","EAB110213000","LP-화장실 분전반","600Wx700Hx150D","면",1,0,1,null,"56900017016","내선전공",0.95,100,0.95,null,null,null,"전기5-4","제 4호",null,null,null,null,null,null,{"$f":"O141","v":0.95}]
[null,"00202","L001010101000075","노 무 비","내선전공","인",{"$f":"IF(H142*I142/100+0.5 <1, TRUNC(H142*I142/100, 3), TRUNC(H142*I142/100+0.5, J142))","v":9},{"$f":"(옵션!$B$12*옵션!$B$46)/100","v":80},{"$f":"SUM(AA135:AA141)","v":10.952999999999999},{"$f":"옵션!$C$46","v":0},null,null,null,null,"",null,null,null,null,null,null,null,null,null,null,null,{"$f":"SUM(AA135:AA141)","v":10.952999999999999},{"$f":"SUM(AB135:AB141)","v":6.3539999999999992}]
[null,"00202","L001010101000078","노 무 비","저압케이블전공","인",{"$f":"IF(H143*I143/100+0.5 <1, TRUNC(H143*I143/100, 3), TRUNC(H143*I143/100+0.5, J143))","v":5},{"$f":"(옵션!$B$12*옵션!$B$46)/100","v":80},{"$f":"SUM(AB135:AB141)","v":6.3539999999999992},{"$f":"옵션!$C$46","v":0},null,null,null,null,""]
[null,null,null,null,null,null,null,{"$f":"IF(I144<>0,G144-I144,\"\")","v":""},null,null,null,null,null,null,""]
[null,null,null,null,null,null,null,"",null,null,null,null,null,null,""]
[null,null,null,null,null,null,null,"",null,null,null,null,null,null,""]
[null,null,null,null,null,null,null,"",null,null,null,null,null,null,""]
[null,null,null,null,null,null,null,"",null,null,null,null,null,null,""]
[null,null,null,null,null,null,null,"",null,null,null,null,null,null,""]
[null,null,null,null,null,null,null,"",null,null,null,null,null,null,""]
[null,null,null,null,null,null,null,"",null,null,null,null,null,null,""]
[null,null,null,null,null,null,null,"",null,null,null,null,null,null,""]
[null,null,null,null,null,null,null,"",null,null,null,null,null,null,""]
[null,null,null,null,null,null,null,"",null,null,null,null,null,null,""]
[null,null,null,null,null,null,null,"",null,null,null,null,null,null,""]
[null,null,null,null,null,null,null,"",null,null,null,null,null,null,""]
[null,null,null,null,null,null,null,"",null,null,null,null,null,null,""]
[null,null,null,null,null,null,null,"",null,null,null,null,null,null,""]
[null,null,null,null,null,null,null,"",null,null,null,null,null,null,""]
[null,"공종줄",null,"2.화장실::2-3.전등설비공사"]
[null,"00203","3913170610035664","합성수지제 가요전선관","CD-난연성 16㎜","m",{"$f":"내역서!G161","v":14},{"$f":"IF(I161<>0,G161-I161,\"\")","v":1},{"$f":"내역서!J161","v":13},10,"56900017016","내선전공",0.04,100,{"$f":"IF(I161*M161=0,\"\",I161*M161*(N161/100))","v":0.52},null,null,null,"전기5-1",null,null,null,null,null,null,null,{"$f":"O161","v":0.52}]
[null,"00203","3913170620174422","1종금속제가요전선관","16 mm 일반-방수","m",{"$f":"내역서!G163","v":240},21,{"$f":"내역서!J163","v":219},10,"56900017016","내선전공",4.3999999999999997E-2,100,9.6359999999999992,null,null,null,"전기5-1",null,null,null,null,null,null,null,9.6359999999999992]
[null,"00203","3912130810035753","아우트렛박스","중형4각 54㎜","개",{"$f":"내역서!G165","v":75},0,{"$f":"내역서!J165","v":75},null,"56900017016","내선전공",0.12,100,9,null,null,null,"전기5-3",null,null,null,null,null,null,null,9]
[null,"00203","3912130610035778","스위치박스","1 개용 54 mm","개",{"$f":"내역서!G166","v":7},0,{"$f":"내역서!J166","v":7},null,"56900017016","내선전공",0.2,100,1.4000000000000001,null,null,null,"전기5-3",null,null,null,null,null,null,null,1.4000000000000001]
[null,"00203","2612162922076727","450/750V 내열비닐절연전선","HFIX 1.78mm(2.5㎟)","m",{"$f":"내역서!G168","v":784},71,{"$f":"내역서!J168","v":713},10,"56900017016","내선전공",0.01,100,7.13,null,null,null,"전기5-10",null,null,null,null,null,null,null,7.13]
[null,"00203","3912998720170517","매입스위치","250V 1로1구","개",{"$f":"내역서!G169","v":7},0,{"$f":"내역서!J169","v":7},null,"56900017016","내선전공",8.5000000000000006E-2,100,0.59500000000000008,null,null,null,"전기5-23-2",null,null,null,null,null,null,null,0.59500000000000008]
[null,"00203","391115ZZ701Z0001","LED 다운라이트","12W","개",{"$f":"내역서!G171","v":75},0,{"$f":"내역서!J171","v":75},null,"56900017016","내선전공",0.155,100,11.625,null,null,null,"전기5-25-3",null,null,null,null,null,null,null,11.625]
[null,"00203","L001010101000075","노 무 비","내선전공","인",{"$f":"IF(H168*I168/100+0.5 <1, TRUNC(H168*I168/100, 3), TRUNC(H168*I168/100+0.5, J168))","v":32},{"$f":"(옵션!$B$12*옵션!$B$47)/100","v":80},{"$f":"SUM(AA161:AA167)","v":39.905999999999992},{"$f":"옵션!$C$47","v":0},null,null,null,null,"",null,null,null,null,null,null,null,null,null,null,null,{"$f":"SUM(AA161:AA167)","v":39.905999999999992}]
[null,null,null,null,null,null,null,{"$f":"IF(I169<>0,G169-I169,\"\")","v":""},null,null,null,null,null,null,""]
[null,null,null,null,null,null,null,"",null,null,null,null,null,null,""]
[null,null,null,null,null,null,null,"",null,null,null,null,null,null,""]
[null,null,null,null,null,null,null,"",null,null,null,null,null,null,""]
[null,null,null,null,null,null,null,"",null,null,null,null,null,null,""]
[null,null,null,null,null,null,null,"",null,null,null,null,null,null,""]
[null,null,null,null,null,null,null,"",null,null,null,null,null,null,""]
[null,null,null,null,null,null,null,"",null,null,null,null,null,null,""]
[null,null,null,null,null,null,null,"",null,null,null,null,null,null,""]
[null,null,null,null,null,null,null,"",null,null,null,null,null,null,""]
[null,null,null,null,null,null,null,"",null,null,null,null,null,null,""]
[null,null,null,null,null,null,null,"",null,null,null,null,null,null,""]
[null,null,null,null,null,null,null,"",null,null,null,null,null,null,""]
[null,null,null,null,null,null,null,"",null,null,null,null,null,null,""]
[null,null,null,null,null,null,null,"",null,null,null,null,null,null,""]
[null,null,null,null,null,null,null,"",null,null,null,null,null,null,""]
[null,null,null,null,null,null,null,"",null,null,null,null,null,null,""]
[null,"공종줄",null,"2.화장실::2-4.전열설비공사"]
[null,"00204","3913170610035664","합성수지제 가요전선관","CD-난연성 16㎜","m",{"$f":"내역서!G187","v":22},{"$f":"IF(I187<>0,G187-I187,\"\")","v":2},{"$f":"내역서!J187","v":20},10,"56900017016","내선전공",0.04,100,{"$f":"IF(I187*M187=0,\"\",I187*M187*(N187/100))","v":0.8},null,null,null,"전기5-1",null,null,null,null,null,null,null,{"$f":"O187","v":0.8}]
[null,"00204","3913170620174422","1종금속제가요전선관","16 mm 일반-방수","m",{"$f":"내역서!G189","v":236},21,{"$f":"내역서!J189","v":215},10,"56900017016","내선전공",4.3999999999999997E-2,100,9.4599999999999991,null,null,null,"전기5-1",null,null,null,null,null,null,null,9.4599999999999991]
[null,"00204","3913170620174424","1종금속제가요전선관","28 mm 일반-방수","m",{"$f":"내역서!G190","v":52},4,{"$f":"내역서!J190","v":48},10,"56900017016","내선전공",7.1999999999999995E-2,100,3.4559999999999995,null,null,null,"전기5-1",null,null,null,null,null,null,null,3.4559999999999995]
[null,"00204","3912130810035750","아우트렛박스","8각 54㎜","개",{"$f":"내역서!G192","v":10},0,{"$f":"내역서!J192","v":10},null,"56900017016","내선전공",0.12,100,1.2,null,null,null,"전기5-3",null,null,null,null,null,null,null,1.2]
[null,"00204","3912130610035778","스위치박스","1 개용 54 mm","개",{"$f":"내역서!G193","v":10},0,{"$f":"내역서!J193","v":10},null,"56900017016","내선전공",0.2,100,2,null,null,null,"전기5-3",null,null,null,null,null,null,null,2]
[null,"00204","3912130610036792","PVC BOX 4각","4 각","개",{"$f":"내역서!G194","v":1},0,{"$f":"내역서!J194","v":1},null,"56900017016","내선전공",0.12,100,0.12,null,null,null,"전기5-3",null,null,null,null,null,null,null,0.12]
[null,"00204","2612162922076728","450/750V 내열비닐절연전선","HFIX 2.25mm(4㎟)","m",{"$f":"내역서!G196","v":775},70,{"$f":"내역서!J196","v":705},10,"56900017016","내선전공",0.01,100,7.05,null,null,null,"전기5-10",null,null,null,null,null,null,null,7.05]
[null,"00204","2612152420683695","접지용비닐절연전선(F-GV)","2.5㎟","m",{"$f":"내역서!G197","v":52},4,{"$f":"내역서!J197","v":48},10,"56900017016","내선전공",6.0000000000000001E-3,150,0.43200000000000005,null,null,null,"전기3-38",null,null,null,null,null,null,null,0.43200000000000005]
[null,"00204","2612162920683943","폴리에틸렌 난연케이블","0.6/1kv F-CV 4C×2.5㎟","m",{"$f":"내역서!G198","v":50},2,{"$f":"내역서!J198","v":48},5,"56900017076","저압케이블전공",2.5999999999999999E-2,100,1.248,null,null,null,"전기5-13",null,null,null,null,null,null,null,null,{"$f":"O195","v":1.248}]
[null,"00204","3912140620170834","콘센트","노출-접지형, 250V 원형","개",{"$f":"내역서!G199","v":10},0,{"$f":"내역서!J199","v":10},null,"56900017016","내선전공",9.6000000000000002E-2,100,0.96,null,null,null,"전기5-23-1",null,null,null,null,null,null,null,{"$f":"O196","v":0.96}]
[null,"00204","3912140621030228","방우콘센트","매입-접지형, 250V 2구","개",{"$f":"내역서!G200","v":10},0,{"$f":"내역서!J200","v":10},null,"56900017016","내선전공",0.08,100,0.8,null,null,null,"전기5-23-1",null,null,null,null,null,null,null,{"$f":"O197","v":0.8}]
[null,"00204","3912161620267304","배선용차단기(ABS-34)","4P 30AF 20AT","EA",{"$f":"내역서!G201","v":1},0,{"$f":"내역서!J201","v":1},null,"56900017016","내선전공",0.247,100,0.247,null,null,null,"전기5-19",null,null,null,null,null,null,null,{"$f":"O198","v":0.247}]
[null,"00204","L001010101000075","노 무 비","내선전공","인",{"$f":"IF(H199*I199/100+0.5 <1, TRUNC(H199*I199/100, 3), TRUNC(H199*I199/100+0.5, J199))","v":21},{"$f":"(옵션!$B$12*옵션!$B$48)/100","v":80},{"$f":"SUM(AA187:AA198)","v":26.524999999999999},{"$f":"옵션!$C$48","v":0},null,null,null,null,"",null,null,null,null,null,null,null,null,null,null,null,{"$f":"SUM(AA187:AA198)","v":26.524999999999999},{"$f":"SUM(AB187:AB198)","v":1.248}]
[null,"00204","L001010101000078","노 무 비","저압케이블전공","인",{"$f":"IF(H200*I200/100+0.5 <1, TRUNC(H200*I200/100, 3), TRUNC(H200*I200/100+0.5, J200))","v":1},{"$f":"(옵션!$B$12*옵션!$B$48)/100","v":80},{"$f":"SUM(AB187:AB198)","v":1.248},{"$f":"옵션!$C$48","v":0},null,null,null,null,""]

{"sheet":"일대목차","index":6,"n_rows":7,"n_cols":17,"rows_kept":7,"cut":false,"hidden":true,"merged":[[1,12,1,13],[1,15,2,15],[1,16,2,16],[0,2,0,16],[1,0,2,0],[1,1,2,1],[1,2,2,2],[1,3,2,3],[1,4,2,4],[1,5,2,5],[1,6,2,6],[1,7,1,8],[1,9,1,11]]}
["총줄수->","29","[ 교육시설(서일관) 승강기 증축공사 및 리모델링 전기공사 ] - 일위대가목차"]
["번호","…","코드","명   칭","규   격","단위","수량","재료비",null,"노무비",null,null,"경비",null,"계","계","비고"]
[null,null,null,null,null,null,null,"단가","금액","수량","단가","금액","단가","금액","단가"]
["56953100908","EAB110220000","제 1호","벽관통 구멍(코어드릴)","Φ50-벽두께 25cm","개소",null,{"$f":"일위대가!I8","v":0},{"$f":"H4","v":0},null,{"$f":"일위대가!L8","v":0},{"$f":"K4","v":0},{"$f":"일위대가!N8","v":0},{"$f":"M4","v":0},null,{"$f":"I4+L4+N4","v":0}]
["56959100801","EAB110211000","제 2호","배관용 홈파기","Φ22이하","m",null,{"$f":"일위대가!I12","v":0},{"$f":"H5","v":0},null,{"$f":"일위대가!L12","v":0},{"$f":"K5","v":0},{"$f":"일위대가!N12","v":0},{"$f":"M5","v":0},null,{"$f":"I5+L5+N5","v":0}]
["56959100802","EAB110212000","제 3호","LP-ELEV 분전반","600Wx600Hx150D","면",null,{"$f":"일위대가!I31","v":0},{"$f":"H6","v":0},null,{"$f":"일위대가!L31","v":0},{"$f":"K6","v":0},{"$f":"일위대가!N31","v":0},{"$f":"M6","v":0},null,{"$f":"I6+L6+N6","v":0}]
["56959100803","EAB110213000","제 4호","LP-화장실 분전반","600Wx700Hx150D","면",null,{"$f":"일위대가!I49","v":0},{"$f":"H7","v":0},null,{"$f":"일위대가!L49","v":0},{"$f":"K7","v":0},{"$f":"일위대가!N49","v":0},{"$f":"M7","v":0},null,{"$f":"I7+L7+N7","v":0}]

{"sheet":"일위대가","index":7,"n_rows":49,"n_cols":31,"rows_kept":49,"cut":false,"hidden":true,"merged":[[1,0,2,0],[1,1,2,1],[1,2,2,2],[1,3,2,3],[1,4,2,4],[3,3,3,16],[9,3,9,16],[13,3,13,16],[32,3,32,16],[0,22,0,24],[1,5,2,5],[1,6,2,6],[1,7,1,8],[1,9,1,11],[1,12,1,13],[1,15,2,15],[1,16,2,16],[0,3,0,16]]}
["총줄수->","55",null,"[ 교육시설(서일관) 승강기 증축공사 및 리모델링 전기공사 ] - 일위대가표",null,null,null,null,null,null,null,null,null,null,null,null,null,null,null,null,null,null,"노임 계산 정보",null,null,null,"부속재 및 손료"]
["번호","목차코드","코드","명   칭","규   격","단위","수량","재료비",null,"노무비",null,null,"경비",null,null,"계","비고",null,null,null,null,null,"노임계","전체(%)","공종별(%)","노임 소수","CD배관재","일반배관재","소모재","자재계","노임계"]
[null,null,null,null,null,null,null,"단가","금액","수량","단가","금액","단가","금액","단가",null,null,null,null,null,null,null,null,null,null,null,null,null,null,1,1]
["56953100908","일목줄","EAB110220000","[제 1호] 벽관통 구멍(코어드릴)  Φ50-벽두께 25cm [개소]"]
["CA565826062","제 1호","ECA565826062","코어드릴","15.24cm","시간",1.1000000000000001,{"$f":"합산자재!H64","v":0},{"$f":"IF(G5*H5<>0, TRUNC(G5*H5,1),\"\")","v":""},1.1000000000000001,{"$f":"합산자재!I64","v":0},{"$f":"IF(G5*K5<>0, TRUNC(G5*K5,1),\"\")","v":""},{"$f":"합산자재!J64","v":0},{"$f":"IF(G5*M5<>0, TRUNC(G5*M5,1),\"\")","v":""},null,{"$f":"IF(SUM(I5,L5,N5)<>0,TRUNC(SUM(I5,L5,N5),1),\"\")","v":""},"종합적산701","ILD"]
["56900017041","제 1호","L001010101000002","노 무 비","보통인부","인",{"$f":"일위노임!G7","v":0.21279999999999999},{"$f":"합산자재!H68","v":0},{"$f":"IF(G6*H6<>0, TRUNC(G6*H6,1),\"\")","v":""},0.26600000000000001,{"$f":"합산자재!I68","v":0},{"$f":"IF(G6*K6<>0, TRUNC(G6*K6,1),\"\")","v":""},{"$f":"합산자재!J68","v":0},{"$f":"IF(G6*M6<>0, TRUNC(G6*M6,1),\"\")","v":""},null,{"$f":"IF(SUM(I6,L6,N6)<>0,TRUNC(SUM(I6,L6,N6),1),\"\")","v":""},null,null,null,null,null,null,null,null,null,null,null,null,null,null,{"$f":"L6","v":""}]
["56900017098","제 1호","L001010101000015","노 무 비","착암공","인",{"$f":"일위노임!G8","v":0.21279999999999999},{"$f":"합산자재!H69","v":0},{"$f":"IF(G7*H7<>0, TRUNC(G7*H7,1),\"\")","v":""},0.26600000000000001,{"$f":"합산자재!I69","v":0},{"$f":"IF(G7*K7<>0, TRUNC(G7*K7,1),\"\")","v":""},{"$f":"합산자재!J69","v":0},{"$f":"IF(G7*M7<>0, TRUNC(G7*M7,1),\"\")","v":""},null,{"$f":"IF(SUM(I7,L7,N7)<>0,TRUNC(SUM(I7,L7,N7),1),\"\")","v":""},null,null,null,null,null,null,null,null,null,"노임계",null,null,null,null,{"$f":"L7","v":""}]
[null,"합계줄",null,"( 합       계 )",null,null,null,null,{"$f":"TRUNC(SUM(I4:I7))","v":0},null,null,{"$f":"TRUNC(SUM(L4:L7))","v":0},null,{"$f":"TRUNC(SUM(N4:N7))","v":0},null,{"$f":"IF(SUM(I8,L8,N8)<>0,TRUNC(SUM(I8,L8,N8),1),\"\")","v":""},null,null,null,null,null,null,null,null,null,null,null,null,null,null,{"$f":"TRUNC(SUM(AE4:AE7))","v":0}]
[null,null,null,null,null,null,null,null,{"$f":"IF(G9*H9<>0, TRUNC(G9*H9,1),\"\")","v":""},null,null,{"$f":"IF(G9*K9<>0, TRUNC(G9*K9,1),\"\")","v":""},null,{"$f":"IF(G9*M9<>0, TRUNC(G9*M9,1),\"\")","v":""},null,{"$f":"IF(SUM(I9,L9,N9)<>0,TRUNC(SUM(I9,L9,N9),1),\"\")","v":""}]
["56959100801","일목줄","EAB110211000","[제 2호] 배관용 홈파기  Φ22이하 [m]"]
["56900017041","제 2호","L001010101000002","노 무 비","보통인부","인",{"$f":"일위노임!G11","v":6.4000000000000001E-2},{"$f":"합산자재!H68","v":0},{"$f":"IF(G11*H11<>0, TRUNC(G11*H11,1),\"\")","v":""},0.08,{"$f":"합산자재!I68","v":0},{"$f":"IF(G11*K11<>0, TRUNC(G11*K11,1),\"\")","v":""},{"$f":"합산자재!J68","v":0},{"$f":"IF(G11*M11<>0, TRUNC(G11*M11,1),\"\")","v":""},null,{"$f":"IF(SUM(I11,L11,N11)<>0,TRUNC(SUM(I11,L11,N11),1),\"\")","v":""},null,null,null,null,null,null,null,null,null,"노임계",null,null,null,null,{"$f":"L11","v":""}]
[null,"합계줄",null,"( 합       계 )",null,null,null,null,{"$f":"TRUNC(SUM(I10:I11))","v":0},null,null,{"$f":"TRUNC(SUM(L10:L11))","v":0},null,{"$f":"TRUNC(SUM(N10:N11))","v":0},null,{"$f":"IF(SUM(I12,L12,N12)<>0,TRUNC(SUM(I12,L12,N12),1),\"\")","v":""},null,null,null,null,null,null,null,null,null,null,null,null,null,null,{"$f":"TRUNC(SUM(AE10:AE11))","v":0}]
[null,null,null,null,null,null,null,null,{"$f":"IF(G13*H13<>0, TRUNC(G13*H13,1),\"\")","v":""},null,null,{"$f":"IF(G13*K13<>0, TRUNC(G13*K13,1),\"\")","v":""},null,{"$f":"IF(G13*M13<>0, TRUNC(G13*M13,1),\"\")","v":""},null,{"$f":"IF(SUM(I13,L13,N13)<>0,TRUNC(SUM(I13,L13,N13),1),\"\")","v":""}]
["56959100802","일목줄","EAB110212000","[제 3호] LP-ELEV 분전반  600Wx600Hx150D [면]"]
["MM334303456","제 3호","3912110121654351","분전반 외함(ALL SUS)","600* 600*150","면",1,{"$f":"합산자재!H35","v":0},{"$f":"IF(G15*H15<>0, TRUNC(G15*H15,1),\"\")","v":""},1,{"$f":"합산자재!I35","v":0},{"$f":"IF(G15*K15<>0, TRUNC(G15*K15,1),\"\")","v":""},{"$f":"합산자재!J35","v":0},{"$f":"IF(G15*M15<>0, TRUNC(G15*M15,1),\"\")","v":""},null,{"$f":"IF(SUM(I15,L15,N15)<>0,TRUNC(SUM(I15,L15,N15),1),\"\")","v":""},null,"PNL"]
["MM300009101","제 3호","3912110420179148","아크릴 명판","60*350","EA",1,{"$f":"합산자재!H41","v":0},"",1,{"$f":"합산자재!I41","v":0},"",{"$f":"합산자재!J41","v":0},"",null,"",null,"NP"]
["MM300009107","제 3호","3912110420179154","아크릴 명판","20* 50","EA",2,{"$f":"합산자재!H42","v":0},"",2,{"$f":"합산자재!I42","v":0},"",{"$f":"합산자재!J42","v":0},"",null,"",null,"NP"]
["MM300015105","제 3호","3912161620167029","배선용차단기(ABS-54)","4P 50AF 50AT","EA",1,{"$f":"합산자재!H45","v":0},"",1,{"$f":"합산자재!I45","v":0},"",{"$f":"합산자재!J45","v":0},"",null,"",null,"NFB"]
["MM599859664","제 3호","3912161420167136","누전차단기(54c)","4P 50AF","EA",1,{"$f":"합산자재!H47","v":0},"",1,{"$f":"합산자재!I47","v":0},"",{"$f":"합산자재!J47","v":0},"",null,"",null,"NFB"]
["MM300020604","제 3호","3912161420167114","누전차단기(32KGRc)","2P 30AF 20AT","EA",1,{"$f":"합산자재!H46","v":0},"",1,{"$f":"합산자재!I46","v":0},"",{"$f":"합산자재!J46","v":0},"",null,"",null,"NFB",null,null,null,null,null,null,null,"노임계"]
["61100117503","제 3호","3912110320178178","배전반 부속재","DOOR HANDLE, PUSH TYPE","개",1,{"$f":"합산자재!H37","v":0},"",1,{"$f":"합산자재!I37","v":0},"",{"$f":"합산자재!J37","v":0},"",null,""]
["61100117555","제 3호","3912110320178186","배전반 부속재","NAME PLATE, CARD HOLDER","개",1,{"$f":"합산자재!H40","v":0},"",1,{"$f":"합산자재!I40","v":0},"",{"$f":"합산자재!J40","v":0},"",null,""]
["59700677013","제 3호","3912172120173109","베이크라이트판","9.0tx1000x1000","매",1,{"$f":"합산자재!H43","v":0},"",1,{"$f":"합산자재!I43","v":0},"",{"$f":"합산자재!J43","v":0},"",null,""]
["61100117521","제 3호","3912110320178180","배전반 부속재","NT","개",1,{"$f":"합산자재!H39","v":0},"",1,{"$f":"합산자재!I39","v":0},"",{"$f":"합산자재!J39","v":0},"",null,""]
["61100117511","제 3호","3912110320178179","배전반 부속재","ET","개",1,{"$f":"합산자재!H38","v":0},"",1,{"$f":"합산자재!I38","v":0},"",{"$f":"합산자재!J38","v":0},"",null,""]
["61500377116","제 3호","3912143520184926","모선접속바(BUS BAR)","2.0mm x 12mm","m",0.9,{"$f":"합산자재!H48","v":0},"",0.9,{"$f":"합산자재!I48","v":0},"",{"$f":"합산자재!J48","v":0},"",null,""]
["61500377117","제 3호","3912143520184927","모선접속바(BUS BAR)","3.0mm x 20mm","m",2.5,{"$f":"합산자재!H49","v":0},"",2.5,{"$f":"합산자재!I49","v":0},"",{"$f":"합산자재!J49","v":0},"",null,""]
["56900017016","제 3호","L001010101000075","노 무 비","내선전공","인",{"$f":"일위노임!G20","v":0.6472},{"$f":"합산자재!H65","v":0},"",0.80900000000000005,{"$f":"합산자재!I65","v":0},"",{"$f":"합산자재!J65","v":0},"",null,"",null,null,null,null,null,null,null,null,null,null,null,null,null,null,{"$f":"L28","v":""}]
["56900017035","제 3호","L001010501000116","노 무 비","변전전공","인",{"$f":"일위노임!G21","v":0.21759999999999999},{"$f":"합산자재!H67","v":0},"",0.27200000000000002,{"$f":"합산자재!I67","v":0},"",{"$f":"합산자재!J67","v":0},"",null,"",null,null,null,null,null,null,null,null,null,null,null,null,null,null,{"$f":"L29","v":""}]
["56900017041","제 3호","L001010101000002","노 무 비","보통인부","인",{"$f":"일위노임!G22","v":0.16320000000000001},{"$f":"합산자재!H68","v":0},"",0.20399999999999999,{"$f":"합산자재!I68","v":0},"",{"$f":"합산자재!J68","v":0},"",null,"",null,null,null,null,null,null,null,null,null,"노임계",null,null,null,null,{"$f":"L30","v":""}]
[null,"합계줄",null,"( 합       계 )",null,null,null,null,{"$f":"TRUNC(SUM(I14:I30))","v":0},null,null,{"$f":"TRUNC(SUM(L14:L30))","v":0},null,{"$f":"TRUNC(SUM(N14:N30))","v":0},null,"",null,null,null,null,null,null,null,null,null,null,null,null,null,null,{"$f":"TRUNC(SUM(AE14:AE30))","v":0}]
[null,null,null,null,null,null,null,null,{"$f":"IF(G32*H32<>0, TRUNC(G32*H32,1),\"\")","v":""},null,null,{"$f":"IF(G32*K32<>0, TRUNC(G32*K32,1),\"\")","v":""},null,{"$f":"IF(G32*M32<>0, TRUNC(G32*M32,1),\"\")","v":""},null,""]
["56959100803","일목줄","EAB110213000","[제 4호] LP-화장실 분전반  600Wx700Hx150D [면]"]
["MM334303457","제 4호","3912110121654352","분전반 외함(ALL SUS)","600* 700*150","면",1,{"$f":"합산자재!H36","v":0},{"$f":"IF(G34*H34<>0, TRUNC(G34*H34,1),\"\")","v":""},1,{"$f":"합산자재!I36","v":0},{"$f":"IF(G34*K34<>0, TRUNC(G34*K34,1),\"\")","v":""},{"$f":"합산자재!J36","v":0},{"$f":"IF(G34*M34<>0, TRUNC(G34*M34,1),\"\")","v":""},null,{"$f":"IF(SUM(I34,L34,N34)<>0,TRUNC(SUM(I34,L34,N34),1),\"\")","v":""},null,"PNL"]
["MM300009101","제 4호","3912110420179148","아크릴 명판","60*350","EA",1,{"$f":"합산자재!H41","v":0},"",1,{"$f":"합산자재!I41","v":0},"",{"$f":"합산자재!J41","v":0},"",null,"",null,"NP"]
["MM300009107","제 4호","3912110420179154","아크릴 명판","20* 50","EA",14,{"$f":"합산자재!H42","v":0},"",14,{"$f":"합산자재!I42","v":0},"",{"$f":"합산자재!J42","v":0},"",null,"",null,"NP"]
["MM300015105","제 4호","3912161620167029","배선용차단기(ABS-54)","4P 50AF 50AT","EA",1,{"$f":"합산자재!H45","v":0},"",1,{"$f":"합산자재!I45","v":0},"",{"$f":"합산자재!J45","v":0},"",null,"",null,"NFB"]
["MM300020604","제 4호","3912161420167114","누전차단기(32KGRc)","2P 30AF 20AT","EA",14,{"$f":"합산자재!H46","v":0},"",14,{"$f":"합산자재!I46","v":0},"",{"$f":"합산자재!J46","v":0},"",null,"",null,"NFB"]
["61100117503","제 4호","3912110320178178","배전반 부속재","DOOR HANDLE, PUSH TYPE","개",1,{"$f":"합산자재!H37","v":0},"",1,{"$f":"합산자재!I37","v":0},"",{"$f":"합산자재!J37","v":0},"",null,""]
["61100117555","제 4호","3912110320178186","배전반 부속재","NAME PLATE, CARD HOLDER","개",1,{"$f":"합산자재!H40","v":0},"",1,{"$f":"합산자재!I40","v":0},"",{"$f":"합산자재!J40","v":0},"",null,""]
["59700677013","제 4호","3912172120173109","베이크라이트판","9.0tx1000x1000","매",1,{"$f":"합산자재!H43","v":0},"",1,{"$f":"합산자재!I43","v":0},"",{"$f":"합산자재!J43","v":0},"",null,""]
["61100117521","제 4호","3912110320178180","배전반 부속재","NT","개",1,{"$f":"합산자재!H39","v":0},"",1,{"$f":"합산자재!I39","v":0},"",{"$f":"합산자재!J39","v":0},"",null,""]
["61100117511","제 4호","3912110320178179","배전반 부속재","ET","개",1,{"$f":"합산자재!H38","v":0},"",1,{"$f":"합산자재!I38","v":0},"",{"$f":"합산자재!J38","v":0},"",null,""]
["61500377116","제 4호","3912143520184926","모선접속바(BUS BAR)","2.0mm x 12mm","m",4.2,{"$f":"합산자재!H48","v":0},"",4.2,{"$f":"합산자재!I48","v":0},"",{"$f":"합산자재!J48","v":0},"",null,""]
["61500377117","제 4호","3912143520184927","모선접속바(BUS BAR)","3.0mm x 20mm","m",1.5,{"$f":"합산자재!H49","v":0},"",1.5,{"$f":"합산자재!I49","v":0},"",{"$f":"합산자재!J49","v":0},"",null,""]
["56900017016","제 4호","L001010101000075","노 무 비","내선전공","인",{"$f":"일위노임!G30","v":1.76},{"$f":"합산자재!H65","v":0},"",2.2000000000000002,{"$f":"합산자재!I65","v":0},"",{"$f":"합산자재!J65","v":0},"",null,"",null,null,null,null,null,null,null,null,null,null,null,null,null,null,{"$f":"L46","v":""}]
["56900017035","제 4호","L001010501000116","노 무 비","변전전공","인",{"$f":"일위노임!G31","v":0.36480000000000001},{"$f":"합산자재!H67","v":0},"",0.45600000000000002,{"$f":"합산자재!I67","v":0},"",{"$f":"합산자재!J67","v":0},"",null,"",null,null,null,null,null,null,null,null,null,null,null,null,null,null,{"$f":"L47","v":""}]
["56900017041","제 4호","L001010101000002","노 무 비","보통인부","인",{"$f":"일위노임!G32","v":0.27360000000000001},{"$f":"합산자재!H68","v":0},"",0.34200000000000003,{"$f":"합산자재!I68","v":0},"",{"$f":"합산자재!J68","v":0},"",null,"",null,null,null,null,null,null,null,null,null,null,null,null,null,null,{"$f":"L48","v":""}]
[null,"합계줄",null,"( 합       계 )",null,null,null,null,{"$f":"TRUNC(SUM(I33:I48))","v":0},null,null,{"$f":"TRUNC(SUM(L33:L48))","v":0},null,{"$f":"TRUNC(SUM(N33:N48))","v":0},null,"",null,null,null,null,null,null,null,null,null,null,null,null,null,null,{"$f":"TRUNC(SUM(AE33:AE48))","v":0}]

{"sheet":"일위노임","index":8,"n_rows":32,"n_cols":30,"rows_kept":32,"cut":false,"hidden":true,"merged":[[0,3,0,19],[1,0,2,0],[1,1,2,1],[1,2,2,2],[1,3,2,3],[1,4,2,4],[1,5,2,5],[1,6,1,9],[1,10,2,10],[1,11,1,14],[3,3,3,19],[8,3,8,19],[11,3,11,19],[22,3,22,19],[1,15,1,17],[1,18,2,18],[1,19,2,19]]}
["총줄수->","55",null,"[ 교육시설(서일관) 승강기 증축공사 및 리모델링 전기공사 ] - 일위노임 산출근거(2025년 하반기 노임)",null,null,null,null,null,null,null,null,null,null,null,null,null,null,null,null,null,null,null,null,null,null,"내선전공","변전전공","보통인부","착암공"]
["번호","공종코드","코드","명   칭","규   격","단위","수량",null,null,null,"코드","공량산출",null,null,null,"단 위 단 가 산 출",null,null,"품셈근거","비고"]
[null,null,null,null,null,null,"결정수량","할증","산출수량","재할%",null,"명칭","품셈","할증%","공량","단가","단위단가","단위계"]
[null,"공종줄",null,"[ 제 1호 ] 벽관통 구멍(코어드릴)  Φ50-벽두께 25cm [개소]"]
[null,"800","391115ZZ701Z0013","품셈 산출근거","벽두께 25cm","식",1,{"$f":"IF(I5<>0,G5-I5,\"\")","v":0},1,null,"56900017041","보통인부",0.26600000000000001,100,{"$f":"IF(I5*M5=0,\"\",I5*M5*(N5/100))","v":0.26600000000000001},null,null,null,"전기5-29-1",null,null,null,null,null,null,null,null,null,{"$f":"O5","v":0.26600000000000001}]
[null,"800","391115ZZ701Z0013",null,null,null,1,{"$f":"IF(I6<>0,G6-I6,\"\")","v":0},1,null,"56900017098","착암공",0.26600000000000001,100,{"$f":"IF(I6*M6=0,\"\",I6*M6*(N6/100))","v":0.26600000000000001},null,null,null,"전기5-29-1",null,null,null,null,null,null,null,null,null,null,{"$f":"O6","v":0.26600000000000001}]
[null,"800","L001010101000002","노 무 비","보통인부","인",{"$f":"IF(H7*I7/100+0.000005 <1, TRUNC(H7*I7/100+0.000005, 옵션!$E$13), TRUNC(H7*I7/100+0.000005, 옵션!$E$13))","v":0.21279999999999999},{"$f":"옵션!$B$13","v":80},{"$f":"SUM(AC5:AC6)","v":0.26600000000000001},null,null,null,null,null,{"$f":"IF(I7*M7=0,\"\",I7*M7*(N7/100))","v":""},null,null,null,null,null,null,null,null,null,null,null,null,null,{"$f":"SUM(AC5:AC6)","v":0.26600000000000001},{"$f":"SUM(AD5:AD6)","v":0.26600000000000001}]
[null,"800","L001010101000015","노 무 비","착암공","인",{"$f":"IF(H8*I8/100+0.000005 <1, TRUNC(H8*I8/100+0.000005, 옵션!$E$13), TRUNC(H8*I8/100+0.000005, 옵션!$E$13))","v":0.21279999999999999},{"$f":"옵션!$B$13","v":80},{"$f":"SUM(AD5:AD6)","v":0.26600000000000001},null,null,null,null,null,{"$f":"IF(I8*M8=0,\"\",I8*M8*(N8/100))","v":""}]
[null,"공종줄",null,"[ 제 2호 ] 배관용 홈파기  Φ22이하 [m]"]
[null,"800","391115ZZ701Z0012","품셈 산출근거","Φ22이하","식",1,{"$f":"IF(I10<>0,G10-I10,\"\")","v":0},1,null,"56900017041","보통인부",0.08,100,{"$f":"IF(I10*M10=0,\"\",I10*M10*(N10/100))","v":0.08},null,null,null,"전기5-29",null,null,null,null,null,null,null,null,null,{"$f":"O10","v":0.08}]
[null,"800","L001010101000002","노 무 비","보통인부","인",{"$f":"IF(H11*I11/100+0.000005 <1, TRUNC(H11*I11/100+0.000005, 옵션!$E$13), TRUNC(H11*I11/100+0.000005, 옵션!$E$13))","v":6.4000000000000001E-2},{"$f":"옵션!$B$13","v":80},{"$f":"SUM(AC10:AC10)","v":0.08},null,null,null,null,null,{"$f":"IF(I11*M11=0,\"\",I11*M11*(N11/100))","v":""},null,null,null,null,null,null,null,null,null,null,null,null,null,{"$f":"SUM(AC10:AC10)","v":0.08}]
[null,"공종줄",null,"[ 제 3호 ] LP-ELEV 분전반  600Wx600Hx150D [면]"]
[null,"800","3912161620167029","배선용차단기(ABS-54)","4P 50AF 50AT","EA",1,{"$f":"IF(I13<>0,G13-I13,\"\")","v":0},1,null,"56900017016","내선전공",0.33800000000000002,100,{"$f":"IF(I13*M13=0,\"\",I13*M13*(N13/100))","v":0.33800000000000002},null,null,null,"전기5-19",null,null,null,null,null,null,null,{"$f":"O13","v":0.33800000000000002}]
[null,"800","3912161420167136","누전차단기(54c)","4P 50AF","EA",1,0,1,null,"56900017016","내선전공",0.33800000000000002,100,0.33800000000000002,null,null,null,"전기5-19",null,null,null,null,null,null,null,{"$f":"O14","v":0.33800000000000002}]
[null,"800","3912161420167114","누전차단기(32KGRc)","2P 30AF 20AT","EA",1,0,1,null,"56900017016","내선전공",0.13300000000000001,100,0.13300000000000001,null,null,null,"전기5-19",null,null,null,null,null,null,null,{"$f":"O15","v":0.13300000000000001}]
[null,"800","3912143520184926","모선접속바(BUS BAR)","2.0mm x 12mm","m",0.9,0,0.9,null,"56900017035","변전전공",0.08,100,7.2000000000000008E-2,null,null,null,"전기3-21",null,null,null,null,null,null,null,null,{"$f":"O16","v":7.2000000000000008E-2}]
[null,"800","3912143520184926",null,null,null,0.9,0,0.9,null,"56900017041","보통인부",0.06,100,5.3999999999999999E-2,null,null,null,"전기3-21",null,null,null,null,null,null,null,null,null,{"$f":"O17","v":5.3999999999999999E-2}]
[null,"800","3912143520184927","모선접속바(BUS BAR)","3.0mm x 20mm","m",2.5,0,2.5,null,"56900017035","변전전공",0.08,100,0.2,null,null,null,"전기3-21",null,null,null,null,null,null,null,null,{"$f":"O18","v":0.2}]
[null,"800","3912143520184927",null,null,null,2.5,0,2.5,null,"56900017041","보통인부",0.06,100,0.15,null,null,null,"전기3-21",null,null,null,null,null,null,null,null,null,{"$f":"O19","v":0.15}]
[null,"800","L001010101000075","노 무 비","내선전공","인",{"$f":"IF(H20*I20/100+0.000005 <1, TRUNC(H20*I20/100+0.000005, 옵션!$E$13), TRUNC(H20*I20/100+0.000005, 옵션!$E$13))","v":0.6472},{"$f":"옵션!$B$13","v":80},{"$f":"SUM(AA13:AA19)","v":0.80900000000000005},null,null,null,null,null,"",null,null,null,null,null,null,null,null,null,null,null,{"$f":"SUM(AA13:AA19)","v":0.80900000000000005},{"$f":"SUM(AB13:AB19)","v":0.27200000000000002},{"$f":"SUM(AC13:AC19)","v":0.20399999999999999}]
[null,"800","L001010501000116","노 무 비","변전전공","인",{"$f":"IF(H21*I21/100+0.000005 <1, TRUNC(H21*I21/100+0.000005, 옵션!$E$13), TRUNC(H21*I21/100+0.000005, 옵션!$E$13))","v":0.21759999999999999},{"$f":"옵션!$B$13","v":80},{"$f":"SUM(AB13:AB19)","v":0.27200000000000002},null,null,null,null,null,""]
[null,"800","L001010101000002","노 무 비","보통인부","인",{"$f":"IF(H22*I22/100+0.000005 <1, TRUNC(H22*I22/100+0.000005, 옵션!$E$13), TRUNC(H22*I22/100+0.000005, 옵션!$E$13))","v":0.16320000000000001},{"$f":"옵션!$B$13","v":80},{"$f":"SUM(AC13:AC19)","v":0.20399999999999999},null,null,null,null,null,""]
[null,"공종줄",null,"[ 제 4호 ] LP-화장실 분전반  600Wx700Hx150D [면]"]
[null,"800","3912161620167029","배선용차단기(ABS-54)","4P 50AF 50AT","EA",1,{"$f":"IF(I24<>0,G24-I24,\"\")","v":0},1,null,"56900017016","내선전공",0.33800000000000002,100,{"$f":"IF(I24*M24=0,\"\",I24*M24*(N24/100))","v":0.33800000000000002},null,null,null,"전기5-19",null,null,null,null,null,null,null,{"$f":"O24","v":0.33800000000000002}]
[null,"800","3912161420167114","누전차단기(32KGRc)","2P 30AF 20AT","EA",14,0,14,null,"56900017016","내선전공",0.13300000000000001,100,1.8620000000000001,null,null,null,"전기5-19",null,null,null,null,null,null,null,{"$f":"O25","v":1.8620000000000001}]
[null,"800","3912143520184926","모선접속바(BUS BAR)","2.0mm x 12mm","m",4.2,0,4.2,null,"56900017035","변전전공",0.08,100,0.33600000000000002,null,null,null,"전기3-21",null,null,null,null,null,null,null,null,{"$f":"O26","v":0.33600000000000002}]
[null,"800","3912143520184926",null,null,null,4.2,0,4.2,null,"56900017041","보통인부",0.06,100,0.252,null,null,null,"전기3-21",null,null,null,null,null,null,null,null,null,{"$f":"O27","v":0.252}]
[null,"800","3912143520184927","모선접속바(BUS BAR)","3.0mm x 20mm","m",1.5,0,1.5,null,"56900017035","변전전공",0.08,100,0.12,null,null,null,"전기3-21",null,null,null,null,null,null,null,null,{"$f":"O28","v":0.12}]
[null,"800","3912143520184927",null,null,null,1.5,0,1.5,null,"56900017041","보통인부",0.06,100,0.09,null,null,null,"전기3-21",null,null,null,null,null,null,null,null,null,{"$f":"O29","v":0.09}]
[null,"800","L001010101000075","노 무 비","내선전공","인",{"$f":"IF(H30*I30/100+0.000005 <1, TRUNC(H30*I30/100+0.000005, 옵션!$E$13), TRUNC(H30*I30/100+0.000005, 옵션!$E$13))","v":1.76},{"$f":"옵션!$B$13","v":80},{"$f":"SUM(AA24:AA29)","v":2.2000000000000002},null,null,null,null,null,"",null,null,null,null,null,null,null,null,null,null,null,{"$f":"SUM(AA24:AA29)","v":2.2000000000000002},{"$f":"SUM(AB24:AB29)","v":0.45600000000000002},{"$f":"SUM(AC24:AC29)","v":0.34199999999999997}]
[null,"800","L001010501000116","노 무 비","변전전공","인",{"$f":"IF(H31*I31/100+0.000005 <1, TRUNC(H31*I31/100+0.000005, 옵션!$E$13), TRUNC(H31*I31/100+0.000005, 옵션!$E$13))","v":0.36480000000000001},{"$f":"옵션!$B$13","v":80},{"$f":"SUM(AB24:AB29)","v":0.45600000000000002},null,null,null,null,null,""]
[null,"800","L001010101000002","노 무 비","보통인부","인",{"$f":"IF(H32*I32/100+0.000005 <1, TRUNC(H32*I32/100+0.000005, 옵션!$E$13), TRUNC(H32*I32/100+0.000005, 옵션!$E$13))","v":0.27360000000000001},{"$f":"옵션!$B$13","v":80},{"$f":"SUM(AC24:AC29)","v":0.34199999999999997},null,null,null,null,null,""]

{"sheet":"합산자재","index":9,"n_rows":81,"n_cols":13,"rows_kept":81,"cut":false,"hidden":true,"merged":[[1,11,2,11],[1,12,2,12],[0,2,0,12],[1,2,2,2],[1,3,2,3],[1,4,2,4],[1,5,2,5],[1,6,2,6],[1,7,2,7],[1,8,2,8],[1,9,2,9],[1,10,2,10]]}
["총줄수->","81","[ 교육시설(서일관) 승강기 증축공사 및 리모델 ] - 합산자재목록"]
["번호","…","코드","명   칭","규   격","단위","수량","재료비","노무비","경비","지급비","계","비고"]
[]
[null,null,"3913170610035664","합성수지제 가요전선관","CD-난연성 16㎜","m",null,{"$f":"TRUNC(단가조사!G4*옵션!$D$11)","v":0},null,null,null,{"$f":"SUM(H4,I4,J4)","v":0}]
[null,null,"3913170620174410","1종금속제가요전선관","16 mm 일반-비방수","m",null,{"$f":"TRUNC(단가조사!G5*옵션!$D$11)","v":0},null,null,null,0]
[null,null,"3913170620174414","1종금속제가요전선관","42 mm 일반-비방수","m",null,{"$f":"TRUNC(단가조사!G6*옵션!$D$11)","v":0},null,null,null,0]
[null,null,"3913170620174415","1종금속제가요전선관","54 mm 일반-비방수","m",null,{"$f":"TRUNC(단가조사!G7*옵션!$D$11)","v":0},null,null,null,0]
[null,null,"3913170620174422","1종금속제가요전선관","16 mm 일반-방수","m",null,{"$f":"TRUNC(단가조사!G8*옵션!$D$11)","v":0},null,null,null,0]
[null,null,"3913170620174424","1종금속제가요전선관","28 mm 일반-방수","m",null,{"$f":"TRUNC(단가조사!G9*옵션!$D$11)","v":0},null,null,null,0]
[null,null,"3913170620174434","1종금속제가요전선관","커넥터, 16 mm 일반-비방수","개",null,{"$f":"TRUNC(단가조사!G10*옵션!$D$11)","v":0},null,null,null,0]
[null,null,"3913170620174446","1종금속제가요전선관","커넥터, 16 mm 일반-방수","개",null,{"$f":"TRUNC(단가조사!G11*옵션!$D$11)","v":0},null,null,null,0]
[null,null,"3912130810035750","아우트렛박스","8각 54㎜","개",null,{"$f":"TRUNC(단가조사!G12*옵션!$D$11)","v":0},null,null,null,0]
[null,null,"3912130810035753","아우트렛박스","중형4각 54㎜","개",null,{"$f":"TRUNC(단가조사!G13*옵션!$D$11)","v":0},null,null,null,0]
[null,null,"3912130610035778","스위치박스","1 개용 54 mm","개",null,{"$f":"TRUNC(단가조사!G14*옵션!$D$11)","v":0},null,null,null,0]
[null,null,"3912130610035781","스위치박스","2 개용 54 mm","개",null,{"$f":"TRUNC(단가조사!G15*옵션!$D$11)","v":0},null,null,null,0]
[null,null,"3912130610036792","PVC BOX 4각","4 각","개",null,{"$f":"TRUNC(단가조사!G16*옵션!$D$11)","v":0},null,null,null,0]
[null,null,"3912130820174710","아우트렛박스 커버","커버, 8각, 평형","개",null,{"$f":"TRUNC(단가조사!G17*옵션!$D$11)","v":0},null,null,null,0]
[null,null,"3912130820174713","아우트렛박스 커버","커버, 4각, 평형","개",null,{"$f":"TRUNC(단가조사!G18*옵션!$D$11)","v":0},null,null,null,0]
[null,null,"3913171221650789","전선덕트","알루미늄 150x100mm","m",null,{"$f":"TRUNC(단가조사!G19*옵션!$D$11)","v":0},null,null,null,0]
[null,null,"2612162922076727","450/750V 내열비닐절연전선","HFIX 1.78mm(2.5㎟)","m",null,{"$f":"TRUNC(단가조사!G20*옵션!$D$11)","v":0},null,null,null,0]
[null,null,"2612162922076728","450/750V 내열비닐절연전선","HFIX 2.25mm(4㎟)","m",null,{"$f":"TRUNC(단가조사!G21*옵션!$D$11)","v":0},null,null,null,0]
[null,null,"2612152420683695","접지용비닐절연전선(F-GV)","2.5㎟","m",null,{"$f":"TRUNC(단가조사!G22*옵션!$D$11)","v":0},null,null,null,0]
[null,null,"2612152420683698","접지용비닐절연전선(F-GV)","10㎟","m",null,{"$f":"TRUNC(단가조사!G23*옵션!$D$11)","v":0},null,null,null,0]
[null,null,"2612152420683699","접지용비닐절연전선(F-GV)","16㎟","m",null,{"$f":"TRUNC(단가조사!G24*옵션!$D$11)","v":0},null,null,null,0]
[null,null,"2612162920683943","폴리에틸렌 난연케이블","0.6/1kv F-CV 4C×2.5㎟","m",null,{"$f":"TRUNC(단가조사!G25*옵션!$D$11)","v":0},null,null,null,0]
[null,null,"2612162920683946","폴리에틸렌 난연케이블","0.6/1kv F-CV 4C×10㎟","m",null,{"$f":"TRUNC(단가조사!G26*옵션!$D$11)","v":0},null,null,null,0]
[null,null,"2612162920683947","폴리에틸렌 난연케이블","0.6/1kv F-CV 4C×16㎟","m",null,{"$f":"TRUNC(단가조사!G27*옵션!$D$11)","v":0},null,null,null,0]
[null,null,"3912998720170517","매입스위치","250V 1로1구","개",null,{"$f":"TRUNC(단가조사!G28*옵션!$D$11)","v":0},null,null,null,0]
[null,null,"3912998720170518","매입스위치","250V 1로2구","개",null,{"$f":"TRUNC(단가조사!G29*옵션!$D$11)","v":0},null,null,null,0]
[null,null,"3912998720170519","매입스위치","250V 1로3구","개",null,{"$f":"TRUNC(단가조사!G30*옵션!$D$11)","v":0},null,null,null,0]
[null,null,"3912998720170520","매입스위치","250V 1로4구","개",null,{"$f":"TRUNC(단가조사!G31*옵션!$D$11)","v":0},null,null,null,0]
[null,null,"3912140620170850","콘센트","매입-접지형, 250V 2구","개",null,{"$f":"TRUNC(단가조사!G32*옵션!$D$11)","v":0},null,null,null,0]
[null,null,"3912140620170834","콘센트","노출-접지형, 250V 원형","개",null,{"$f":"TRUNC(단가조사!G33*옵션!$D$11)","v":0},null,null,null,0]
[null,null,"3912140621030228","방우콘센트","매입-접지형, 250V 2구","개",null,{"$f":"TRUNC(단가조사!G34*옵션!$D$11)","v":0},null,null,null,0]
[null,null,"3912110121654351","분전반 외함(ALL SUS)","600* 600*150","면",null,{"$f":"TRUNC(단가조사!G35*옵션!$D$11)","v":0},null,null,null,0]
[null,null,"3912110121654352","분전반 외함(ALL SUS)","600* 700*150","면",null,{"$f":"TRUNC(단가조사!G36*옵션!$D$11)","v":0},null,null,null,{"$f":"SUM(H36,I36,J36)","v":0}]
[null,null,"3912110320178178","배전반 부속재","DOOR HANDLE, PUSH TYPE","개",null,{"$f":"TRUNC(단가조사!G37*옵션!$D$11)","v":0},null,null,null,0]
[null,null,"3912110320178179","배전반 부속재","ET","개",null,{"$f":"TRUNC(단가조사!G38*옵션!$D$11)","v":0},null,null,null,0]
[null,null,"3912110320178180","배전반 부속재","NT","개",null,{"$f":"TRUNC(단가조사!G39*옵션!$D$11)","v":0},null,null,null,0]
[null,null,"3912110320178186","배전반 부속재","NAME PLATE, CARD HOLDER","개",null,{"$f":"TRUNC(단가조사!G40*옵션!$D$11)","v":0},null,null,null,0]
[null,null,"3912110420179148","아크릴 명판","60*350","EA",null,{"$f":"TRUNC(단가조사!G41*옵션!$D$11)","v":0},null,null,null,0]
[null,null,"3912110420179154","아크릴 명판","20* 50","EA",null,{"$f":"TRUNC(단가조사!G42*옵션!$D$11)","v":0},null,null,null,0]
[null,null,"3912172120173109","베이크라이트판","9.0tx1000x1000","매",null,{"$f":"TRUNC(단가조사!G43*옵션!$D$11)","v":0},null,null,null,0]
[null,null,"3912161620267304","배선용차단기(ABS-34)","4P 30AF 20AT","EA",null,{"$f":"TRUNC(단가조사!G44*옵션!$D$11)","v":0},null,null,null,0]
[null,null,"3912161620167029","배선용차단기(ABS-54)","4P 50AF 50AT","EA",null,{"$f":"TRUNC(단가조사!G45*옵션!$D$11)","v":0},null,null,null,0]
[null,null,"3912161420167114","누전차단기(32KGRc)","2P 30AF 20AT","EA",null,{"$f":"TRUNC(단가조사!G46*옵션!$D$11)","v":0},null,null,null,0]
[null,null,"3912161420167136","누전차단기(54c)","4P 50AF","EA",null,{"$f":"TRUNC(단가조사!G47*옵션!$D$11)","v":0},null,null,null,0]
[null,null,"3912143520184926","모선접속바(BUS BAR)","2.0mm x 12mm","m",null,{"$f":"TRUNC(단가조사!G48*옵션!$D$11)","v":0},null,null,null,0]
[null,null,"3912143520184927","모선접속바(BUS BAR)","3.0mm x 20mm","m",null,{"$f":"TRUNC(단가조사!G49*옵션!$D$11)","v":0},null,null,null,0]
[null,null,"3912143210033786","러그단자","동관단자 1 HOLE 10 ㎟","개",null,{"$f":"TRUNC(단가조사!G50*옵션!$D$11)","v":0},null,null,null,0]
[null,null,"3912143210033787","러그단자","동관단자 1 HOLE 16 ㎟","개",null,{"$f":"TRUNC(단가조사!G51*옵션!$D$11)","v":0},null,null,null,0]
[null,null,"3912143221650908","압착단자","R형동선 나압착 2.5 ㎟","개",null,{"$f":"TRUNC(단가조사!G52*옵션!$D$11)","v":0},null,null,null,0]
[null,null,"391115ZZ701Z0001","LED 다운라이트","12W","개",null,{"$f":"TRUNC(단가조사!G53*옵션!$D$11)","v":0},null,null,null,0]
[null,null,"391115ZZ701Z0002","LED 다운라이트 철거",null,"개",null,{"$f":"TRUNC(단가조사!G54*옵션!$D$11)","v":0},null,null,null,0]
[null,null,"391115ZZ701Z0003","LED 면조명","기존","개",null,{"$f":"TRUNC(단가조사!G55*옵션!$D$11)","v":0},null,null,null,0]
[null,null,"391115ZZ701Z0004","LED 면조명 철거",null,"개",null,{"$f":"TRUNC(단가조사!G56*옵션!$D$11)","v":0},null,null,null,0]
[null,null,"391115ZZ701Z0005","LED 원형직부등 철거",null,"개",null,{"$f":"TRUNC(단가조사!G57*옵션!$D$11)","v":0},null,null,null,0]
[null,null,"391115ZZ701Z0006","LED 파이프펜던트","기존","개",null,{"$f":"TRUNC(단가조사!G58*옵션!$D$11)","v":0},null,null,null,0]
[null,null,"391115ZZ701Z0007","LED 파이프펜던트 철거",null,"개",null,{"$f":"TRUNC(단가조사!G59*옵션!$D$11)","v":0},null,null,null,0]
[null,null,"391115ZZ701Z0008","PVC함 철거",null,"면",null,{"$f":"TRUNC(단가조사!G60*옵션!$D$11)","v":0},null,null,null,0]
[null,null,"391115ZZ701Z0009","기타 전기공사","배관, 배선정리","식",null,{"$f":"TRUNC(단가조사!G61*옵션!$D$11)","v":0},null,null,null,0]
[null,null,"391115ZZ701Z0010","전등스위치 철거",null,"개",null,{"$f":"TRUNC(단가조사!G62*옵션!$D$11)","v":0},null,null,null,0]
[null,null,"391115ZZ701Z0011","콘센트 철거",null,"개",null,{"$f":"TRUNC(단가조사!G63*옵션!$D$11)","v":0},null,null,null,0]
[null,null,"ECA565826062","코어드릴","15.24cm","시간",null,{"$f":"단가조사!H64","v":0},{"$f":"단가조사!J64","v":0},{"$f":"단가조사!L64","v":0},null,0,"종합적산701"]
[null,null,"L001010101000075","노 무 비","내선전공","인",null,null,{"$f":"TRUNC(단가조사!G65)","v":0},null,null,0]
[null,null,"L001010101000078","노 무 비","저압케이블전공","인",null,null,{"$f":"TRUNC(단가조사!G66)","v":0},null,null,0]
[null,null,"L001010501000116","노 무 비","변전전공","인",null,null,{"$f":"TRUNC(단가조사!G67)","v":0},null,null,0]
[null,null,"L001010101000002","노 무 비","보통인부","인",null,null,{"$f":"TRUNC(단가조사!G68)","v":0},null,null,{"$f":"SUM(H68,I68,J68)","v":0}]
[null,null,"L001010101000015","노 무 비","착암공","인",null,null,{"$f":"TRUNC(단가조사!G69)","v":0},null,null,0]
[null,null,null,null,null,null,null,null,null,null,null,0]
[null,null,null,null,null,null,null,null,null,null,null,0]
[null,null,null,null,null,null,null,null,null,null,null,0]
[null,null,null,null,null,null,null,null,null,null,null,0]
[null,null,null,null,null,null,null,null,null,null,null,0]
[null,null,null,null,null,null,null,null,null,null,null,0]
[null,null,null,null,null,null,null,null,null,null,null,0]
[null,null,null,null,null,null,null,null,null,null,null,0]
[null,null,null,null,null,null,null,null,null,null,null,0]
[null,null,null,null,null,null,null,null,null,null,null,0]
[null,null,null,null,null,null,null,null,null,null,null,0]
[null,null,null,null,null,null,null,null,null,null,null,0]

{"sheet":"단가조사","index":10,"n_rows":69,"n_cols":20,"rows_kept":69,"cut":false,"hidden":false,"merged":[[1,13,1,14],[1,15,1,16],[1,17,1,18],[1,19,2,19],[0,3,0,19],[1,5,2,5],[1,6,2,6],[1,9,1,10],[1,11,1,12],[1,0,2,0],[1,1,2,1],[1,2,2,2],[1,3,2,3],[1,4,2,4]]}
["총줄수->","93",null,"[ 교육시설(서일관) 승강기 증축공사 및 리모델링 전기공사 ] - 단가조사서(1/6단가:2025년10월)"]
["번호","공종코드","코드","명   칭","규   격","단위","적용단가","시설단가",null,"거래가격",null,"물가정보",null,"물가자료",null,"조사단가1",null,"조사단가2",null,"비고"]
[null,null,null,null,null,null,null,"단가","코드","단가","PAGE","단가","PAGE","단가","PAGE","단가","PAGE","단가","PAGE"]
[null,null,"3913170610035664","합성수지제 가요전선관","CD-난연성 16㎜","m"]
[null,null,"3913170620174410","1종금속제가요전선관","16 mm 일반-비방수","m"]
[null,null,"3913170620174414","1종금속제가요전선관","42 mm 일반-비방수","m"]
[null,null,"3913170620174415","1종금속제가요전선관","54 mm 일반-비방수","m"]
[null,null,"3913170620174422","1종금속제가요전선관","16 mm 일반-방수","m"]
[null,null,"3913170620174424","1종금속제가요전선관","28 mm 일반-방수","m"]
[null,null,"3913170620174434","1종금속제가요전선관","커넥터, 16 mm 일반-비방수","개"]
[null,null,"3913170620174446","1종금속제가요전선관","커넥터, 16 mm 일반-방수","개"]
[null,null,"3912130810035750","아우트렛박스","8각 54㎜","개"]
[null,null,"3912130810035753","아우트렛박스","중형4각 54㎜","개"]
[null,null,"3912130610035778","스위치박스","1 개용 54 mm","개"]
[null,null,"3912130610035781","스위치박스","2 개용 54 mm","개"]
[null,null,"3912130610036792","PVC BOX 4각","4 각","개"]
[null,null,"3912130820174710","아우트렛박스 커버","커버, 8각, 평형","개"]
[null,null,"3912130820174713","아우트렛박스 커버","커버, 4각, 평형","개"]
[null,null,"3913171221650789","전선덕트","알루미늄 150x100mm","m"]
[null,null,"2612162922076727","450/750V 내열비닐절연전선","HFIX 1.78mm(2.5㎟)","m"]
[null,null,"2612162922076728","450/750V 내열비닐절연전선","HFIX 2.25mm(4㎟)","m"]
[null,null,"2612152420683695","접지용비닐절연전선(F-GV)","2.5㎟","m"]
[null,null,"2612152420683698","접지용비닐절연전선(F-GV)","10㎟","m"]
[null,null,"2612152420683699","접지용비닐절연전선(F-GV)","16㎟","m"]
[null,null,"2612162920683943","폴리에틸렌 난연케이블","0.6/1kv F-CV 4C×2.5㎟","m"]
[null,null,"2612162920683946","폴리에틸렌 난연케이블","0.6/1kv F-CV 4C×10㎟","m"]
[null,null,"2612162920683947","폴리에틸렌 난연케이블","0.6/1kv F-CV 4C×16㎟","m"]
[null,null,"3912998720170517","매입스위치","250V 1로1구","개"]
[null,null,"3912998720170518","매입스위치","250V 1로2구","개"]
[null,null,"3912998720170519","매입스위치","250V 1로3구","개"]
[null,null,"3912998720170520","매입스위치","250V 1로4구","개"]
[null,null,"3912140620170850","콘센트","매입-접지형, 250V 2구","개"]
[null,null,"3912140620170834","콘센트","노출-접지형, 250V 원형","개"]
[null,null,"3912140621030228","방우콘센트","매입-접지형, 250V 2구","개"]
[null,null,"3912110121654351","분전반 외함(ALL SUS)","600* 600*150","면"]
[null,null,"3912110121654352","분전반 외함(ALL SUS)","600* 700*150","면"]
[null,null,"3912110320178178","배전반 부속재","DOOR HANDLE, PUSH TYPE","개"]
[null,null,"3912110320178179","배전반 부속재","ET","개"]
[null,null,"3912110320178180","배전반 부속재","NT","개"]
[null,null,"3912110320178186","배전반 부속재","NAME PLATE, CARD HOLDER","개"]
[null,null,"3912110420179148","아크릴 명판","60*350","EA"]
[null,null,"3912110420179154","아크릴 명판","20* 50","EA"]
[null,null,"3912172120173109","베이크라이트판","9.0tx1000x1000","매"]
[null,null,"3912161620267304","배선용차단기(ABS-34)","4P 30AF 20AT","EA"]
[null,null,"3912161620167029","배선용차단기(ABS-54)","4P 50AF 50AT","EA"]
[null,null,"3912161420167114","누전차단기(32KGRc)","2P 30AF 20AT","EA"]
[null,null,"3912161420167136","누전차단기(54c)","4P 50AF","EA"]
[null,null,"3912143520184926","모선접속바(BUS BAR)","2.0mm x 12mm","m"]
[null,null,"3912143520184927","모선접속바(BUS BAR)","3.0mm x 20mm","m"]
[null,null,"3912143210033786","러그단자","동관단자 1 HOLE 10 ㎟","개"]
[null,null,"3912143210033787","러그단자","동관단자 1 HOLE 16 ㎟","개"]
[null,null,"3912143221650908","압착단자","R형동선 나압착 2.5 ㎟","개"]
[null,null,"391115ZZ701Z0001","LED 다운라이트","12W","개"]
[null,null,"391115ZZ701Z0002","LED 다운라이트 철거",null,"개"]
[null,null,"391115ZZ701Z0003","LED 면조명","기존","개"]
[null,null,"391115ZZ701Z0004","LED 면조명 철거",null,"개"]
[null,null,"391115ZZ701Z0005","LED 원형직부등 철거",null,"개"]
[null,null,"391115ZZ701Z0006","LED 파이프펜던트","기존","개"]
[null,null,"391115ZZ701Z0007","LED 파이프펜던트 철거",null,"개"]
[null,null,"391115ZZ701Z0008","PVC함 철거",null,"면"]
[null,null,"391115ZZ701Z0009","기타 전기공사","배관, 배선정리","식"]
[null,null,"391115ZZ701Z0010","전등스위치 철거",null,"개"]
[null,null,"391115ZZ701Z0011","콘센트 철거",null,"개"]
[null,null,"ECA565826062","코어드릴","15.24cm","시간"]
[null,null,"L001010101000075","노 무 비","내선전공","인"]
[null,null,"L001010101000078","노 무 비","저압케이블전공","인"]
[null,null,"L001010501000116","노 무 비","변전전공","인"]
[null,null,"L001010101000002","노 무 비","보통인부","인"]
[null,null,"L001010101000015","노 무 비","착암공","인"]

{"sheet":"목차","index":11,"n_rows":31,"n_cols":8,"rows_kept":31,"cut":false,"hidden":true,"merged":[[1,7,2,7],[1,3,2,3],[1,4,2,4],[1,5,2,5],[1,6,2,6]]}
["총줄수->",32,null,"[ 교육시설(서일관) 승강기 증축공사 및 리모델링 전기공사 ]"]
["번호","공종코드","…","구  분","내           용","단위","수량","비               고"]
[]
[null,null,null,"전체 집계표*"," 1-1.철거공사","식",1,"전체집계표* - 1"]
[null,null,null,"전체 집계표*"," 1-2.전력간선공사","식",1,"전체집계표* - 38"]
[null,null,null,"전체 집계표*"," 1-3.전등설비공사","식",1,"전체집계표* - 75"]
[null,null,null,"전체 집계표*"," 1-4.전열설비공사","식",1,"전체집계표* - 112"]
[null,null,null,"전체 집계표*"," 2-1.철거공사","식",1,"전체집계표* - 149"]
[null,null,null,"전체 집계표*"," 2-2.전력간선공사","식",1,"전체집계표* - 186"]
[null,null,null,"전체 집계표*"," 2-3.전등설비공사","식",1,"전체집계표* - 223"]
[null,null,null,"전체 집계표*"," 2-4.전열설비공사","식",1,"전체집계표* - 260"]
[null,null,null,"기본 산출서"," 1.엘리베이터","식",1]
[null,null,null,"기본 산출서*"," 1-1.철거공사","식",1,"기본산출서* - 1"]
[null,null,null,"기본 산출서*"," 1-2.전력간선공사","식",1,"기본산출서* - 47"]
[null,null,null,"기본 산출서*"," 1-3.전등설비공사","식",1,"기본산출서* - 93"]
[null,null,null,"기본 산출서*"," 1-4.전열설비공사","식",1,"기본산출서* - 185"]
[null,null,null,"기본 산출서"," 2.화장실","식",1]
[null,null,null,"기본 산출서*"," 2-1.철거공사","식",1,"기본산출서* - 231"]
[null,null,null,"기본 산출서*"," 2-2.전력간선공사","식",1,"기본산출서* - 277"]
[null,null,null,"기본 산출서*"," 2-3.전등설비공사","식",1,"기본산출서* - 323"]
[null,null,null,"기본 산출서*"," 2-4.전열설비공사","식",1,"기본산출서* - 369"]
[null,null,null,"목록별 산출서"," 1.엘리베이터","식",1]
[null,null,null,"목록별 산출서*"," 1-1.철거공사","식",1,"목록별산출서* - 4"]
[null,null,null,"목록별 산출서*"," 1-2.전력간선공사","식",1,"목록별산출서* - 46"]
[null,null,null,"목록별 산출서*"," 1-3.전등설비공사","식",1,"목록별산출서* - 88"]
[null,null,null,"목록별 산출서*"," 1-4.전열설비공사","식",1,"목록별산출서* - 172"]
[null,null,null,"목록별 산출서"," 2.화장실","식",1]
[null,null,null,"목록별 산출서*"," 2-1.철거공사","식",1,"목록별산출서* - 214"]
[null,null,null,"목록별 산출서*"," 2-2.전력간선공사","식",1,"목록별산출서* - 256"]
[null,null,null,"목록별 산출서*"," 2-3.전등설비공사","식",1,"목록별산출서* - 298"]
[null,null,null,"목록별 산출서*"," 2-4.전열설비공사","식",1,"목록별산출서* - 340"]

{"sheet":"산출집계","index":12,"n_rows":280,"n_cols":10,"rows_kept":280,"cut":false,"hidden":true,"merged":[[222,3,222,24],[259,3,259,24],[0,3,0,24],[37,3,37,24],[74,3,74,24],[111,3,111,24],[148,3,148,24],[185,3,185,24]]}
["총줄수->",296,2,"1.엘리베이터::1-1.철거공사"]
[]
[null,null,null,"명 칭","규 격","단위",null,"계","할증(%)","소계"]
[]
[null,null,null,"LED 면조명 철거","(철거(30%))","개","철거(30%)",{"$f":"IF(I5<>0,IF(TRUNC(J5*(I5+100)/100,0)<>0,TRUNC(J5*(I5+100)/100,0),  ),IF(J5<>0,J5,  ))","v":17},null,17]
[null,null,null,"LED 원형직부등 철거","(철거(30%))","개","철거(30%)",1,null,1]
[null,null,null,"LED 파이프펜던트 철거","(철거(30%))","개","철거(30%)",2,null,2]
[null,null,null,"기타 전기공사","배관, 배선정리(산출계상)","식","산출계상",7,null,7]
[null,null,null,"전등스위치 철거","(철거(30%))","개","철거(30%)",8,null,8]
[null,null,null,"콘센트 철거","(철거(30%))","개","철거(30%)",4,null,4]
[]
[]
[]
[]
[]
[]
[]
[]
[]
[]
[]
[]
[]
[]
[]
[]
[]
[]
[]
[]
[]
[]
[]
[]
[]
[]
[]
[null,"공종줄",null,"1.엘리베이터::1-2.전력간선공사"]
[]
[null,null,null,"명 칭","규 격","단위",null,"계","할증(%)","소계"]
[]
[null,null,null,"1종금속제가요전선관","42 mm 일반-비방수","M",null,{"$f":"IF(I42<>0,IF(TRUNC(J42*(I42+100)/100,0)<>0,TRUNC(J42*(I42+100)/100,0),  ),IF(J42<>0,J42,  ))","v":3},10,{"$f":"TRUNC(기본산출서!F92,0)","v":3}]
[null,null,null,"1종금속제가요전선관","54 mm 일반-비방수","M",null,55,10,{"$f":"TRUNC(기본산출서!G92,0)","v":50}]
[null,null,null,"접지용비닐절연전선(F-GV)","10㎟","M",null,3,10,{"$f":"TRUNC(기본산출서!H92,0)","v":3}]
[null,null,null,"접지용비닐절연전선(F-GV)","16㎟","M",null,55,10,{"$f":"TRUNC(기본산출서!I92,0)","v":50}]
[null,null,null,"폴리에틸렌 난연케이블","0.6/1kv F-CV 4C×10㎟","M",null,3,5,{"$f":"TRUNC(기본산출서!J92,0)","v":3}]
[null,null,null,"폴리에틸렌 난연케이블","0.6/1kv F-CV 4C×16㎟","M",null,52,5,{"$f":"TRUNC(기본산출서!K92,0)","v":50}]
[null,null,null,"배선용차단기(ABS-54)","4P 50AF 50AT","EA",null,1,null,{"$f":"IF(AND(TRUNC(기본산출서!L92,1)>0,TRUNC(기본산출서!L92,1)<1),1,TRUNC(기본산출서!L92+0.5,0))","v":1}]
[null,null,null,"러그단자","동관단자 1 HOLE 10 ㎟","개",null,10,null,{"$f":"IF(AND(TRUNC(기본산출서!M92,1)>0,TRUNC(기본산출서!M92,1)<1),1,TRUNC(기본산출서!M92+0.5,0))","v":10}]
[null,null,null,"러그단자","동관단자 1 HOLE 16 ㎟","개",null,10,null,{"$f":"IF(AND(TRUNC(기본산출서!N92,1)>0,TRUNC(기본산출서!N92,1)<1),1,TRUNC(기본산출서!N92+0.5,0))","v":10}]
[null,null,null,"LP-ELEV 분전반","600Wx600Hx150D","면",null,1,null,{"$f":"TRUNC(기본산출서!O92,0)","v":1}]
[]
[]
[]
[]
[]
[]
[]
[]
[]
[]
[]
[]
[]
[]
[]
[]
[]
[]
[]
[]
[]
[]
[]
[null,"공종줄",null,"1.엘리베이터::1-3.전등설비공사"]
[]
[null,null,null,"명 칭","규 격","단위",null,"계","할증(%)","소계"]
[]
[null,null,null,"1종금속제가요전선관","16 mm 일반-비방수","M",null,{"$f":"IF(I79<>0,IF(TRUNC(J79*(I79+100)/100,0)<>0,TRUNC(J79*(I79+100)/100,0),  ),IF(J79<>0,J79,  ))","v":159},10,{"$f":"TRUNC(기본산출서!F184,0)","v":145}]
[null,null,null,"스위치박스","1 개용 54 mm","개",null,5,null,{"$f":"IF(AND(TRUNC(기본산출서!G184,1)>0,TRUNC(기본산출서!G184,1)<1),1,TRUNC(기본산출서!G184+0.5,0))","v":5}]
[null,null,null,"스위치박스","2 개용 54 mm","개",null,2,null,{"$f":"IF(AND(TRUNC(기본산출서!H184,1)>0,TRUNC(기본산출서!H184,1)<1),1,TRUNC(기본산출서!H184+0.5,0))","v":2}]
[null,null,null,"450/750V 내열비닐절연전선","HFIX 1.78mm(2.5㎟)","M",null,478,10,{"$f":"TRUNC(기본산출서!I184,0)","v":435}]
[null,null,null,"매입스위치","250V 1로1구","개",null,1,null,{"$f":"IF(AND(TRUNC(기본산출서!J184,1)>0,TRUNC(기본산출서!J184,1)<1),1,TRUNC(기본산출서!J184+0.5,0))","v":1}]
[null,null,null,"매입스위치","250V 1로2구","개",null,1,null,{"$f":"IF(AND(TRUNC(기본산출서!K184,1)>0,TRUNC(기본산출서!K184,1)<1),1,TRUNC(기본산출서!K184+0.5,0))","v":1}]
[null,null,null,"매입스위치","250V 1로3구","개",null,3,null,{"$f":"IF(AND(TRUNC(기본산출서!L184,1)>0,TRUNC(기본산출서!L184,1)<1),1,TRUNC(기본산출서!L184+0.5,0))","v":3}]
[null,null,null,"매입스위치","250V 1로4구","개",null,2,null,{"$f":"IF(AND(TRUNC(기본산출서!M184,1)>0,TRUNC(기본산출서!M184,1)<1),1,TRUNC(기본산출서!M184+0.5,0))","v":2}]
[null,null,null,"LED 면조명","기존","개",null,13,null,{"$f":"IF(AND(TRUNC(기본산출서!N184,1)>0,TRUNC(기본산출서!N184,1)<1),1,TRUNC(기본산출서!N184+0.5,0))","v":13}]
[null,null,null,"LED 파이프펜던트","기존","개",null,2,null,{"$f":"IF(AND(TRUNC(기본산출서!O184,1)>0,TRUNC(기본산출서!O184,1)<1),1,TRUNC(기본산출서!O184+0.5,0))","v":2}]
[]
[]
[]
[]
[]
[]
[]
[]
[]
[]
[]
[]
[]
[]
[]
[]
[]
[]
[]
[]
[]
[]
[]
[null,"공종줄",null,"1.엘리베이터::1-4.전열설비공사"]
[]
[null,null,null,"명 칭","규 격","단위",null,"계","할증(%)","소계"]
[]
[null,null,null,"합성수지제 가요전선관","CD-난연성 16㎜","M",null,{"$f":"IF(I116<>0,IF(TRUNC(J116*(I116+100)/100,0)<>0,TRUNC(J116*(I116+100)/100,0),  ),IF(J116<>0,J116,  ))","v":40},10,{"$f":"TRUNC(기본산출서!F230,0)","v":37}]
[null,null,null,"1종금속제가요전선관","16 mm 일반-비방수","M",null,170,10,{"$f":"TRUNC(기본산출서!G230,0)","v":155}]
[null,null,null,"1종금속제가요전선관","커넥터, 16 mm 일반-비방수","개",null,30,null,{"$f":"IF(AND(TRUNC(기본산출서!H230,1)>0,TRUNC(기본산출서!H230,1)<1),1,TRUNC(기본산출서!H230+0.5,0))","v":30}]
[null,null,null,"아우트렛박스","8각 54㎜","개",null,15,null,{"$f":"IF(AND(TRUNC(기본산출서!I230,1)>0,TRUNC(기본산출서!I230,1)<1),1,TRUNC(기본산출서!I230+0.5,0))","v":15}]
[null,null,null,"스위치박스","1 개용 54 mm","개",null,15,null,{"$f":"IF(AND(TRUNC(기본산출서!J230,1)>0,TRUNC(기본산출서!J230,1)<1),1,TRUNC(기본산출서!J230+0.5,0))","v":15}]
[null,null,null,"아우트렛박스 커버","커버, 8각, 평형","개",null,15,null,{"$f":"IF(AND(TRUNC(기본산출서!K230,1)>0,TRUNC(기본산출서!K230,1)<1),1,TRUNC(기본산출서!K230+0.5,0))","v":15}]
[null,null,null,"450/750V 내열비닐절연전선","HFIX 2.25mm(4㎟)","M",null,634,10,{"$f":"TRUNC(기본산출서!L230,0)","v":577}]
[null,null,null,"콘센트","매입-접지형, 250V 2구","개",null,15,null,{"$f":"IF(AND(TRUNC(기본산출서!M230,1)>0,TRUNC(기본산출서!M230,1)<1),1,TRUNC(기본산출서!M230+0.5,0))","v":15}]
[null,null,null,"누전차단기(32KGRc)","2P 30AF 20AT","EA",null,5,null,{"$f":"IF(AND(TRUNC(기본산출서!N230,1)>0,TRUNC(기본산출서!N230,1)<1),1,TRUNC(기본산출서!N230+0.5,0))","v":5}]
[null,null,null,"배관용 홈파기","Φ22이하","M",null,37,null,{"$f":"TRUNC(기본산출서!O230,0)","v":37}]
[null,null,null,"벽관통 구멍(코어드릴)","Φ50-벽두께 25cm","개소",null,5,null,{"$f":"IF(AND(TRUNC(기본산출서!P230,1)>0,TRUNC(기본산출서!P230,1)<1),1,TRUNC(기본산출서!P230+0.5,0))","v":5}]
[]
[]
[]
[]
[]
[]
[]
[]
[]
[]
[]
[]
[]
[]
[]
[]
[]
[]
[]
[]
[]
[]
[null,"공종줄",null,"2.화장실::2-1.철거공사"]
[]
[null,null,null,"명 칭","규 격","단위",null,"계","할증(%)","소계"]
[]
[null,null,null,"LED 다운라이트 철거","(철거(30%))","개","철거(30%)",{"$f":"IF(I153<>0,IF(TRUNC(J153*(I153+100)/100,0)<>0,TRUNC(J153*(I153+100)/100,0),  ),IF(J153<>0,J153,  ))","v":85},null,85]
[null,null,null,"PVC함 철거","(철거(30%))","면","철거(30%)",{"$f":"IF(I154<>0,IF(TRUNC(J154*(I154+100)/100,0)<>0,TRUNC(J154*(I154+100)/100,0),  ),IF(J154<>0,J154,  ))","v":5},null,5]
[null,null,null,"전등스위치 철거","(철거(30%))","개","철거(30%)",{"$f":"IF(I155<>0,IF(TRUNC(J155*(I155+100)/100,0)<>0,TRUNC(J155*(I155+100)/100,0),  ),IF(J155<>0,J155,  ))","v":7},null,7]
[null,null,null,"콘센트 철거","(철거(30%))","개","철거(30%)",{"$f":"IF(I156<>0,IF(TRUNC(J156*(I156+100)/100,0)<>0,TRUNC(J156*(I156+100)/100,0),  ),IF(J156<>0,J156,  ))","v":15},null,15]
[]
[]
[]
[]
[]
[]
[]
[]
[]
[]
[]
[]
[]
[]
[]
[]
[]
[]
[]
[]
[]
[]
[]
[]
[]
[]
[]
[]
[]
[null,"공종줄",null,"2.화장실::2-2.전력간선공사"]
[]
[null,null,null,"명 칭","규 격","단위",null,"계","할증(%)","소계"]
[]
[null,null,null,"1종금속제가요전선관","54 mm 일반-비방수","M",null,{"$f":"IF(I190<>0,IF(TRUNC(J190*(I190+100)/100,0)<>0,TRUNC(J190*(I190+100)/100,0),  ),IF(J190<>0,J190,  ))","v":66},10,{"$f":"TRUNC(기본산출서!F322,0)","v":60}]
[null,null,null,"전선덕트","알루미늄 150x100mm","M",null,2,5,{"$f":"TRUNC(기본산출서!G322,0)","v":2}]
[null,null,null,"접지용비닐절연전선(F-GV)","16㎟","M",null,99,10,{"$f":"TRUNC(기본산출서!H322,0)","v":90}]
[null,null,null,"폴리에틸렌 난연케이블","0.6/1kv F-CV 4C×16㎟","M",null,94,5,{"$f":"TRUNC(기본산출서!I322,0)","v":90}]
[null,null,null,"배선용차단기(ABS-54)","4P 50AF 50AT","EA",null,1,null,{"$f":"IF(AND(TRUNC(기본산출서!J322,1)>0,TRUNC(기본산출서!J322,1)<1),1,TRUNC(기본산출서!J322+0.5,0))","v":1}]
[null,null,null,"러그단자","동관단자 1 HOLE 16 ㎟","개",null,10,null,{"$f":"IF(AND(TRUNC(기본산출서!K322,1)>0,TRUNC(기본산출서!K322,1)<1),1,TRUNC(기본산출서!K322+0.5,0))","v":10}]
[null,null,null,"벽관통 구멍(코어드릴)","Φ50-벽두께 25cm","개소",null,1,null,{"$f":"IF(AND(TRUNC(기본산출서!L322,1)>0,TRUNC(기본산출서!L322,1)<1),1,TRUNC(기본산출서!L322+0.5,0))","v":1}]
[null,null,null,"LP-화장실 분전반","600Wx700Hx150D","면",null,1,null,{"$f":"TRUNC(기본산출서!M322,0)","v":1}]
[]
[]
[]
[]
[]
[]
[]
[]
[]
[]
[]
[]
[]
[]
[]
[]
[]
[]
[]
[]
[]
[]
[]
[]
[]
[null,"공종줄",null,"2.화장실::2-3.전등설비공사"]
[]
[null,null,null,"명 칭","규 격","단위",null,"계","할증(%)","소계"]
[]
[null,null,null,"합성수지제 가요전선관","CD-난연성 16㎜","M",null,{"$f":"IF(I227<>0,IF(TRUNC(J227*(I227+100)/100,0)<>0,TRUNC(J227*(I227+100)/100,0),  ),IF(J227<>0,J227,  ))","v":14},10,{"$f":"TRUNC(기본산출서!F368,0)","v":13}]
[null,null,null,"1종금속제가요전선관","16 mm 일반-방수","M",null,240,10,{"$f":"TRUNC(기본산출서!G368,0)","v":219}]
[null,null,null,"1종금속제가요전선관","커넥터, 16 mm 일반-방수","개",null,150,null,{"$f":"IF(AND(TRUNC(기본산출서!H368,1)>0,TRUNC(기본산출서!H368,1)<1),1,TRUNC(기본산출서!H368+0.5,0))","v":150}]
[null,null,null,"아우트렛박스","중형4각 54㎜","개",null,75,null,{"$f":"IF(AND(TRUNC(기본산출서!I368,1)>0,TRUNC(기본산출서!I368,1)<1),1,TRUNC(기본산출서!I368+0.5,0))","v":75}]
[null,null,null,"스위치박스","1 개용 54 mm","개",null,7,null,{"$f":"IF(AND(TRUNC(기본산출서!J368,1)>0,TRUNC(기본산출서!J368,1)<1),1,TRUNC(기본산출서!J368+0.5,0))","v":7}]
[null,null,null,"아우트렛박스 커버","커버, 4각, 평형","개",null,75,null,{"$f":"IF(AND(TRUNC(기본산출서!K368,1)>0,TRUNC(기본산출서!K368,1)<1),1,TRUNC(기본산출서!K368+0.5,0))","v":75}]
[null,null,null,"450/750V 내열비닐절연전선","HFIX 1.78mm(2.5㎟)","M",null,784,10,{"$f":"TRUNC(기본산출서!L368,0)","v":713}]
[null,null,null,"매입스위치","250V 1로1구","개",null,7,null,{"$f":"IF(AND(TRUNC(기본산출서!M368,1)>0,TRUNC(기본산출서!M368,1)<1),1,TRUNC(기본산출서!M368+0.5,0))","v":7}]
[null,null,null,"배관용 홈파기","Φ22이하","M",null,9,null,{"$f":"TRUNC(기본산출서!N368,0)","v":9}]
[null,null,null,"LED 다운라이트","12W","개",null,75,null,{"$f":"IF(AND(TRUNC(기본산출서!O368,1)>0,TRUNC(기본산출서!O368,1)<1),1,TRUNC(기본산출서!O368+0.5,0))","v":75}]
[]
[]
[]
[]
[]
[]
[]
[]
[]
[]
[]
[]
[]
[]
[]
[]
[]
[]
[]
[]
[]
[]
[]
[null,"공종줄",null,"2.화장실::2-4.전열설비공사"]
[]
[null,null,null,"명 칭","규 격","단위",null,"계","할증(%)","소계"]
[]
[null,null,null,"합성수지제 가요전선관","CD-난연성 16㎜","M",null,{"$f":"IF(I264<>0,IF(TRUNC(J264*(I264+100)/100,0)<>0,TRUNC(J264*(I264+100)/100,0),  ),IF(J264<>0,J264,  ))","v":22},10,{"$f":"TRUNC(기본산출서!F552,0)","v":20}]
[null,null,null,"1종금속제가요전선관","16 mm 일반-방수","M",null,236,10,{"$f":"TRUNC(기본산출서!G552,0)","v":215}]
[null,null,null,"1종금속제가요전선관","28 mm 일반-방수","M",null,52,10,{"$f":"TRUNC(기본산출서!H552,0)","v":48}]
[null,null,null,"1종금속제가요전선관","커넥터, 16 mm 일반-방수","개",null,20,null,{"$f":"IF(AND(TRUNC(기본산출서!I552,1)>0,TRUNC(기본산출서!I552,1)<1),1,TRUNC(기본산출서!I552+0.5,0))","v":20}]
[null,null,null,"아우트렛박스","8각 54㎜","개",null,10,null,{"$f":"IF(AND(TRUNC(기본산출서!J552,1)>0,TRUNC(기본산출서!J552,1)<1),1,TRUNC(기본산출서!J552+0.5,0))","v":10}]
[null,null,null,"스위치박스","1 개용 54 mm","개",null,10,null,{"$f":"IF(AND(TRUNC(기본산출서!K552,1)>0,TRUNC(기본산출서!K552,1)<1),1,TRUNC(기본산출서!K552+0.5,0))","v":10}]
[null,null,null,"PVC BOX 4각","4 각","개",null,1,null,{"$f":"IF(AND(TRUNC(기본산출서!L552,1)>0,TRUNC(기본산출서!L552,1)<1),1,TRUNC(기본산출서!L552+0.5,0))","v":1}]
[null,null,null,"아우트렛박스 커버","커버, 8각, 평형","개",null,10,null,{"$f":"IF(AND(TRUNC(기본산출서!M552,1)>0,TRUNC(기본산출서!M552,1)<1),1,TRUNC(기본산출서!M552+0.5,0))","v":10}]
[null,null,null,"450/750V 내열비닐절연전선","HFIX 2.25mm(4㎟)","M",null,775,10,{"$f":"TRUNC(기본산출서!N552,0)","v":705}]
[null,null,null,"접지용비닐절연전선(F-GV)","2.5㎟","M",null,52,10,{"$f":"TRUNC(기본산출서!O552,0)","v":48}]
[null,null,null,"폴리에틸렌 난연케이블","0.6/1kv F-CV 4C×2.5㎟","M",null,50,5,{"$f":"TRUNC(기본산출서!P552,0)","v":48}]
[null,null,null,"콘센트","노출-접지형, 250V 원형","개",null,10,null,{"$f":"IF(AND(TRUNC(기본산출서!Q552,1)>0,TRUNC(기본산출서!Q552,1)<1),1,TRUNC(기본산출서!Q552+0.5,0))","v":10}]
[null,null,null,"방우콘센트","매입-접지형, 250V 2구","개",null,10,null,{"$f":"IF(AND(TRUNC(기본산출서!R552,1)>0,TRUNC(기본산출서!R552,1)<1),1,TRUNC(기본산출서!R552+0.5,0))","v":10}]
[null,null,null,"배선용차단기(ABS-34)","4P 30AF 20AT","EA",null,1,null,{"$f":"IF(AND(TRUNC(기본산출서!S552,1)>0,TRUNC(기본산출서!S552,1)<1),1,TRUNC(기본산출서!S552+0.5,0))","v":1}]
[null,null,null,"압착단자","R형동선 나압착 2.5 ㎟","개",null,5,null,{"$f":"IF(AND(TRUNC(기본산출서!T552,1)>0,TRUNC(기본산출서!T552,1)<1),1,TRUNC(기본산출서!T552+0.5,0))","v":5}]
[null,null,null,"배관용 홈파기","Φ22이하","M",null,20,null,{"$f":"TRUNC(기본산출서!U552,0)","v":20}]
[null,null,null,"벽관통 구멍(코어드릴)","Φ50-벽두께 25cm","개소",null,10,null,{"$f":"IF(AND(TRUNC(기본산출서!V552,1)>0,TRUNC(기본산출서!V552,1)<1),1,TRUNC(기본산출서!V552+0.5,0))","v":10}]

{"sheet":"기본산출서","index":13,"n_rows":552,"n_cols":95,"rows_kept":552,"cut":false,"hidden":true,"merged":[[322,2,322,25],[368,2,368,25],[0,2,0,25],[46,2,46,25],[92,2,92,25],[184,2,184,25],[230,2,230,25],[276,2,276,25]]}
["총줄수->","552","1.엘리베이터::1-1.철거공사"]
[null,"2.0"]
[null,null,"No","산 출 목 록 / 산 출 수 식","단위/계","LED면조명철거철거(30%)","LED원형직부등철거철거(30%)","LED파이프펜던트철거철거(30%)","기타전기공사산출계상","전등스위치철거철거(30%)","콘센트철거철거(30%)"]
[]
[null,null,null,"LED 면조명 철거",null,1]
[null,null,"1",{"$f":"목록별산출서!E5","v":"2+1+1+2+4+4+3"},{"$f":"IF(egTextCal(D6)<>0, egTextCal(D6),\"\")","v":17},{"$f":"IF(E6*F5<>0,E6*F5,  )","v":17},null,null,null,null,null,null,null,null,null,null,null,null,null,null,null,null,null,null,null,null,null,null,null,null,null,null,null,null,null,null,null,null,null,null,null,null,null,null,null,null,null,null,null,null,null,null,null,null,null,null,null,null,null,null,null,null,null,null,null,null,null,null,null,null,null,null,null,null,null,null,null,null,{"$f":"F6","v":17}]
[null,null,null,"LED 파이프펜던트 철거",null,null,null,1]
[null,null,"2",{"$f":"목록별산출서!E6","v":"2"},{"$f":"IF(egTextCal(D8)<>0, egTextCal(D8),\"\")","v":2},null,null,{"$f":"IF(E8*H7<>0,E8*H7,  )","v":2},null,null,null,null,null,null,null,null,null,null,null,null,null,null,null,null,null,null,null,null,null,null,null,null,null,null,null,null,null,null,null,null,null,null,null,null,null,null,null,null,null,null,null,null,null,null,null,null,null,null,null,null,null,null,null,null,null,null,null,null,null,null,null,null,null,null,null,null,null,null,null,null,{"$f":"H8","v":2}]
[null,null,null,"LED 원형직부등 철거",null,null,1]
[null,null,"3",{"$f":"목록별산출서!E7","v":"1"},{"$f":"IF(egTextCal(D10)<>0, egTextCal(D10),\"\")","v":1},null,{"$f":"IF(E10*G9<>0,E10*G9,  )","v":1},null,null,null,null,null,null,null,null,null,null,null,null,null,null,null,null,null,null,null,null,null,null,null,null,null,null,null,null,null,null,null,null,null,null,null,null,null,null,null,null,null,null,null,null,null,null,null,null,null,null,null,null,null,null,null,null,null,null,null,null,null,null,null,null,null,null,null,null,null,null,null,null,{"$f":"G10","v":1}]
[null,null,null,"전등스위치 철거",null,null,null,null,null,1]
[null,null,"4",{"$f":"목록별산출서!E8","v":"1+1+1+2+2+1"},{"$f":"IF(egTextCal(D12)<>0, egTextCal(D12),\"\")","v":8},null,null,null,null,{"$f":"IF(E12*J11<>0,E12*J11,  )","v":8},null,null,null,null,null,null,null,null,null,null,null,null,null,null,null,null,null,null,null,null,null,null,null,null,null,null,null,null,null,null,null,null,null,null,null,null,null,null,null,null,null,null,null,null,null,null,null,null,null,null,null,null,null,null,null,null,null,null,null,null,null,null,null,null,null,null,null,null,null,null,null,null,{"$f":"J12","v":8}]
[null,null,null,"콘센트 철거",null,null,null,null,null,null,1]
[null,null,"5",{"$f":"목록별산출서!E9","v":"2+2"},{"$f":"IF(egTextCal(D14)<>0, egTextCal(D14),\"\")","v":4},null,null,null,null,null,{"$f":"IF(E14*K13<>0,E14*K13,  )","v":4},null,null,null,null,null,null,null,null,null,null,null,null,null,null,null,null,null,null,null,null,null,null,null,null,null,null,null,null,null,null,null,null,null,null,null,null,null,null,null,null,null,null,null,null,null,null,null,null,null,null,null,null,null,null,null,null,null,null,null,null,null,null,null,null,null,null,null,null,null,null,null,null,{"$f":"K14","v":4}]
[null,null,null,"기타 전기공사",null,null,null,null,1]
[null,null,"6",{"$f":"목록별산출서!E10","v":"7"},{"$f":"IF(egTextCal(D16)<>0, egTextCal(D16),\"\")","v":7},null,null,null,{"$f":"IF(E16*I15<>0,E16*I15,  )","v":7},null,null,null,null,null,null,null,null,null,null,null,null,null,null,null,null,null,null,null,null,null,null,null,null,null,null,null,null,null,null,null,null,null,null,null,null,null,null,null,null,null,null,null,null,null,null,null,null,null,null,null,null,null,null,null,null,null,null,null,null,null,null,null,null,null,null,null,null,null,null,null,null,{"$f":"I16","v":7}]
[]
[null,null,"7"]
[]
[null,null,"8"]
[]
[null,null,"9"]
[]
[null,null,"10"]
[]
[null,null,"11"]
[]
[null,null,"12"]
[]
[null,null,"13"]
[]
[null,null,"14"]
[]
[null,null,"15"]
[]
[null,null,"16"]
[]
[null,null,"17"]
[]
[null,null,"18"]
[]
[null,null,"19"]
[]
[null,null,"20"]
[null,"산출계",null,"소계","식",{"$f":"SUM(CA6:CA44)","v":17},1,2,7,8,4]
[null,null,"21","소계*(1)[공종]개소",1,{"$f":"E46*F45","v":17},{"$f":"E46*G45","v":1},{"$f":"E46*H45","v":2},{"$f":"E46*I45","v":7},{"$f":"E46*J45","v":8},{"$f":"E46*K45","v":4}]
[null,"공종줄","1.엘리베이터::1-2.전력간선공사"]
[null,null,null,null,null,"1종가요","1종가요","접지전선","접지전선","케이블","케이블","MCCBABS","러그단자","러그단자",null,null,null,null,null,null,null,null,null,null,null,null,null,null,null,null,null,null,null,null,null,null,null,null,null,null,null,null,null,null,null,null,null,null,null,null,null,null,null,null,null,null,null,null,null,null,null,null,null,null,null,null,null,null,null,null,null,null,null,null,null,null,null,null,"1종가요","1종가요","접지전선","접지전선","케이블","케이블","MCCBABS","러그단자","러그단자"]
[null,null,"No","산 출 목 록 / 산 출 수 식","단위/계","전선관","전선관","F-GV","F-GV","F-CV","F-CV","4P50AF","동1홀","동1홀","LP-ELEV분전반",null,null,null,null,null,null,null,null,null,null,null,null,null,null,null,null,null,null,null,null,null,null,null,null,null,null,null,null,null,null,null,null,null,null,null,null,null,null,null,null,null,null,null,null,null,null,null,null,null,null,null,null,null,null,null,null,null,null,null,null,null,null,null,"전선관","전선관","F-GV","F-GV","F-CV","F-CV","4P50AF","동1홀","동1홀","LP-ELEV분전반"]
[null,null,null,null,null,"일반42c","일반54c","10_㎟","16_㎟","10_㎟/4c","16_㎟/4c","50AT","10㎟","16㎟",null,null,null,null,null,null,null,null,null,null,null,null,null,null,null,null,null,null,null,null,null,null,null,null,null,null,null,null,null,null,null,null,null,null,null,null,null,null,null,null,null,null,null,null,null,null,null,null,null,null,null,null,null,null,null,null,null,null,null,null,null,null,null,null,"일반42c","일반54c","10_㎟","16_㎟","10_㎟/4c","16_㎟/4c","50AT","10㎟","16㎟"]
[null,null,null,"배선용차단기(ABS-54) 4P 50AF 50AT",null,null,null,null,null,null,null,1]
[null,null,"1",{"$f":"목록별산출서!E47","v":"1"},{"$f":"IF(egTextCal(D52)<>0, egTextCal(D52),\"\")","v":1},null,null,null,null,null,null,{"$f":"IF(E52*L51<>0,E52*L51,  )","v":1},null,null,null,null,null,null,null,null,null,null,null,null,null,null,null,null,null,null,null,null,null,null,null,null,null,null,null,null,null,null,null,null,null,null,null,null,null,null,null,null,null,null,null,null,null,null,null,null,null,null,null,null,null,null,null,null,null,null,null,null,null,null,null,null,null,null,null,null,null,null,null,null,{"$f":"L52","v":1}]
[null,null,null,"F-CV 4C×16㎟, F-GV 16SQ (FLEX 54C)",null,null,1,null,1,null,1]
[null,null,"2",{"$f":"목록별산출서!E48","v":"15+5+5+5+5+5+(10)"},{"$f":"IF(egTextCal(D54)<>0, egTextCal(D54),\"\")","v":50},null,{"$f":"IF(E54*G53<>0,E54*G53,  )","v":50},null,{"$f":"IF(E54*I53<>0,E54*I53,  )","v":50},null,{"$f":"IF(E54*K53<>0,E54*K53,  )","v":50},null,null,null,null,null,null,null,null,null,null,null,null,null,null,null,null,null,null,null,null,null,null,null,null,null,null,null,null,null,null,null,null,null,null,null,null,null,null,null,null,null,null,null,null,null,null,null,null,null,null,null,null,null,null,null,null,null,null,null,null,null,null,null,null,null,null,null,null,{"$f":"G54","v":50},null,{"$f":"I54","v":50},null,{"$f":"K54","v":50}]
[null,null,null,"러그단자 동관단자 1 HOLE 16 ㎟",null,null,null,null,null,null,null,null,null,1]
[null,null,"3",{"$f":"목록별산출서!E51","v":"(4+1)*2"},{"$f":"IF(egTextCal(D56)<>0, egTextCal(D56),\"\")","v":10},null,null,null,null,null,null,null,null,{"$f":"IF(E56*N55<>0,E56*N55,  )","v":10},null,null,null,null,null,null,null,null,null,null,null,null,null,null,null,null,null,null,null,null,null,null,null,null,null,null,null,null,null,null,null,null,null,null,null,null,null,null,null,null,null,null,null,null,null,null,null,null,null,null,null,null,null,null,null,null,null,null,null,null,null,null,null,null,null,null,null,null,null,null,null,null,{"$f":"N56","v":10}]
[null,null,null,"LP-ELEV 분전반",null,null,null,null,null,null,null,null,null,null,1]
[null,null,"4",{"$f":"목록별산출서!E52","v":"1"},{"$f":"IF(egTextCal(D58)<>0, egTextCal(D58),\"\")","v":1},null,null,null,null,null,null,null,null,null,{"$f":"IF(E58*O57<>0,E58*O57,  )","v":1},null,null,null,null,null,null,null,null,null,null,null,null,null,null,null,null,null,null,null,null,null,null,null,null,null,null,null,null,null,null,null,null,null,null,null,null,null,null,null,null,null,null,null,null,null,null,null,null,null,null,null,null,null,null,null,null,null,null,null,null,null,null,null,null,null,null,null,null,null,null,null,null,{"$f":"O58","v":1}]
[]
[null,null,"5"]
[null,null,null,"F-CV 4C×10㎟, F-GV 10SQ (FLEX 42C)",null,1,null,1,null,1]
[null,null,"6",{"$f":"목록별산출서!E54","v":"3"},{"$f":"IF(egTextCal(D62)<>0, egTextCal(D62),\"\")","v":3},{"$f":"IF(E62*F61<>0,E62*F61,  )","v":3},null,{"$f":"IF(E62*H61<>0,E62*H61,  )","v":3},null,{"$f":"IF(E62*J61<>0,E62*J61,  )","v":3},null,null,null,null,null,null,null,null,null,null,null,null,null,null,null,null,null,null,null,null,null,null,null,null,null,null,null,null,null,null,null,null,null,null,null,null,null,null,null,null,null,null,null,null,null,null,null,null,null,null,null,null,null,null,null,null,null,null,null,null,null,null,null,null,null,null,null,null,{"$f":"F62","v":3},null,{"$f":"H62","v":3},null,{"$f":"J62","v":3}]
[null,null,null,"러그단자 동관단자 1 HOLE 10 ㎟",null,null,null,null,null,null,null,null,1]
[null,null,"7",{"$f":"목록별산출서!E57","v":"(4+1)*2"},{"$f":"IF(egTextCal(D64)<>0, egTextCal(D64),\"\")","v":10},null,null,null,null,null,null,null,{"$f":"IF(E64*M63<>0,E64*M63,  )","v":10},null,null,null,null,null,null,null,null,null,null,null,null,null,null,null,null,null,null,null,null,null,null,null,null,null,null,null,null,null,null,null,null,null,null,null,null,null,null,null,null,null,null,null,null,null,null,null,null,null,null,null,null,null,null,null,null,null,null,null,null,null,null,null,null,null,null,null,null,null,null,null,null,{"$f":"M64","v":10}]
[]
[null,null,"8"]
[]
[null,null,"9"]
[]
[null,null,"10"]
[]
[null,null,"11"]
[]
[null,null,"12"]
[]
[null,null,"13"]
[]
[null,null,"14"]
[]
[null,null,"15"]
[]
[null,null,"16"]
[]
[null,null,"17"]
[]
[null,null,"18"]
[]
[null,null,"19"]
[]
[null,null,"20"]
[null,"산출계",null,"소계","식",{"$f":"SUM(CA52:CA90)","v":3},50,3,50,3,50,1,10,10,1]
[null,null,"21","소계*(1)[공종]개소",1,{"$f":"E92*F91","v":3},{"$f":"E92*G91","v":50},{"$f":"E92*H91","v":3},{"$f":"E92*I91","v":50},{"$f":"E92*J91","v":3},{"$f":"E92*K91","v":50},{"$f":"E92*L91","v":1},{"$f":"E92*M91","v":10},{"$f":"E92*N91","v":10},{"$f":"E92*O91","v":1}]
[null,"공종줄","1.엘리베이터::1-3.전등설비공사"]
[null,null,null,null,null,"1종가요","스위치","스위치","전선","매입","매입","매입","매입",null,null,null,null,null,null,null,null,null,null,null,null,null,null,null,null,null,null,null,null,null,null,null,null,null,null,null,null,null,null,null,null,null,null,null,null,null,null,null,null,null,null,null,null,null,null,null,null,null,null,null,null,null,null,null,null,null,null,null,null,null,null,null,null,null,"1종가요","스위치","스위치","전선","매입","매입","매입","매입"]
[null,null,"No","산 출 목 록 / 산 출 수 식","단위/계","전선관","1구박스","2구박스","HFIX","스위치","스위치","스위치","스위치","LED면조명","LED파이프펜던트",null,null,null,null,null,null,null,null,null,null,null,null,null,null,null,null,null,null,null,null,null,null,null,null,null,null,null,null,null,null,null,null,null,null,null,null,null,null,null,null,null,null,null,null,null,null,null,null,null,null,null,null,null,null,null,null,null,null,null,null,null,null,null,"전선관","1구박스","2구박스","HFIX","스위치","스위치","스위치","스위치","LED면조명","LED파이프펜던트"]
[null,null,null,null,null,"일반16c","54mm","54mm","1.78mm","단로1구","단로2구","단로3구","단로4구",null,null,null,null,null,null,null,null,null,null,null,null,null,null,null,null,null,null,null,null,null,null,null,null,null,null,null,null,null,null,null,null,null,null,null,null,null,null,null,null,null,null,null,null,null,null,null,null,null,null,null,null,null,null,null,null,null,null,null,null,null,null,null,null,null,"일반16c","54mm","54mm","1.78mm","단로1구","단로2구","단로3구","단로4구"]
[null,null,null,"2층"]
[null,null,"1",null,{"$f":"IF(egTextCal(D98)<>0, egTextCal(D98),\"\")","v":""}]
[null,null,null,"HFIX 1.78mm(2.5㎟), 3L (FLEX 16C)",null,1,null,null,3]
[null,null,"2",{"$f":"목록별산출서!E90","v":"5+5+5+(10)"},{"$f":"IF(egTextCal(D100)<>0, egTextCal(D100),\"\")","v":25},{"$f":"IF(E100*F99<>0,E100*F99,  )","v":25},null,null,{"$f":"IF(E100*I99<>0,E100*I99,  )","v":75},null,null,null,null,null,null,null,null,null,null,null,null,null,null,null,null,null,null,null,null,null,null,null,null,null,null,null,null,null,null,null,null,null,null,null,null,null,null,null,null,null,null,null,null,null,null,null,null,null,null,null,null,null,null,null,null,null,null,null,null,null,null,null,null,null,null,null,null,null,{"$f":"F100","v":25},null,null,{"$f":"I100","v":75}]
[null,null,null,"LED 파이프펜던트",null,null,null,null,null,null,null,null,null,null,1]
[null,null,"3",{"$f":"목록별산출서!E92","v":"2"},{"$f":"IF(egTextCal(D102)<>0, egTextCal(D102),\"\")","v":2},null,null,null,null,null,null,null,null,null,{"$f":"IF(E102*O101<>0,E102*O101,  )","v":2},null,null,null,null,null,null,null,null,null,null,null,null,null,null,null,null,null,null,null,null,null,null,null,null,null,null,null,null,null,null,null,null,null,null,null,null,null,null,null,null,null,null,null,null,null,null,null,null,null,null,null,null,null,null,null,null,null,null,null,null,null,null,null,null,null,null,null,null,null,null,null,null,{"$f":"O102","v":2}]
[null,null,null,"매입스위치 250V 1로4구",null,null,null,1,null,null,null,null,1]
[null,null,"4",{"$f":"목록별산출서!E93","v":"1"},{"$f":"IF(egTextCal(D104)<>0, egTextCal(D104),\"\")","v":1},null,null,{"$f":"IF(E104*H103<>0,E104*H103,  )","v":1},null,null,null,null,{"$f":"IF(E104*M103<>0,E104*M103,  )","v":1},null,null,null,null,null,null,null,null,null,null,null,null,null,null,null,null,null,null,null,null,null,null,null,null,null,null,null,null,null,null,null,null,null,null,null,null,null,null,null,null,null,null,null,null,null,null,null,null,null,null,null,null,null,null,null,null,null,null,null,null,null,null,null,null,null,null,null,{"$f":"H104","v":1},null,null,null,null,{"$f":"M104","v":1}]
[]
[null,null,"5"]
[]
[null,null,"6"]
[null,null,null,"3층"]
[null,null,"7",null,{"$f":"IF(egTextCal(D110)<>0, egTextCal(D110),\"\")","v":""}]
[null,null,null,"HFIX 1.78mm(2.5㎟), 3L (FLEX 16C)",null,1,null,null,3]
[null,null,"8",{"$f":"목록별산출서!E98","v":"5+5+5+(10)"},{"$f":"IF(egTextCal(D112)<>0, egTextCal(D112),\"\")","v":25},{"$f":"IF(E112*F111<>0,E112*F111,  )","v":25},null,null,{"$f":"IF(E112*I111<>0,E112*I111,  )","v":75},null,null,null,null,null,null,null,null,null,null,null,null,null,null,null,null,null,null,null,null,null,null,null,null,null,null,null,null,null,null,null,null,null,null,null,null,null,null,null,null,null,null,null,null,null,null,null,null,null,null,null,null,null,null,null,null,null,null,null,null,null,null,null,null,null,null,null,null,null,{"$f":"F112","v":25},null,null,{"$f":"I112","v":75}]
[null,null,null,"LED 면조명",null,null,null,null,null,null,null,null,null,1]
[null,null,"9",{"$f":"목록별산출서!E100","v":"2"},{"$f":"IF(egTextCal(D114)<>0, egTextCal(D114),\"\")","v":2},null,null,null,null,null,null,null,null,{"$f":"IF(E114*N113<>0,E114*N113,  )","v":2},null,null,null,null,null,null,null,null,null,null,null,null,null,null,null,null,null,null,null,null,null,null,null,null,null,null,null,null,null,null,null,null,null,null,null,null,null,null,null,null,null,null,null,null,null,null,null,null,null,null,null,null,null,null,null,null,null,null,null,null,null,null,null,null,null,null,null,null,null,null,null,null,{"$f":"N114","v":2}]
[null,null,null,"매입스위치 250V 1로3구",null,null,1,null,null,null,null,1]
[null,null,"10",{"$f":"목록별산출서!E101","v":"1"},{"$f":"IF(egTextCal(D116)<>0, egTextCal(D116),\"\")","v":1},null,{"$f":"IF(E116*G115<>0,E116*G115,  )","v":1},null,null,null,null,{"$f":"IF(E116*L115<>0,E116*L115,  )","v":1},null,null,null,null,null,null,null,null,null,null,null,null,null,null,null,null,null,null,null,null,null,null,null,null,null,null,null,null,null,null,null,null,null,null,null,null,null,null,null,null,null,null,null,null,null,null,null,null,null,null,null,null,null,null,null,null,null,null,null,null,null,null,null,null,null,null,null,{"$f":"G116","v":1},null,null,null,null,{"$f":"L116","v":1}]
[]
[null,null,"11"]
[]
[null,null,"12"]
[null,null,null,"4층"]
[null,null,"13",null,{"$f":"IF(egTextCal(D122)<>0, egTextCal(D122),\"\")","v":""}]
[null,null,null,"HFIX 1.78mm(2.5㎟), 3L (FLEX 16C)",null,1,null,null,3]
[null,null,"14",{"$f":"목록별산출서!E106","v":"5+5+5+5+5+5+(10)"},{"$f":"IF(egTextCal(D124)<>0, egTextCal(D124),\"\")","v":40},{"$f":"IF(E124*F123<>0,E124*F123,  )","v":40},null,null,{"$f":"IF(E124*I123<>0,E124*I123,  )","v":120},null,null,null,null,null,null,null,null,null,null,null,null,null,null,null,null,null,null,null,null,null,null,null,null,null,null,null,null,null,null,null,null,null,null,null,null,null,null,null,null,null,null,null,null,null,null,null,null,null,null,null,null,null,null,null,null,null,null,null,null,null,null,null,null,null,null,null,null,null,{"$f":"F124","v":40},null,null,{"$f":"I124","v":120}]
[null,null,null,"LED 면조명",null,null,null,null,null,null,null,null,null,1]
[null,null,"15",{"$f":"목록별산출서!E108","v":"4"},{"$f":"IF(egTextCal(D126)<>0, egTextCal(D126),\"\")","v":4},null,null,null,null,null,null,null,null,{"$f":"IF(E126*N125<>0,E126*N125,  )","v":4},null,null,null,null,null,null,null,null,null,null,null,null,null,null,null,null,null,null,null,null,null,null,null,null,null,null,null,null,null,null,null,null,null,null,null,null,null,null,null,null,null,null,null,null,null,null,null,null,null,null,null,null,null,null,null,null,null,null,null,null,null,null,null,null,null,null,null,null,null,null,null,null,{"$f":"N126","v":4}]
[null,null,null,"매입스위치 250V 1로2구",null,null,1,null,null,null,1]
[null,null,"16",{"$f":"목록별산출서!E109","v":"1"},{"$f":"IF(egTextCal(D128)<>0, egTextCal(D128),\"\")","v":1},null,{"$f":"IF(E128*G127<>0,E128*G127,  )","v":1},null,null,null,{"$f":"IF(E128*K127<>0,E128*K127,  )","v":1},null,null,null,null,null,null,null,null,null,null,null,null,null,null,null,null,null,null,null,null,null,null,null,null,null,null,null,null,null,null,null,null,null,null,null,null,null,null,null,null,null,null,null,null,null,null,null,null,null,null,null,null,null,null,null,null,null,null,null,null,null,null,null,null,null,null,null,null,{"$f":"G128","v":1},null,null,null,{"$f":"K128","v":1}]
[null,null,null,"매입스위치 250V 1로4구",null,null,null,1,null,null,null,null,1]
[null,null,"17",{"$f":"목록별산출서!E111","v":"1"},{"$f":"IF(egTextCal(D130)<>0, egTextCal(D130),\"\")","v":1},null,null,{"$f":"IF(E130*H129<>0,E130*H129,  )","v":1},null,null,null,null,{"$f":"IF(E130*M129<>0,E130*M129,  )","v":1},null,null,null,null,null,null,null,null,null,null,null,null,null,null,null,null,null,null,null,null,null,null,null,null,null,null,null,null,null,null,null,null,null,null,null,null,null,null,null,null,null,null,null,null,null,null,null,null,null,null,null,null,null,null,null,null,null,null,null,null,null,null,null,null,null,null,null,{"$f":"H130","v":1},null,null,null,null,{"$f":"M130","v":1}]
[]
[null,null,"18"]
[]
[null,null,"19"]
[null,null,null,"5층"]
[null,null,"20",null,{"$f":"IF(egTextCal(D136)<>0, egTextCal(D136),\"\")","v":""}]
[null,null,null,"HFIX 1.78mm(2.5㎟), 3L (FLEX 16C)",null,1,null,null,3]
[null,null,"21",{"$f":"목록별산출서!E116","v":"5+5+5+5+5+5+(10)"},{"$f":"IF(egTextCal(D138)<>0, egTextCal(D138),\"\")","v":40},{"$f":"IF(E138*F137<>0,E138*F137,  )","v":40},null,null,{"$f":"IF(E138*I137<>0,E138*I137,  )","v":120},null,null,null,null,null,null,null,null,null,null,null,null,null,null,null,null,null,null,null,null,null,null,null,null,null,null,null,null,null,null,null,null,null,null,null,null,null,null,null,null,null,null,null,null,null,null,null,null,null,null,null,null,null,null,null,null,null,null,null,null,null,null,null,null,null,null,null,null,null,{"$f":"F138","v":40},null,null,{"$f":"I138","v":120}]
[]
[null,null,null,null,null,"1종가요","스위치","스위치","전선","매입","매입","매입","매입"]
[null,null,"No","산 출 목 록 / 산 출 수 식","단위/계","전선관","1구박스","2구박스","HFIX","스위치","스위치","스위치","스위치","LED면조명","LED파이프펜던트"]
[null,null,null,null,null,"일반16c","54mm","54mm","1.78mm","단로1구","단로2구","단로3구","단로4구"]
[null,null,null,"LED 면조명",null,null,null,null,null,null,null,null,null,1]
[null,null,"1",{"$f":"목록별산출서!E118","v":"4"},{"$f":"IF(egTextCal(D144)<>0, egTextCal(D144),\"\")","v":4},null,null,null,null,null,null,null,null,{"$f":"IF(E144*N143<>0,E144*N143,  )","v":4},null,null,null,null,null,null,null,null,null,null,null,null,null,null,null,null,null,null,null,null,null,null,null,null,null,null,null,null,null,null,null,null,null,null,null,null,null,null,null,null,null,null,null,null,null,null,null,null,null,null,null,null,null,null,null,null,null,null,null,null,null,null,null,null,null,null,null,null,null,null,null,null,{"$f":"N144","v":4}]
[null,null,null,"매입스위치 250V 1로1구",null,null,1,null,null,1]
[null,null,"2",{"$f":"목록별산출서!E119","v":"1"},{"$f":"IF(egTextCal(D146)<>0, egTextCal(D146),\"\")","v":1},null,{"$f":"IF(E146*G145<>0,E146*G145,  )","v":1},null,null,{"$f":"IF(E146*J145<>0,E146*J145,  )","v":1},null,null,null,null,null,null,null,null,null,null,null,null,null,null,null,null,null,null,null,null,null,null,null,null,null,null,null,null,null,null,null,null,null,null,null,null,null,null,null,null,null,null,null,null,null,null,null,null,null,null,null,null,null,null,null,null,null,null,null,null,null,null,null,null,null,null,null,null,null,{"$f":"G146","v":1},null,null,{"$f":"J146","v":1}]
[null,null,null,"매입스위치 250V 1로3구",null,null,1,null,null,null,null,1]
[null,null,"3",{"$f":"목록별산출서!E121","v":"1"},{"$f":"IF(egTextCal(D148)<>0, egTextCal(D148),\"\")","v":1},null,{"$f":"IF(E148*G147<>0,E148*G147,  )","v":1},null,null,null,null,{"$f":"IF(E148*L147<>0,E148*L147,  )","v":1},null,null,null,null,null,null,null,null,null,null,null,null,null,null,null,null,null,null,null,null,null,null,null,null,null,null,null,null,null,null,null,null,null,null,null,null,null,null,null,null,null,null,null,null,null,null,null,null,null,null,null,null,null,null,null,null,null,null,null,null,null,null,null,null,null,null,null,{"$f":"G148","v":1},null,null,null,null,{"$f":"L148","v":1}]
[]
[null,null,"4"]
[]
[null,null,"5"]
[null,null,null,"6층"]
[null,null,"6",null,{"$f":"IF(egTextCal(D154)<>0, egTextCal(D154),\"\")","v":""}]
[null,null,null,"HFIX 1.78mm(2.5㎟), 3L (FLEX 16C)",null,1,null,null,3]
[null,null,"7",{"$f":"목록별산출서!E126","v":"5+(10)"},{"$f":"IF(egTextCal(D156)<>0, egTextCal(D156),\"\")","v":15},{"$f":"IF(E156*F155<>0,E156*F155,  )","v":15},null,null,{"$f":"IF(E156*I155<>0,E156*I155,  )","v":45},null,null,null,null,null,null,null,null,null,null,null,null,null,null,null,null,null,null,null,null,null,null,null,null,null,null,null,null,null,null,null,null,null,null,null,null,null,null,null,null,null,null,null,null,null,null,null,null,null,null,null,null,null,null,null,null,null,null,null,null,null,null,null,null,null,null,null,null,null,{"$f":"F156","v":15},null,null,{"$f":"I156","v":45}]
[null,null,null,"LED 면조명",null,null,null,null,null,null,null,null,null,1]
[null,null,"8",{"$f":"목록별산출서!E128","v":"3"},{"$f":"IF(egTextCal(D158)<>0, egTextCal(D158),\"\")","v":3},null,null,null,null,null,null,null,null,{"$f":"IF(E158*N157<>0,E158*N157,  )","v":3},null,null,null,null,null,null,null,null,null,null,null,null,null,null,null,null,null,null,null,null,null,null,null,null,null,null,null,null,null,null,null,null,null,null,null,null,null,null,null,null,null,null,null,null,null,null,null,null,null,null,null,null,null,null,null,null,null,null,null,null,null,null,null,null,null,null,null,null,null,null,null,null,{"$f":"N158","v":3}]
[null,null,null,"매입스위치 250V 1로3구",null,null,1,null,null,null,null,1]
[null,null,"9",{"$f":"목록별산출서!E129","v":"1"},{"$f":"IF(egTextCal(D160)<>0, egTextCal(D160),\"\")","v":1},null,{"$f":"IF(E160*G159<>0,E160*G159,  )","v":1},null,null,null,null,{"$f":"IF(E160*L159<>0,E160*L159,  )","v":1},null,null,null,null,null,null,null,null,null,null,null,null,null,null,null,null,null,null,null,null,null,null,null,null,null,null,null,null,null,null,null,null,null,null,null,null,null,null,null,null,null,null,null,null,null,null,null,null,null,null,null,null,null,null,null,null,null,null,null,null,null,null,null,null,null,null,null,{"$f":"G160","v":1},null,null,null,null,{"$f":"L160","v":1}]
[]
[null,null,"10"]
[]
[null,null,"11"]
[]
[null,null,"12"]
[]
[null,null,"13"]
[]
[null,null,"14"]
[]
[null,null,"15"]
[]
[null,null,"16"]
[]
[null,null,"17"]
[]
[null,null,"18"]
[]
[null,null,"19"]
[]
[null,null,"20"]
[null,"산출계",null,"소계","식",{"$f":"SUM(CA98:CA182)","v":145},5,2,435,1,1,3,2,13,2]
[null,null,"21","소계*(1)[공종]개소",1,{"$f":"E184*F183","v":145},{"$f":"E184*G183","v":5},{"$f":"E184*H183","v":2},{"$f":"E184*I183","v":435},{"$f":"E184*J183","v":1},{"$f":"E184*K183","v":1},{"$f":"E184*L183","v":3},{"$f":"E184*M183","v":2},{"$f":"E184*N183","v":13},{"$f":"E184*O183","v":2}]
[null,"공종줄","1.엘리베이터::1-4.전열설비공사"]
[null,null,null,null,null,"전선관","1종가요","1종가요","아우트렛","스위치","박스커버","전선","콘센트","ELB2P","홈파기","벽관통",null,null,null,null,null,null,null,null,null,null,null,null,null,null,null,null,null,null,null,null,null,null,null,null,null,null,null,null,null,null,null,null,null,null,null,null,null,null,null,null,null,null,null,null,null,null,null,null,null,null,null,null,null,null,null,null,null,null,null,null,null,null,"전선관","1종가요","1종가요","아우트렛","스위치","박스커버","전선","콘센트","ELB2P","홈파기","벽관통"]
[null,null,"No","산 출 목 록 / 산 출 수 식","단위/계","(KS)","전선관","커넥터","8각박스","1구박스","8각","HFIX","매입2구E","30AF",null,"코어Φ50",null,null,null,null,null,null,null,null,null,null,null,null,null,null,null,null,null,null,null,null,null,null,null,null,null,null,null,null,null,null,null,null,null,null,null,null,null,null,null,null,null,null,null,null,null,null,null,null,null,null,null,null,null,null,null,null,null,null,null,null,null,null,"(KS)","전선관","커넥터","8각박스","1구박스","8각","HFIX","매입2구E","30AF",null,"코어Φ50"]
[null,null,null,null,null,"CD16c","일반16c","일반16c","54㎜","54mm","평형","2.25mm","250V","20AT","Φ22","25cm",null,null,null,null,null,null,null,null,null,null,null,null,null,null,null,null,null,null,null,null,null,null,null,null,null,null,null,null,null,null,null,null,null,null,null,null,null,null,null,null,null,null,null,null,null,null,null,null,null,null,null,null,null,null,null,null,null,null,null,null,null,null,"CD16c","일반16c","일반16c","54㎜","54mm","평형","2.25mm","250V","20AT","Φ22","25cm"]
[null,null,null,"누전차단기(32KGRc) 2P 30AF 20AT",null,null,null,null,null,null,null,null,null,1]
[null,null,"1",{"$f":"목록별산출서!E173","v":"5"},{"$f":"IF(egTextCal(D190)<>0, egTextCal(D190),\"\")","v":5},null,null,null,null,null,null,null,null,{"$f":"IF(E190*N189<>0,E190*N189,  )","v":5},null,null,null,null,null,null,null,null,null,null,null,null,null,null,null,null,null,null,null,null,null,null,null,null,null,null,null,null,null,null,null,null,null,null,null,null,null,null,null,null,null,null,null,null,null,null,null,null,null,null,null,null,null,null,null,null,null,null,null,null,null,null,null,null,null,null,null,null,null,null,null,null,{"$f":"N190","v":5}]
[null,null,null,"벽관통 구멍 Φ50-벽두께 25cm",null,null,null,null,null,null,null,null,null,null,null,1]
[null,null,"2",{"$f":"목록별산출서!E174","v":"5"},{"$f":"IF(egTextCal(D192)<>0, egTextCal(D192),\"\")","v":5},null,null,null,null,null,null,null,null,null,null,{"$f":"IF(E192*P191<>0,E192*P191,  )","v":5},null,null,null,null,null,null,null,null,null,null,null,null,null,null,null,null,null,null,null,null,null,null,null,null,null,null,null,null,null,null,null,null,null,null,null,null,null,null,null,null,null,null,null,null,null,null,null,null,null,null,null,null,null,null,null,null,null,null,null,null,null,null,null,null,null,null,null,null,null,null,null,null,{"$f":"P192","v":5}]
[]
[null,null,"3"]
[null,null,null,"FLEX 16C (HFIX 4sqx2,E4sq)",null,null,1,null,null,null,null,3]
[null,null,"4",{"$f":"목록별산출서!E176","v":"25*5+(30)"},{"$f":"IF(egTextCal(D196)<>0, egTextCal(D196),\"\")","v":155},null,{"$f":"IF(E196*G195<>0,E196*G195,  )","v":155},null,null,null,null,{"$f":"IF(E196*L195<>0,E196*L195,  )","v":465},null,null,null,null,null,null,null,null,null,null,null,null,null,null,null,null,null,null,null,null,null,null,null,null,null,null,null,null,null,null,null,null,null,null,null,null,null,null,null,null,null,null,null,null,null,null,null,null,null,null,null,null,null,null,null,null,null,null,null,null,null,null,null,null,null,null,null,{"$f":"G196","v":155},null,null,null,null,{"$f":"L196","v":465}]
[null,null,null,"난연CD 16C (HFIX 4sqx2,E4sq)",null,1,null,null,null,null,null,3]
[null,null,"5",{"$f":"목록별산출서!E178","v":"(2.5*3)*5"},{"$f":"IF(egTextCal(D198)<>0, egTextCal(D198),\"\")","v":37.5},{"$f":"IF(E198*F197<>0,E198*F197,  )","v":37.5},null,null,null,null,null,{"$f":"IF(E198*L197<>0,E198*L197,  )","v":112.5},null,null,null,null,null,null,null,null,null,null,null,null,null,null,null,null,null,null,null,null,null,null,null,null,null,null,null,null,null,null,null,null,null,null,null,null,null,null,null,null,null,null,null,null,null,null,null,null,null,null,null,null,null,null,null,null,null,null,null,null,null,null,null,null,null,null,{"$f":"F198","v":37.5},null,null,null,null,null,{"$f":"L198","v":112.5}]
[null,null,null,"벽관통 홈파기 Φ22이하",null,null,null,null,null,null,null,null,null,null,1]
[null,null,"6",{"$f":"목록별산출서!E180","v":"(2.5*3)*5"},{"$f":"IF(egTextCal(D200)<>0, egTextCal(D200),\"\")","v":37.5},null,null,null,null,null,null,null,null,null,{"$f":"IF(E200*O199<>0,E200*O199,  )","v":37.5},null,null,null,null,null,null,null,null,null,null,null,null,null,null,null,null,null,null,null,null,null,null,null,null,null,null,null,null,null,null,null,null,null,null,null,null,null,null,null,null,null,null,null,null,null,null,null,null,null,null,null,null,null,null,null,null,null,null,null,null,null,null,null,null,null,null,null,null,null,null,null,null,{"$f":"O200","v":37.5}]
[null,null,null,"아우트렛박스 8각 54㎜",null,null,null,2,1,null,1]
[null,null,"7",{"$f":"목록별산출서!E181","v":"3*5"},{"$f":"IF(egTextCal(D202)<>0, egTextCal(D202),\"\")","v":15},null,null,{"$f":"IF(E202*H201<>0,E202*H201,  )","v":30},{"$f":"IF(E202*I201<>0,E202*I201,  )","v":15},null,{"$f":"IF(E202*K201<>0,E202*K201,  )","v":15},null,null,null,null,null,null,null,null,null,null,null,null,null,null,null,null,null,null,null,null,null,null,null,null,null,null,null,null,null,null,null,null,null,null,null,null,null,null,null,null,null,null,null,null,null,null,null,null,null,null,null,null,null,null,null,null,null,null,null,null,null,null,null,null,null,null,null,null,null,{"$f":"H202","v":30},{"$f":"I202","v":15},null,{"$f":"K202","v":15}]
[null,null,null,"콘센트 매입-접지형,250V 2구",null,null,null,null,null,1,null,null,1]
[null,null,"8",{"$f":"목록별산출서!E184","v":"3*5"},{"$f":"IF(egTextCal(D204)<>0, egTextCal(D204),\"\")","v":15},null,null,null,null,{"$f":"IF(E204*J203<>0,E204*J203,  )","v":15},null,null,{"$f":"IF(E204*M203<>0,E204*M203,  )","v":15},null,null,null,null,null,null,null,null,null,null,null,null,null,null,null,null,null,null,null,null,null,null,null,null,null,null,null,null,null,null,null,null,null,null,null,null,null,null,null,null,null,null,null,null,null,null,null,null,null,null,null,null,null,null,null,null,null,null,null,null,null,null,null,null,null,null,null,null,null,{"$f":"J204","v":15},null,null,{"$f":"M204","v":15}]
[]
[null,null,"9"]
[]
[null,null,"10"]
[]
[null,null,"11"]
[]
[null,null,"12"]
[]
[null,null,"13"]
[]
[null,null,"14"]
[]
[null,null,"15"]
[]
[null,null,"16"]
[]
[null,null,"17"]
[]
[null,null,"18"]
[]
[null,null,"19"]
[]
[null,null,"20"]
[null,"산출계",null,"소계","식",{"$f":"SUM(CA190:CA228)","v":37.5},155,30,15,15,15,577.5,15,5,37.5,5]
[null,null,"21","소계*(1)[공종]개소",1,{"$f":"E230*F229","v":37.5},{"$f":"E230*G229","v":155},{"$f":"E230*H229","v":30},{"$f":"E230*I229","v":15},{"$f":"E230*J229","v":15},{"$f":"E230*K229","v":15},{"$f":"E230*L229","v":577.5},{"$f":"E230*M229","v":15},{"$f":"E230*N229","v":5},{"$f":"E230*O229","v":37.5},{"$f":"E230*P229","v":5}]
[null,"공종줄","2.화장실::2-1.철거공사"]
[]
[null,null,"No","산 출 목 록 / 산 출 수 식","단위/계","LED다운라이트철거철거(30%)","PVC함철거철거(30%)","전등스위치철거철거(30%)","콘센트철거철거(30%)",null,null,null,null,null,null,null,null,null,null,null,null,null,null,null,null,null,null,null,null,null,null,null,null,null,null,null,null,null,null,null,null,null,null,null,null,null,null,null,null,null,null,null,null,null,null,null,null,null,null,null,null,null,null,null,null,null,null,null,null,null,null,null,null,null,null,null,null,null,"LED다운라이트철거철거(30%)","PVC함철거철거(30%)","전등스위치철거철거(30%)","콘센트철거철거(30%)"]
[]
[null,null,null,"LED 다운라이트 철거",null,1]
[null,null,"1",{"$f":"목록별산출서!E215","v":"85"},{"$f":"IF(egTextCal(D236)<>0, egTextCal(D236),\"\")","v":85},{"$f":"IF(E236*F235<>0,E236*F235,  )","v":85},null,null,null,null,null,null,null,null,null,null,null,null,null,null,null,null,null,null,null,null,null,null,null,null,null,null,null,null,null,null,null,null,null,null,null,null,null,null,null,null,null,null,null,null,null,null,null,null,null,null,null,null,null,null,null,null,null,null,null,null,null,null,null,null,null,null,null,null,null,null,null,null,{"$f":"F236","v":85}]
[null,null,null,"전등스위치 철거",null,null,null,1]
[null,null,"2",{"$f":"목록별산출서!E216","v":"7"},{"$f":"IF(egTextCal(D238)<>0, egTextCal(D238),\"\")","v":7},null,null,{"$f":"IF(E238*H237<>0,E238*H237,  )","v":7},null,null,null,null,null,null,null,null,null,null,null,null,null,null,null,null,null,null,null,null,null,null,null,null,null,null,null,null,null,null,null,null,null,null,null,null,null,null,null,null,null,null,null,null,null,null,null,null,null,null,null,null,null,null,null,null,null,null,null,null,null,null,null,null,null,null,null,null,null,null,null,null,{"$f":"H238","v":7}]
[null,null,null,"콘센트 철거",null,null,null,null,1]
[null,null,"3",{"$f":"목록별산출서!E217","v":"15"},{"$f":"IF(egTextCal(D240)<>0, egTextCal(D240),\"\")","v":15},null,null,null,{"$f":"IF(E240*I239<>0,E240*I239,  )","v":15},null,null,null,null,null,null,null,null,null,null,null,null,null,null,null,null,null,null,null,null,null,null,null,null,null,null,null,null,null,null,null,null,null,null,null,null,null,null,null,null,null,null,null,null,null,null,null,null,null,null,null,null,null,null,null,null,null,null,null,null,null,null,null,null,null,null,null,null,null,null,null,null,{"$f":"I240","v":15}]
[null,null,null,"PVC함 철거",null,null,1]
[null,null,"4",{"$f":"목록별산출서!E218","v":"5"},{"$f":"IF(egTextCal(D242)<>0, egTextCal(D242),\"\")","v":5},null,{"$f":"IF(E242*G241<>0,E242*G241,  )","v":5},null,null,null,null,null,null,null,null,null,null,null,null,null,null,null,null,null,null,null,null,null,null,null,null,null,null,null,null,null,null,null,null,null,null,null,null,null,null,null,null,null,null,null,null,null,null,null,null,null,null,null,null,null,null,null,null,null,null,null,null,null,null,null,null,null,null,null,null,null,null,null,null,{"$f":"G242","v":5}]
[]
[null,null,"5"]
[]
[null,null,"6"]
[]
[null,null,"7"]
[]
[null,null,"8"]
[]
[null,null,"9"]
[]
[null,null,"10"]
[]
[null,null,"11"]
[]
[null,null,"12"]
[]
[null,null,"13"]
[]
[null,null,"14"]
[]
[null,null,"15"]
[]
[null,null,"16"]
[]
[null,null,"17"]
[]
[null,null,"18"]
[]
[null,null,"19"]
[]
[null,null,"20"]
[null,"산출계",null,"소계","식",{"$f":"SUM(CA236:CA274)","v":85},{"$f":"SUM(CB236:CB274)","v":5},{"$f":"SUM(CC236:CC274)","v":7},{"$f":"SUM(CD236:CD274)","v":15}]
[null,null,"21","소계*(1)[공종]개소",1,{"$f":"E276*F275","v":85},{"$f":"E276*G275","v":5},{"$f":"E276*H275","v":7},{"$f":"E276*I275","v":15}]
[null,"공종줄","2.화장실::2-2.전력간선공사"]
[null,null,null,null,null,"1종가요","AL덕트","접지전선","케이블","MCCBABS","러그단자","벽관통",null,null,null,null,null,null,null,null,null,null,null,null,null,null,null,null,null,null,null,null,null,null,null,null,null,null,null,null,null,null,null,null,null,null,null,null,null,null,null,null,null,null,null,null,null,null,null,null,null,null,null,null,null,null,null,null,null,null,null,null,null,null,null,null,null,null,"1종가요","AL덕트","접지전선","케이블","MCCBABS","러그단자","벽관통"]
[null,null,"No","산 출 목 록 / 산 출 수 식","단위/계","전선관",null,"F-GV","F-CV","4P50AF","동1홀","코어Φ50","LP-화장실분전반",null,null,null,null,null,null,null,null,null,null,null,null,null,null,null,null,null,null,null,null,null,null,null,null,null,null,null,null,null,null,null,null,null,null,null,null,null,null,null,null,null,null,null,null,null,null,null,null,null,null,null,null,null,null,null,null,null,null,null,null,null,null,null,null,null,"전선관",null,"F-GV","F-CV","4P50AF","동1홀","코어Φ50","LP-화장실분전반"]
[null,null,null,null,null,"일반54c","150x100","16_㎟","16_㎟/4c","50AT","16㎟","25cm",null,null,null,null,null,null,null,null,null,null,null,null,null,null,null,null,null,null,null,null,null,null,null,null,null,null,null,null,null,null,null,null,null,null,null,null,null,null,null,null,null,null,null,null,null,null,null,null,null,null,null,null,null,null,null,null,null,null,null,null,null,null,null,null,null,null,"일반54c","150x100","16_㎟","16_㎟/4c","50AT","16㎟","25cm"]
[null,null,null,"배선용차단기(ABS-54) 4P 50AF 50AT",null,null,null,null,null,1]
[null,null,"1",{"$f":"목록별산출서!E257","v":"1"},{"$f":"IF(egTextCal(D282)<>0, egTextCal(D282),\"\")","v":1},null,null,null,null,{"$f":"IF(E282*J281<>0,E282*J281,  )","v":1},null,null,null,null,null,null,null,null,null,null,null,null,null,null,null,null,null,null,null,null,null,null,null,null,null,null,null,null,null,null,null,null,null,null,null,null,null,null,null,null,null,null,null,null,null,null,null,null,null,null,null,null,null,null,null,null,null,null,null,null,null,null,null,null,null,null,null,null,null,null,null,null,{"$f":"J282","v":1}]
[null,null,null,"F-CV 4C×16㎟, F-GV 16SQ (FLEX 54C)",null,1,null,1,1]
[null,null,"2",{"$f":"목록별산출서!E258","v":"20+10+5+5+10+(10)"},{"$f":"IF(egTextCal(D284)<>0, egTextCal(D284),\"\")","v":60},{"$f":"IF(E284*F283<>0,E284*F283,  )","v":60},null,{"$f":"IF(E284*H283<>0,E284*H283,  )","v":60},{"$f":"IF(E284*I283<>0,E284*I283,  )","v":60},null,null,null,null,null,null,null,null,null,null,null,null,null,null,null,null,null,null,null,null,null,null,null,null,null,null,null,null,null,null,null,null,null,null,null,null,null,null,null,null,null,null,null,null,null,null,null,null,null,null,null,null,null,null,null,null,null,null,null,null,null,null,null,null,null,null,null,null,null,{"$f":"F284","v":60},null,{"$f":"H284","v":60},{"$f":"I284","v":60}]
[null,null,null,"F-CV 4C×16㎟, F-GV 16SQ (IN TRAY)",null,null,null,1,1]
[null,null,"3",{"$f":"목록별산출서!E261","v":"30"},{"$f":"IF(egTextCal(D286)<>0, egTextCal(D286),\"\")","v":30},null,null,{"$f":"IF(E286*H285<>0,E286*H285,  )","v":30},{"$f":"IF(E286*I285<>0,E286*I285,  )","v":30},null,null,null,null,null,null,null,null,null,null,null,null,null,null,null,null,null,null,null,null,null,null,null,null,null,null,null,null,null,null,null,null,null,null,null,null,null,null,null,null,null,null,null,null,null,null,null,null,null,null,null,null,null,null,null,null,null,null,null,null,null,null,null,null,null,null,null,null,null,null,null,{"$f":"H286","v":30},{"$f":"I286","v":30}]
[null,null,null,"러그단자 동관단자 1 HOLE 16 ㎟",null,null,null,null,null,null,1]
[null,null,"4",{"$f":"목록별산출서!E263","v":"(4+1)*2"},{"$f":"IF(egTextCal(D288)<>0, egTextCal(D288),\"\")","v":10},null,null,null,null,null,{"$f":"IF(E288*K287<>0,E288*K287,  )","v":10},null,null,null,null,null,null,null,null,null,null,null,null,null,null,null,null,null,null,null,null,null,null,null,null,null,null,null,null,null,null,null,null,null,null,null,null,null,null,null,null,null,null,null,null,null,null,null,null,null,null,null,null,null,null,null,null,null,null,null,null,null,null,null,null,null,null,null,null,null,null,null,null,{"$f":"K288","v":10}]
[null,null,null,"LP-화장실 분전반",null,null,null,null,null,null,null,null,1]
[null,null,"5",{"$f":"목록별산출서!E264","v":"1"},{"$f":"IF(egTextCal(D290)<>0, egTextCal(D290),\"\")","v":1},null,null,null,null,null,null,null,{"$f":"IF(E290*M289<>0,E290*M289,  )","v":1},null,null,null,null,null,null,null,null,null,null,null,null,null,null,null,null,null,null,null,null,null,null,null,null,null,null,null,null,null,null,null,null,null,null,null,null,null,null,null,null,null,null,null,null,null,null,null,null,null,null,null,null,null,null,null,null,null,null,null,null,null,null,null,null,null,null,null,null,null,null,null,null,{"$f":"M290","v":1}]
[null,null,null,"전선덕트 알루미늄 150x100 mm",null,null,1]
[null,null,"6",{"$f":"목록별산출서!E265","v":"2"},{"$f":"IF(egTextCal(D292)<>0, egTextCal(D292),\"\")","v":2},null,{"$f":"IF(E292*G291<>0,E292*G291,  )","v":2},null,null,null,null,null,null,null,null,null,null,null,null,null,null,null,null,null,null,null,null,null,null,null,null,null,null,null,null,null,null,null,null,null,null,null,null,null,null,null,null,null,null,null,null,null,null,null,null,null,null,null,null,null,null,null,null,null,null,null,null,null,null,null,null,null,null,null,null,null,null,null,null,{"$f":"G292","v":2}]
[]
[null,null,"7"]
[null,null,null,"벽관통 구멍 Φ50-벽두께 25cm",null,null,null,null,null,null,null,1]
[null,null,"8",{"$f":"목록별산출서!E267","v":"1"},{"$f":"IF(egTextCal(D296)<>0, egTextCal(D296),\"\")","v":1},null,null,null,null,null,null,{"$f":"IF(E296*L295<>0,E296*L295,  )","v":1},null,null,null,null,null,null,null,null,null,null,null,null,null,null,null,null,null,null,null,null,null,null,null,null,null,null,null,null,null,null,null,null,null,null,null,null,null,null,null,null,null,null,null,null,null,null,null,null,null,null,null,null,null,null,null,null,null,null,null,null,null,null,null,null,null,null,null,null,null,null,null,null,{"$f":"L296","v":1}]
[]
[null,null,"9"]
[]
[null,null,"10"]
[]
[null,null,"11"]
[]
[null,null,"12"]
[]
[null,null,"13"]
[]
[null,null,"14"]
[]
[null,null,"15"]
[]
[null,null,"16"]
[]
[null,null,"17"]
[]
[null,null,"18"]
[]
[null,null,"19"]
[]
[null,null,"20"]
[null,"산출계",null,"소계","식",{"$f":"SUM(CA282:CA320)","v":60},2,90,90,1,10,1,1]
[null,null,"21","소계*(1)[공종]개소",1,{"$f":"E322*F321","v":60},{"$f":"E322*G321","v":2},{"$f":"E322*H321","v":90},{"$f":"E322*I321","v":90},{"$f":"E322*J321","v":1},{"$f":"E322*K321","v":10},{"$f":"E322*L321","v":1},{"$f":"E322*M321","v":1}]
[null,"공종줄","2.화장실::2-3.전등설비공사"]
[null,null,null,null,null,"전선관","1종가요","1종가요","아우트렛","스위치","박스커버","전선","매입","홈파기",null,null,null,null,null,null,null,null,null,null,null,null,null,null,null,null,null,null,null,null,null,null,null,null,null,null,null,null,null,null,null,null,null,null,null,null,null,null,null,null,null,null,null,null,null,null,null,null,null,null,null,null,null,null,null,null,null,null,null,null,null,null,null,null,"전선관","1종가요","1종가요","아우트렛","스위치","박스커버","전선","매입","홈파기"]
[null,null,"No","산 출 목 록 / 산 출 수 식","단위/계","(KS)","전선관","커넥터","박스중형","1구박스","4각","HFIX","스위치",null,"LED다운라이트",null,null,null,null,null,null,null,null,null,null,null,null,null,null,null,null,null,null,null,null,null,null,null,null,null,null,null,null,null,null,null,null,null,null,null,null,null,null,null,null,null,null,null,null,null,null,null,null,null,null,null,null,null,null,null,null,null,null,null,null,null,null,null,"(KS)","전선관","커넥터","박스중형","1구박스","4각","HFIX","스위치",null,"LED다운라이트"]
[null,null,null,null,null,"CD16c","방수16c","방수16c","4각54㎜","54mm","평형","1.78mm","단로1구","Φ22",null,null,null,null,null,null,null,null,null,null,null,null,null,null,null,null,null,null,null,null,null,null,null,null,null,null,null,null,null,null,null,null,null,null,null,null,null,null,null,null,null,null,null,null,null,null,null,null,null,null,null,null,null,null,null,null,null,null,null,null,null,null,null,null,"CD16c","방수16c","방수16c","4각54㎜","54mm","평형","1.78mm","단로1구","Φ22"]
[null,null,null,"L1"]
[null,null,"1",null,{"$f":"IF(egTextCal(D328)<>0, egTextCal(D328),\"\")","v":""}]
[null,null,null,"벽관통 홈파기 Φ22이하",null,null,null,null,null,null,null,null,null,1]
[null,null,"2",{"$f":"목록별산출서!E300","v":"1.8*5"},{"$f":"IF(egTextCal(D330)<>0, egTextCal(D330),\"\")","v":9},null,null,null,null,null,null,null,null,{"$f":"IF(E330*N329<>0,E330*N329,  )","v":9},null,null,null,null,null,null,null,null,null,null,null,null,null,null,null,null,null,null,null,null,null,null,null,null,null,null,null,null,null,null,null,null,null,null,null,null,null,null,null,null,null,null,null,null,null,null,null,null,null,null,null,null,null,null,null,null,null,null,null,null,null,null,null,null,null,null,null,null,null,null,null,null,{"$f":"N330","v":9}]
[null,null,null,"FLEX 16C(HFIX 2.5mm x2,E1.78mm)",null,null,1,null,null,null,null,3]
[null,null,"3",{"$f":"목록별산출서!E301","v":"15+15+15+15+15+5+5+5+5+5"},{"$f":"IF(egTextCal(D332)<>0, egTextCal(D332),\"\")","v":100},null,{"$f":"IF(E332*G331<>0,E332*G331,  )","v":100},null,null,null,null,{"$f":"IF(E332*L331<>0,E332*L331,  )","v":300},null,null,null,null,null,null,null,null,null,null,null,null,null,null,null,null,null,null,null,null,null,null,null,null,null,null,null,null,null,null,null,null,null,null,null,null,null,null,null,null,null,null,null,null,null,null,null,null,null,null,null,null,null,null,null,null,null,null,null,null,null,null,null,null,null,null,null,{"$f":"G332","v":100},null,null,null,null,{"$f":"L332","v":300}]
[null,null,null,"FLEX 16C(HFIX 2.5mm x3,E1.78mm)",null,null,1,null,null,null,null,4]
[null,null,"4",{"$f":"목록별산출서!E303","v":"8+8+6+6+6"},{"$f":"IF(egTextCal(D334)<>0, egTextCal(D334),\"\")","v":34},null,{"$f":"IF(E334*G333<>0,E334*G333,  )","v":34},null,null,null,null,{"$f":"IF(E334*L333<>0,E334*L333,  )","v":136},null,null,null,null,null,null,null,null,null,null,null,null,null,null,null,null,null,null,null,null,null,null,null,null,null,null,null,null,null,null,null,null,null,null,null,null,null,null,null,null,null,null,null,null,null,null,null,null,null,null,null,null,null,null,null,null,null,null,null,null,null,null,null,null,null,null,null,{"$f":"G334","v":34},null,null,null,null,{"$f":"L334","v":136}]
[]
[null,null,"5"]
[null,null,null,"HFIX 2.5-2(FLEX 16C)스위치 평면",null,null,1,null,null,null,null,2]
[null,null,"6",{"$f":"목록별산출서!E306","v":"1.5*7"},{"$f":"IF(egTextCal(D338)<>0, egTextCal(D338),\"\")","v":10.5},null,{"$f":"IF(E338*G337<>0,E338*G337,  )","v":10.5},null,null,null,null,{"$f":"IF(E338*L337<>0,E338*L337,  )","v":21},null,null,null,null,null,null,null,null,null,null,null,null,null,null,null,null,null,null,null,null,null,null,null,null,null,null,null,null,null,null,null,null,null,null,null,null,null,null,null,null,null,null,null,null,null,null,null,null,null,null,null,null,null,null,null,null,null,null,null,null,null,null,null,null,null,null,null,{"$f":"G338","v":10.5},null,null,null,null,{"$f":"L338","v":21}]
[]
[null,null,"7"]
[null,null,null,"HFIX 2.5-2(CD 16C)스위치 벽체",null,1,null,null,null,null,null,2]
[null,null,"8",{"$f":"목록별산출서!E309","v":"(7)*(3m-1.2m)"},{"$f":"IF(egTextCal(D342)<>0, egTextCal(D342),\"\")","v":12.6},{"$f":"IF(E342*F341<>0,E342*F341,  )","v":12.6},null,null,null,null,null,{"$f":"IF(E342*L341<>0,E342*L341,  )","v":25.2},null,null,null,null,null,null,null,null,null,null,null,null,null,null,null,null,null,null,null,null,null,null,null,null,null,null,null,null,null,null,null,null,null,null,null,null,null,null,null,null,null,null,null,null,null,null,null,null,null,null,null,null,null,null,null,null,null,null,null,null,null,null,null,null,null,null,{"$f":"F342","v":12.6},null,null,null,null,null,{"$f":"L342","v":25.2}]
[]
[null,null,"9"]
[null,null,null,"HFIX 2.5-2 E-2.5(CD 16C)귀로 벽체",null,1,null,null,null,null,null,3]
[null,null,"10",{"$f":"목록별산출서!E312","v":"(1)*(3m-1.8m)"},{"$f":"IF(egTextCal(D346)<>0, egTextCal(D346),\"\")","v":1.2},{"$f":"IF(E346*F345<>0,E346*F345,  )","v":1.2},null,null,null,null,null,{"$f":"IF(E346*L345<>0,E346*L345,  )","v":3.5999999999999996},null,null,null,null,null,null,null,null,null,null,null,null,null,null,null,null,null,null,null,null,null,null,null,null,null,null,null,null,null,null,null,null,null,null,null,null,null,null,null,null,null,null,null,null,null,null,null,null,null,null,null,null,null,null,null,null,null,null,null,null,null,null,null,null,null,null,{"$f":"F346","v":1.2},null,null,null,null,null,{"$f":"L346","v":3.5999999999999996}]
[null,null,null,"HFIX 2.5-2 E-2.5(PNL 내부결선)",null,null,null,null,null,null,null,3]
[null,null,"11",{"$f":"목록별산출서!E314","v":"(1)*(1.0m)"},{"$f":"IF(egTextCal(D348)<>0, egTextCal(D348),\"\")","v":1},null,null,null,null,null,null,{"$f":"IF(E348*L347<>0,E348*L347,  )","v":3},null,null,null,null,null,null,null,null,null,null,null,null,null,null,null,null,null,null,null,null,null,null,null,null,null,null,null,null,null,null,null,null,null,null,null,null,null,null,null,null,null,null,null,null,null,null,null,null,null,null,null,null,null,null,null,null,null,null,null,null,null,null,null,null,null,null,null,null,null,null,null,null,{"$f":"L348","v":3}]
[]
[null,null,"12"]
[null,null,null,"스위치(1로 1구)-S/W 1G BOX",null,null,null,null,null,1,null,null,1]
[null,null,"13",{"$f":"목록별산출서!E316","v":"7"},{"$f":"IF(egTextCal(D352)<>0, egTextCal(D352),\"\")","v":7},null,null,null,null,{"$f":"IF(E352*J351<>0,E352*J351,  )","v":7},null,null,{"$f":"IF(E352*M351<>0,E352*M351,  )","v":7},null,null,null,null,null,null,null,null,null,null,null,null,null,null,null,null,null,null,null,null,null,null,null,null,null,null,null,null,null,null,null,null,null,null,null,null,null,null,null,null,null,null,null,null,null,null,null,null,null,null,null,null,null,null,null,null,null,null,null,null,null,null,null,null,null,null,null,null,null,{"$f":"J352","v":7},null,null,{"$f":"M352","v":7}]
[]
[null,null,"14"]
[null,null,null,"4각 박스(W/T COVER)",null,null,1,2,1,null,1,3]
[null,null,"15",{"$f":"목록별산출서!E319","v":"14+15+15+16+15"},{"$f":"IF(egTextCal(D356)<>0, egTextCal(D356),\"\")","v":75},null,{"$f":"IF(E356*G355<>0,E356*G355,  )","v":75},{"$f":"IF(E356*H355<>0,E356*H355,  )","v":150},{"$f":"IF(E356*I355<>0,E356*I355,  )","v":75},null,{"$f":"IF(E356*K355<>0,E356*K355,  )","v":75},{"$f":"IF(E356*L355<>0,E356*L355,  )","v":225},null,null,null,null,null,null,null,null,null,null,null,null,null,null,null,null,null,null,null,null,null,null,null,null,null,null,null,null,null,null,null,null,null,null,null,null,null,null,null,null,null,null,null,null,null,null,null,null,null,null,null,null,null,null,null,null,null,null,null,null,null,null,null,null,null,null,null,{"$f":"G356","v":75},{"$f":"H356","v":150},{"$f":"I356","v":75},null,{"$f":"K356","v":75},{"$f":"L356","v":225}]
[null,null,null,"LED 다운라이트",null,null,null,null,null,null,null,null,null,null,1]
[null,null,"16",{"$f":"목록별산출서!E324","v":"75"},{"$f":"IF(egTextCal(D358)<>0, egTextCal(D358),\"\")","v":75},null,null,null,null,null,null,null,null,null,{"$f":"IF(E358*O357<>0,E358*O357,  )","v":75},null,null,null,null,null,null,null,null,null,null,null,null,null,null,null,null,null,null,null,null,null,null,null,null,null,null,null,null,null,null,null,null,null,null,null,null,null,null,null,null,null,null,null,null,null,null,null,null,null,null,null,null,null,null,null,null,null,null,null,null,null,null,null,null,null,null,null,null,null,null,null,null,{"$f":"O358","v":75}]
[]
[null,null,"17"]
[]
[null,null,"18"]
[]
[null,null,"19"]
[]
[null,null,"20"]
[null,"산출계",null,"소계","식",{"$f":"SUM(CA328:CA366)","v":13.799999999999999},219.5,150,75,7,75,713.8,7,9,75]
[null,null,"21","소계*(1)[공종]개소",1,{"$f":"E368*F367","v":13.799999999999999},{"$f":"E368*G367","v":219.5},{"$f":"E368*H367","v":150},{"$f":"E368*I367","v":75},{"$f":"E368*J367","v":7},{"$f":"E368*K367","v":75},{"$f":"E368*L367","v":713.8},{"$f":"E368*M367","v":7},{"$f":"E368*N367","v":9},{"$f":"E368*O367","v":75}]
[null,"공종줄","2.화장실::2-4.전열설비공사"]
[null,null,null,null,null,"전선관","1종가요","1종가요","1종가요","아우트렛","스위치","PVCBOX","박스커버","전선","접지전선","케이블","콘센트","방우콘","MCCBABS","압착단자","홈파기","벽관통",null,null,null,null,null,null,null,null,null,null,null,null,null,null,null,null,null,null,null,null,null,null,null,null,null,null,null,null,null,null,null,null,null,null,null,null,null,null,null,null,null,null,null,null,null,null,null,null,null,null,null,null,null,null,null,null,"전선관","1종가요","1종가요","1종가요","아우트렛","스위치","PVCBOX","박스커버","전선","접지전선","케이블","콘센트","방우콘","MCCBABS","압착단자","홈파기","벽관통"]
[null,null,"No","산 출 목 록 / 산 출 수 식","단위/계","(KS)","전선관","전선관","커넥터","8각박스","1구박스",null,"8각","HFIX","F-GV","F-CV","원형접지","매입접지","4P30AF","R형IEC90",null,"코어Φ50",null,null,null,null,null,null,null,null,null,null,null,null,null,null,null,null,null,null,null,null,null,null,null,null,null,null,null,null,null,null,null,null,null,null,null,null,null,null,null,null,null,null,null,null,null,null,null,null,null,null,null,null,null,null,null,null,"(KS)","전선관","전선관","커넥터","8각박스","1구박스",null,"8각","HFIX","F-GV","F-CV","원형접지","매입접지","4P30AF","R형IEC90",null,"코어Φ50"]
[null,null,null,null,null,"CD16c","방수16c","방수28c","방수16c","54㎜","54mm","4각","평형","2.25mm","2.5_㎟","2.5_㎟/4c","250V","2구250V","20AT","2.5㎟","Φ22","25cm",null,null,null,null,null,null,null,null,null,null,null,null,null,null,null,null,null,null,null,null,null,null,null,null,null,null,null,null,null,null,null,null,null,null,null,null,null,null,null,null,null,null,null,null,null,null,null,null,null,null,null,null,null,null,null,null,"CD16c","방수16c","방수28c","방수16c","54㎜","54mm","4각","평형","2.25mm","2.5_㎟","2.5_㎟/4c","250V","2구250V","20AT","2.5㎟","Φ22","25cm"]
[null,null,null,"시로코팬 전원"]
[null,null,"1",null,{"$f":"IF(egTextCal(D374)<>0, egTextCal(D374),\"\")","v":""}]
[null,null,null,"배선용차단기(ABS-34) 4P 30AF 20AT",null,null,null,null,null,null,null,null,null,null,null,null,null,null,1]
[null,null,"2",{"$f":"목록별산출서!E342","v":"1"},{"$f":"IF(egTextCal(D376)<>0, egTextCal(D376),\"\")","v":1},null,null,null,null,null,null,null,null,null,null,null,null,null,{"$f":"IF(E376*S375<>0,E376*S375,  )","v":1},null,null,null,null,null,null,null,null,null,null,null,null,null,null,null,null,null,null,null,null,null,null,null,null,null,null,null,null,null,null,null,null,null,null,null,null,null,null,null,null,null,null,null,null,null,null,null,null,null,null,null,null,null,null,null,null,null,null,null,null,null,null,null,null,null,null,null,null,null,null,null,null,{"$f":"S376","v":1}]
[null,null,null,"F-CV 4C×2.5㎟, F-GV 2.5SQ (FLEX 28C)",null,null,null,1,null,null,null,null,null,null,1,1]
[null,null,"3",{"$f":"목록별산출서!E343","v":"10+2+30+6"},{"$f":"IF(egTextCal(D378)<>0, egTextCal(D378),\"\")","v":48},null,null,{"$f":"IF(E378*H377<>0,E378*H377,  )","v":48},null,null,null,null,null,null,{"$f":"IF(E378*O377<>0,E378*O377,  )","v":48},{"$f":"IF(E378*P377<>0,E378*P377,  )","v":48},null,null,null,null,null,null,null,null,null,null,null,null,null,null,null,null,null,null,null,null,null,null,null,null,null,null,null,null,null,null,null,null,null,null,null,null,null,null,null,null,null,null,null,null,null,null,null,null,null,null,null,null,null,null,null,null,null,null,null,null,null,null,null,null,{"$f":"H378","v":48},null,null,null,null,null,null,{"$f":"O378","v":48},{"$f":"P378","v":48}]
[null,null,null,"PVC BOX 4각 4 각",null,null,null,null,null,null,null,1]
[null,null,"4",{"$f":"목록별산출서!E346","v":"1"},{"$f":"IF(egTextCal(D380)<>0, egTextCal(D380),\"\")","v":1},null,null,null,null,null,null,{"$f":"IF(E380*L379<>0,E380*L379,  )","v":1},null,null,null,null,null,null,null,null,null,null,null,null,null,null,null,null,null,null,null,null,null,null,null,null,null,null,null,null,null,null,null,null,null,null,null,null,null,null,null,null,null,null,null,null,null,null,null,null,null,null,null,null,null,null,null,null,null,null,null,null,null,null,null,null,null,null,null,null,null,null,null,null,{"$f":"L380","v":1}]
[null,null,null,"압착단자(IEC 90) R형동선 나압착 2.5 ㎟",null,null,null,null,null,null,null,null,null,null,null,null,null,null,null,1]
[null,null,"5",{"$f":"목록별산출서!E347","v":"4+1"},{"$f":"IF(egTextCal(D382)<>0, egTextCal(D382),\"\")","v":5},null,null,null,null,null,null,null,null,null,null,null,null,null,null,{"$f":"IF(E382*T381<>0,E382*T381,  )","v":5},null,null,null,null,null,null,null,null,null,null,null,null,null,null,null,null,null,null,null,null,null,null,null,null,null,null,null,null,null,null,null,null,null,null,null,null,null,null,null,null,null,null,null,null,null,null,null,null,null,null,null,null,null,null,null,null,null,null,null,null,null,null,null,null,null,null,null,null,null,null,null,null,{"$f":"T382","v":5}]
[]
[null,null,"6"]
[]
[null,null,"7"]
[null,null,null,"▷ER2"]
[null,null,"8",null,{"$f":"IF(egTextCal(D388)<>0, egTextCal(D388),\"\")","v":""}]
[null,null,null,"벽관통 구멍 Φ50-벽두께 25cm",null,null,null,null,null,null,null,null,null,null,null,null,null,null,null,null,null,1]
[null,null,"9",{"$f":"목록별산출서!E351","v":"1"},{"$f":"IF(egTextCal(D390)<>0, egTextCal(D390),\"\")","v":1},null,null,null,null,null,null,null,null,null,null,null,null,null,null,null,null,{"$f":"IF(E390*V389<>0,E390*V389,  )","v":1},null,null,null,null,null,null,null,null,null,null,null,null,null,null,null,null,null,null,null,null,null,null,null,null,null,null,null,null,null,null,null,null,null,null,null,null,null,null,null,null,null,null,null,null,null,null,null,null,null,null,null,null,null,null,null,null,null,null,null,null,null,null,null,null,null,null,null,null,null,null,null,null,{"$f":"V390","v":1}]
[null,null,null,"FLEX 16C (HFIX 4sqx2,E4sq)",null,null,1,null,null,null,null,null,null,3]
[null,null,"10",{"$f":"목록별산출서!E352","v":"8+5+8"},{"$f":"IF(egTextCal(D392)<>0, egTextCal(D392),\"\")","v":21},null,{"$f":"IF(E392*G391<>0,E392*G391,  )","v":21},null,null,null,null,null,null,{"$f":"IF(E392*N391<>0,E392*N391,  )","v":63},null,null,null,null,null,null,null,null,null,null,null,null,null,null,null,null,null,null,null,null,null,null,null,null,null,null,null,null,null,null,null,null,null,null,null,null,null,null,null,null,null,null,null,null,null,null,null,null,null,null,null,null,null,null,null,null,null,null,null,null,null,null,null,null,null,{"$f":"G392","v":21},null,null,null,null,null,null,{"$f":"N392","v":63}]
[null,null,null,"콘센트 노출-접지형,250V 원형",null,null,null,null,null,null,null,null,null,null,null,null,1]
[null,null,"11",{"$f":"목록별산출서!E354","v":"2"},{"$f":"IF(egTextCal(D394)<>0, egTextCal(D394),\"\")","v":2},null,null,null,null,null,null,null,null,null,null,null,{"$f":"IF(E394*Q393<>0,E394*Q393,  )","v":2},null,null,null,null,null,null,null,null,null,null,null,null,null,null,null,null,null,null,null,null,null,null,null,null,null,null,null,null,null,null,null,null,null,null,null,null,null,null,null,null,null,null,null,null,null,null,null,null,null,null,null,null,null,null,null,null,null,null,null,null,null,null,null,null,null,null,null,null,null,null,null,null,{"$f":"Q394","v":2}]
[]
[null,null,"12"]
[null,null,null,"▷R2"]
[null,null,"13",null,{"$f":"IF(egTextCal(D398)<>0, egTextCal(D398),\"\")","v":""}]
[null,null,null,"벽관통 구멍 Φ50-벽두께 25cm",null,null,null,null,null,null,null,null,null,null,null,null,null,null,null,null,null,1]
[null,null,"14",{"$f":"목록별산출서!E357","v":"1"},{"$f":"IF(egTextCal(D400)<>0, egTextCal(D400),\"\")","v":1},null,null,null,null,null,null,null,null,null,null,null,null,null,null,null,null,{"$f":"IF(E400*V399<>0,E400*V399,  )","v":1},null,null,null,null,null,null,null,null,null,null,null,null,null,null,null,null,null,null,null,null,null,null,null,null,null,null,null,null,null,null,null,null,null,null,null,null,null,null,null,null,null,null,null,null,null,null,null,null,null,null,null,null,null,null,null,null,null,null,null,null,null,null,null,null,null,null,null,null,null,null,null,null,{"$f":"V400","v":1}]
[null,null,null,"FLEX 16C (HFIX 4sqx2,E4sq)",null,null,1,null,null,null,null,null,null,3]
[null,null,"15",{"$f":"목록별산출서!E358","v":"8+5+8"},{"$f":"IF(egTextCal(D402)<>0, egTextCal(D402),\"\")","v":21},null,{"$f":"IF(E402*G401<>0,E402*G401,  )","v":21},null,null,null,null,null,null,{"$f":"IF(E402*N401<>0,E402*N401,  )","v":63},null,null,null,null,null,null,null,null,null,null,null,null,null,null,null,null,null,null,null,null,null,null,null,null,null,null,null,null,null,null,null,null,null,null,null,null,null,null,null,null,null,null,null,null,null,null,null,null,null,null,null,null,null,null,null,null,null,null,null,null,null,null,null,null,null,{"$f":"G402","v":21},null,null,null,null,null,null,{"$f":"N402","v":63}]
[null,null,null,"난연CD 16C (HFIX 4sqx2,E4sq)",null,1,null,null,null,null,null,null,null,3]
[null,null,"16",{"$f":"목록별산출서!E360","v":"2+2"},{"$f":"IF(egTextCal(D404)<>0, egTextCal(D404),\"\")","v":4},{"$f":"IF(E404*F403<>0,E404*F403,  )","v":4},null,null,null,null,null,null,null,{"$f":"IF(E404*N403<>0,E404*N403,  )","v":12},null,null,null,null,null,null,null,null,null,null,null,null,null,null,null,null,null,null,null,null,null,null,null,null,null,null,null,null,null,null,null,null,null,null,null,null,null,null,null,null,null,null,null,null,null,null,null,null,null,null,null,null,null,null,null,null,null,null,null,null,null,null,null,null,{"$f":"F404","v":4},null,null,null,null,null,null,null,{"$f":"N404","v":12}]
[null,null,null,"벽관통 홈파기 Φ22이하",null,null,null,null,null,null,null,null,null,null,null,null,null,null,null,null,1]
[null,null,"17",{"$f":"목록별산출서!E362","v":"2+2"},{"$f":"IF(egTextCal(D406)<>0, egTextCal(D406),\"\")","v":4},null,null,null,null,null,null,null,null,null,null,null,null,null,null,null,{"$f":"IF(E406*U405<>0,E406*U405,  )","v":4},null,null,null,null,null,null,null,null,null,null,null,null,null,null,null,null,null,null,null,null,null,null,null,null,null,null,null,null,null,null,null,null,null,null,null,null,null,null,null,null,null,null,null,null,null,null,null,null,null,null,null,null,null,null,null,null,null,null,null,null,null,null,null,null,null,null,null,null,null,null,null,null,{"$f":"U406","v":4}]
[null,null,null,"방우형콘센트(2P 2구 접지)-말단",null,null,null,null,null,null,1,null,null,null,null,null,null,1]
[null,null,"18",{"$f":"목록별산출서!E363","v":"2"},{"$f":"IF(egTextCal(D408)<>0, egTextCal(D408),\"\")","v":2},null,null,null,null,null,{"$f":"IF(E408*K407<>0,E408*K407,  )","v":2},null,null,null,null,null,null,{"$f":"IF(E408*R407<>0,E408*R407,  )","v":2},null,null,null,null,null,null,null,null,null,null,null,null,null,null,null,null,null,null,null,null,null,null,null,null,null,null,null,null,null,null,null,null,null,null,null,null,null,null,null,null,null,null,null,null,null,null,null,null,null,null,null,null,null,null,null,null,null,null,null,null,null,null,null,null,null,{"$f":"K408","v":2},null,null,null,null,null,null,{"$f":"R408","v":2}]
[null,null,null,"아우트렛박스 8각 54㎜",null,null,null,null,2,1,null,null,1]
[null,null,"19",{"$f":"목록별산출서!E365","v":"2"},{"$f":"IF(egTextCal(D410)<>0, egTextCal(D410),\"\")","v":2},null,null,null,{"$f":"IF(E410*I409<>0,E410*I409,  )","v":4},{"$f":"IF(E410*J409<>0,E410*J409,  )","v":2},null,null,{"$f":"IF(E410*M409<>0,E410*M409,  )","v":2},null,null,null,null,null,null,null,null,null,null,null,null,null,null,null,null,null,null,null,null,null,null,null,null,null,null,null,null,null,null,null,null,null,null,null,null,null,null,null,null,null,null,null,null,null,null,null,null,null,null,null,null,null,null,null,null,null,null,null,null,null,null,null,null,null,null,null,null,{"$f":"I410","v":4},{"$f":"J410","v":2},null,null,{"$f":"M410","v":2}]
[]
[null,null,"20"]
[]
[null,null,"21"]
[]
[null,null,null,null,null,"전선관","1종가요","1종가요","1종가요","아우트렛","스위치","PVCBOX","박스커버","전선","접지전선","케이블","콘센트","방우콘","MCCBABS","압착단자","홈파기","벽관통"]
[null,null,"No","산 출 목 록 / 산 출 수 식","단위/계","(KS)","전선관","전선관","커넥터","8각박스","1구박스",null,"8각","HFIX","F-GV","F-CV","원형접지","매입접지","4P30AF","R형IEC90",null,"코어Φ50"]
[null,null,null,null,null,"CD16c","방수16c","방수28c","방수16c","54㎜","54mm","4각","평형","2.25mm","2.5_㎟","2.5_㎟/4c","250V","2구250V","20AT","2.5㎟","Φ22","25cm"]
[null,null,null,"▷ER3"]
[null,null,"1",null,{"$f":"IF(egTextCal(D420)<>0, egTextCal(D420),\"\")","v":""}]
[null,null,null,"벽관통 구멍 Φ50-벽두께 25cm",null,null,null,null,null,null,null,null,null,null,null,null,null,null,null,null,null,1]
[null,null,"2",{"$f":"목록별산출서!E371","v":"1"},{"$f":"IF(egTextCal(D422)<>0, egTextCal(D422),\"\")","v":1},null,null,null,null,null,null,null,null,null,null,null,null,null,null,null,null,{"$f":"IF(E422*V421<>0,E422*V421,  )","v":1},null,null,null,null,null,null,null,null,null,null,null,null,null,null,null,null,null,null,null,null,null,null,null,null,null,null,null,null,null,null,null,null,null,null,null,null,null,null,null,null,null,null,null,null,null,null,null,null,null,null,null,null,null,null,null,null,null,null,null,null,null,null,null,null,null,null,null,null,null,null,null,null,{"$f":"V422","v":1}]
[null,null,null,"FLEX 16C (HFIX 4sqx2,E4sq)",null,null,1,null,null,null,null,null,null,3]
[null,null,"3",{"$f":"목록별산출서!E372","v":"10+2"},{"$f":"IF(egTextCal(D424)<>0, egTextCal(D424),\"\")","v":12},null,{"$f":"IF(E424*G423<>0,E424*G423,  )","v":12},null,null,null,null,null,null,{"$f":"IF(E424*N423<>0,E424*N423,  )","v":36},null,null,null,null,null,null,null,null,null,null,null,null,null,null,null,null,null,null,null,null,null,null,null,null,null,null,null,null,null,null,null,null,null,null,null,null,null,null,null,null,null,null,null,null,null,null,null,null,null,null,null,null,null,null,null,null,null,null,null,null,null,null,null,null,null,{"$f":"G424","v":12},null,null,null,null,null,null,{"$f":"N424","v":36}]
[null,null,null,"콘센트 노출-접지형,250V 원형",null,null,null,null,null,null,null,null,null,null,null,null,1]
[null,null,"4",{"$f":"목록별산출서!E374","v":"2"},{"$f":"IF(egTextCal(D426)<>0, egTextCal(D426),\"\")","v":2},null,null,null,null,null,null,null,null,null,null,null,{"$f":"IF(E426*Q425<>0,E426*Q425,  )","v":2},null,null,null,null,null,null,null,null,null,null,null,null,null,null,null,null,null,null,null,null,null,null,null,null,null,null,null,null,null,null,null,null,null,null,null,null,null,null,null,null,null,null,null,null,null,null,null,null,null,null,null,null,null,null,null,null,null,null,null,null,null,null,null,null,null,null,null,null,null,null,null,null,{"$f":"Q426","v":2}]
[]
[null,null,"5"]
[null,null,null,"▷R3"]
[null,null,"6",null,{"$f":"IF(egTextCal(D430)<>0, egTextCal(D430),\"\")","v":""}]
[null,null,null,"벽관통 구멍 Φ50-벽두께 25cm",null,null,null,null,null,null,null,null,null,null,null,null,null,null,null,null,null,1]
[null,null,"7",{"$f":"목록별산출서!E377","v":"1"},{"$f":"IF(egTextCal(D432)<>0, egTextCal(D432),\"\")","v":1},null,null,null,null,null,null,null,null,null,null,null,null,null,null,null,null,{"$f":"IF(E432*V431<>0,E432*V431,  )","v":1},null,null,null,null,null,null,null,null,null,null,null,null,null,null,null,null,null,null,null,null,null,null,null,null,null,null,null,null,null,null,null,null,null,null,null,null,null,null,null,null,null,null,null,null,null,null,null,null,null,null,null,null,null,null,null,null,null,null,null,null,null,null,null,null,null,null,null,null,null,null,null,null,{"$f":"V432","v":1}]
[null,null,null,"FLEX 16C (HFIX 4sqx2,E4sq)",null,null,1,null,null,null,null,null,null,3]
[null,null,"8",{"$f":"목록별산출서!E378","v":"5"},{"$f":"IF(egTextCal(D434)<>0, egTextCal(D434),\"\")","v":5},null,{"$f":"IF(E434*G433<>0,E434*G433,  )","v":5},null,null,null,null,null,null,{"$f":"IF(E434*N433<>0,E434*N433,  )","v":15},null,null,null,null,null,null,null,null,null,null,null,null,null,null,null,null,null,null,null,null,null,null,null,null,null,null,null,null,null,null,null,null,null,null,null,null,null,null,null,null,null,null,null,null,null,null,null,null,null,null,null,null,null,null,null,null,null,null,null,null,null,null,null,null,null,{"$f":"G434","v":5},null,null,null,null,null,null,{"$f":"N434","v":15}]
[null,null,null,"난연CD 16C (HFIX 4sqx2,E4sq)",null,1,null,null,null,null,null,null,null,3]
[null,null,"9",{"$f":"목록별산출서!E380","v":"2+2"},{"$f":"IF(egTextCal(D436)<>0, egTextCal(D436),\"\")","v":4},{"$f":"IF(E436*F435<>0,E436*F435,  )","v":4},null,null,null,null,null,null,null,{"$f":"IF(E436*N435<>0,E436*N435,  )","v":12},null,null,null,null,null,null,null,null,null,null,null,null,null,null,null,null,null,null,null,null,null,null,null,null,null,null,null,null,null,null,null,null,null,null,null,null,null,null,null,null,null,null,null,null,null,null,null,null,null,null,null,null,null,null,null,null,null,null,null,null,null,null,null,null,{"$f":"F436","v":4},null,null,null,null,null,null,null,{"$f":"N436","v":12}]
[null,null,null,"벽관통 홈파기 Φ22이하",null,null,null,null,null,null,null,null,null,null,null,null,null,null,null,null,1]
[null,null,"10",{"$f":"목록별산출서!E382","v":"2+2"},{"$f":"IF(egTextCal(D438)<>0, egTextCal(D438),\"\")","v":4},null,null,null,null,null,null,null,null,null,null,null,null,null,null,null,{"$f":"IF(E438*U437<>0,E438*U437,  )","v":4},null,null,null,null,null,null,null,null,null,null,null,null,null,null,null,null,null,null,null,null,null,null,null,null,null,null,null,null,null,null,null,null,null,null,null,null,null,null,null,null,null,null,null,null,null,null,null,null,null,null,null,null,null,null,null,null,null,null,null,null,null,null,null,null,null,null,null,null,null,null,null,null,{"$f":"U438","v":4}]
[null,null,null,"방우형콘센트(2P 2구 접지)-말단",null,null,null,null,null,null,1,null,null,null,null,null,null,1]
[null,null,"11",{"$f":"목록별산출서!E383","v":"2"},{"$f":"IF(egTextCal(D440)<>0, egTextCal(D440),\"\")","v":2},null,null,null,null,null,{"$f":"IF(E440*K439<>0,E440*K439,  )","v":2},null,null,null,null,null,null,{"$f":"IF(E440*R439<>0,E440*R439,  )","v":2},null,null,null,null,null,null,null,null,null,null,null,null,null,null,null,null,null,null,null,null,null,null,null,null,null,null,null,null,null,null,null,null,null,null,null,null,null,null,null,null,null,null,null,null,null,null,null,null,null,null,null,null,null,null,null,null,null,null,null,null,null,null,null,null,null,{"$f":"K440","v":2},null,null,null,null,null,null,{"$f":"R440","v":2}]
[null,null,null,"아우트렛박스 8각 54㎜",null,null,null,null,2,1,null,null,1]
[null,null,"12",{"$f":"목록별산출서!E385","v":"2"},{"$f":"IF(egTextCal(D442)<>0, egTextCal(D442),\"\")","v":2},null,null,null,{"$f":"IF(E442*I441<>0,E442*I441,  )","v":4},{"$f":"IF(E442*J441<>0,E442*J441,  )","v":2},null,null,{"$f":"IF(E442*M441<>0,E442*M441,  )","v":2},null,null,null,null,null,null,null,null,null,null,null,null,null,null,null,null,null,null,null,null,null,null,null,null,null,null,null,null,null,null,null,null,null,null,null,null,null,null,null,null,null,null,null,null,null,null,null,null,null,null,null,null,null,null,null,null,null,null,null,null,null,null,null,null,null,null,null,null,{"$f":"I442","v":4},{"$f":"J442","v":2},null,null,{"$f":"M442","v":2}]
[]
[null,null,"13"]
[]
[null,null,"14"]
[null,null,null,"▷ER4"]
[null,null,"15",null,{"$f":"IF(egTextCal(D448)<>0, egTextCal(D448),\"\")","v":""}]
[null,null,null,"벽관통 구멍 Φ50-벽두께 25cm",null,null,null,null,null,null,null,null,null,null,null,null,null,null,null,null,null,1]
[null,null,"16",{"$f":"목록별산출서!E391","v":"1"},{"$f":"IF(egTextCal(D450)<>0, egTextCal(D450),\"\")","v":1},null,null,null,null,null,null,null,null,null,null,null,null,null,null,null,null,{"$f":"IF(E450*V449<>0,E450*V449,  )","v":1},null,null,null,null,null,null,null,null,null,null,null,null,null,null,null,null,null,null,null,null,null,null,null,null,null,null,null,null,null,null,null,null,null,null,null,null,null,null,null,null,null,null,null,null,null,null,null,null,null,null,null,null,null,null,null,null,null,null,null,null,null,null,null,null,null,null,null,null,null,null,null,null,{"$f":"V450","v":1}]
[null,null,null,"FLEX 16C (HFIX 4sqx2,E4sq)",null,null,1,null,null,null,null,null,null,3]
[null,null,"17",{"$f":"목록별산출서!E392","v":"8+5+8"},{"$f":"IF(egTextCal(D452)<>0, egTextCal(D452),\"\")","v":21},null,{"$f":"IF(E452*G451<>0,E452*G451,  )","v":21},null,null,null,null,null,null,{"$f":"IF(E452*N451<>0,E452*N451,  )","v":63},null,null,null,null,null,null,null,null,null,null,null,null,null,null,null,null,null,null,null,null,null,null,null,null,null,null,null,null,null,null,null,null,null,null,null,null,null,null,null,null,null,null,null,null,null,null,null,null,null,null,null,null,null,null,null,null,null,null,null,null,null,null,null,null,null,{"$f":"G452","v":21},null,null,null,null,null,null,{"$f":"N452","v":63}]
[null,null,null,"콘센트 노출-접지형,250V 원형",null,null,null,null,null,null,null,null,null,null,null,null,1]
[null,null,"18",{"$f":"목록별산출서!E394","v":"2"},{"$f":"IF(egTextCal(D454)<>0, egTextCal(D454),\"\")","v":2},null,null,null,null,null,null,null,null,null,null,null,{"$f":"IF(E454*Q453<>0,E454*Q453,  )","v":2},null,null,null,null,null,null,null,null,null,null,null,null,null,null,null,null,null,null,null,null,null,null,null,null,null,null,null,null,null,null,null,null,null,null,null,null,null,null,null,null,null,null,null,null,null,null,null,null,null,null,null,null,null,null,null,null,null,null,null,null,null,null,null,null,null,null,null,null,null,null,null,null,{"$f":"Q454","v":2}]
[]
[null,null,"19"]
[null,null,null,"▷R4"]
[null,null,"20",null,{"$f":"IF(egTextCal(D458)<>0, egTextCal(D458),\"\")","v":""}]
[null,null,null,"벽관통 구멍 Φ50-벽두께 25cm",null,null,null,null,null,null,null,null,null,null,null,null,null,null,null,null,null,1]
[null,null,"21",{"$f":"목록별산출서!E397","v":"1"},{"$f":"IF(egTextCal(D460)<>0, egTextCal(D460),\"\")","v":1},null,null,null,null,null,null,null,null,null,null,null,null,null,null,null,null,{"$f":"IF(E460*V459<>0,E460*V459,  )","v":1},null,null,null,null,null,null,null,null,null,null,null,null,null,null,null,null,null,null,null,null,null,null,null,null,null,null,null,null,null,null,null,null,null,null,null,null,null,null,null,null,null,null,null,null,null,null,null,null,null,null,null,null,null,null,null,null,null,null,null,null,null,null,null,null,null,null,null,null,null,null,null,null,{"$f":"V460","v":1}]
[]
[null,null,null,null,null,"전선관","1종가요","1종가요","1종가요","아우트렛","스위치","PVCBOX","박스커버","전선","접지전선","케이블","콘센트","방우콘","MCCBABS","압착단자","홈파기","벽관통"]
[null,null,"No","산 출 목 록 / 산 출 수 식","단위/계","(KS)","전선관","전선관","커넥터","8각박스","1구박스",null,"8각","HFIX","F-GV","F-CV","원형접지","매입접지","4P30AF","R형IEC90",null,"코어Φ50"]
[null,null,null,null,null,"CD16c","방수16c","방수28c","방수16c","54㎜","54mm","4각","평형","2.25mm","2.5_㎟","2.5_㎟/4c","250V","2구250V","20AT","2.5㎟","Φ22","25cm"]
[null,null,null,"FLEX 16C (HFIX 4sqx2,E4sq)",null,null,1,null,null,null,null,null,null,3]
[null,null,"1",{"$f":"목록별산출서!E398","v":"8+5+8"},{"$f":"IF(egTextCal(D466)<>0, egTextCal(D466),\"\")","v":21},null,{"$f":"IF(E466*G465<>0,E466*G465,  )","v":21},null,null,null,null,null,null,{"$f":"IF(E466*N465<>0,E466*N465,  )","v":63},null,null,null,null,null,null,null,null,null,null,null,null,null,null,null,null,null,null,null,null,null,null,null,null,null,null,null,null,null,null,null,null,null,null,null,null,null,null,null,null,null,null,null,null,null,null,null,null,null,null,null,null,null,null,null,null,null,null,null,null,null,null,null,null,null,{"$f":"G466","v":21},null,null,null,null,null,null,{"$f":"N466","v":63}]
[null,null,null,"난연CD 16C (HFIX 4sqx2,E4sq)",null,1,null,null,null,null,null,null,null,3]
[null,null,"2",{"$f":"목록별산출서!E400","v":"2+2"},{"$f":"IF(egTextCal(D468)<>0, egTextCal(D468),\"\")","v":4},{"$f":"IF(E468*F467<>0,E468*F467,  )","v":4},null,null,null,null,null,null,null,{"$f":"IF(E468*N467<>0,E468*N467,  )","v":12},null,null,null,null,null,null,null,null,null,null,null,null,null,null,null,null,null,null,null,null,null,null,null,null,null,null,null,null,null,null,null,null,null,null,null,null,null,null,null,null,null,null,null,null,null,null,null,null,null,null,null,null,null,null,null,null,null,null,null,null,null,null,null,null,{"$f":"F468","v":4},null,null,null,null,null,null,null,{"$f":"N468","v":12}]
[null,null,null,"벽관통 홈파기 Φ22이하",null,null,null,null,null,null,null,null,null,null,null,null,null,null,null,null,1]
[null,null,"3",{"$f":"목록별산출서!E402","v":"2+2"},{"$f":"IF(egTextCal(D470)<>0, egTextCal(D470),\"\")","v":4},null,null,null,null,null,null,null,null,null,null,null,null,null,null,null,{"$f":"IF(E470*U469<>0,E470*U469,  )","v":4},null,null,null,null,null,null,null,null,null,null,null,null,null,null,null,null,null,null,null,null,null,null,null,null,null,null,null,null,null,null,null,null,null,null,null,null,null,null,null,null,null,null,null,null,null,null,null,null,null,null,null,null,null,null,null,null,null,null,null,null,null,null,null,null,null,null,null,null,null,null,null,null,{"$f":"U470","v":4}]
[null,null,null,"방우형콘센트(2P 2구 접지)-말단",null,null,null,null,null,null,1,null,null,null,null,null,null,1]
[null,null,"4",{"$f":"목록별산출서!E403","v":"2"},{"$f":"IF(egTextCal(D472)<>0, egTextCal(D472),\"\")","v":2},null,null,null,null,null,{"$f":"IF(E472*K471<>0,E472*K471,  )","v":2},null,null,null,null,null,null,{"$f":"IF(E472*R471<>0,E472*R471,  )","v":2},null,null,null,null,null,null,null,null,null,null,null,null,null,null,null,null,null,null,null,null,null,null,null,null,null,null,null,null,null,null,null,null,null,null,null,null,null,null,null,null,null,null,null,null,null,null,null,null,null,null,null,null,null,null,null,null,null,null,null,null,null,null,null,null,null,{"$f":"K472","v":2},null,null,null,null,null,null,{"$f":"R472","v":2}]
[null,null,null,"아우트렛박스 8각 54㎜",null,null,null,null,2,1,null,null,1]
[null,null,"5",{"$f":"목록별산출서!E405","v":"2"},{"$f":"IF(egTextCal(D474)<>0, egTextCal(D474),\"\")","v":2},null,null,null,{"$f":"IF(E474*I473<>0,E474*I473,  )","v":4},{"$f":"IF(E474*J473<>0,E474*J473,  )","v":2},null,null,{"$f":"IF(E474*M473<>0,E474*M473,  )","v":2},null,null,null,null,null,null,null,null,null,null,null,null,null,null,null,null,null,null,null,null,null,null,null,null,null,null,null,null,null,null,null,null,null,null,null,null,null,null,null,null,null,null,null,null,null,null,null,null,null,null,null,null,null,null,null,null,null,null,null,null,null,null,null,null,null,null,null,null,{"$f":"I474","v":4},{"$f":"J474","v":2},null,null,{"$f":"M474","v":2}]
[]
[null,null,"6"]
[]
[null,null,"7"]
[null,null,null,"▷ER5"]
[null,null,"8",null,{"$f":"IF(egTextCal(D480)<>0, egTextCal(D480),\"\")","v":""}]
[null,null,null,"벽관통 구멍 Φ50-벽두께 25cm",null,null,null,null,null,null,null,null,null,null,null,null,null,null,null,null,null,1]
[null,null,"9",{"$f":"목록별산출서!E411","v":"1"},{"$f":"IF(egTextCal(D482)<>0, egTextCal(D482),\"\")","v":1},null,null,null,null,null,null,null,null,null,null,null,null,null,null,null,null,{"$f":"IF(E482*V481<>0,E482*V481,  )","v":1},null,null,null,null,null,null,null,null,null,null,null,null,null,null,null,null,null,null,null,null,null,null,null,null,null,null,null,null,null,null,null,null,null,null,null,null,null,null,null,null,null,null,null,null,null,null,null,null,null,null,null,null,null,null,null,null,null,null,null,null,null,null,null,null,null,null,null,null,null,null,null,null,{"$f":"V482","v":1}]
[null,null,null,"FLEX 16C (HFIX 4sqx2,E4sq)",null,null,1,null,null,null,null,null,null,3]
[null,null,"10",{"$f":"목록별산출서!E412","v":"8+5+5+8"},{"$f":"IF(egTextCal(D484)<>0, egTextCal(D484),\"\")","v":26},null,{"$f":"IF(E484*G483<>0,E484*G483,  )","v":26},null,null,null,null,null,null,{"$f":"IF(E484*N483<>0,E484*N483,  )","v":78},null,null,null,null,null,null,null,null,null,null,null,null,null,null,null,null,null,null,null,null,null,null,null,null,null,null,null,null,null,null,null,null,null,null,null,null,null,null,null,null,null,null,null,null,null,null,null,null,null,null,null,null,null,null,null,null,null,null,null,null,null,null,null,null,null,{"$f":"G484","v":26},null,null,null,null,null,null,{"$f":"N484","v":78}]
[null,null,null,"콘센트 노출-접지형,250V 원형",null,null,null,null,null,null,null,null,null,null,null,null,1]
[null,null,"11",{"$f":"목록별산출서!E414","v":"2"},{"$f":"IF(egTextCal(D486)<>0, egTextCal(D486),\"\")","v":2},null,null,null,null,null,null,null,null,null,null,null,{"$f":"IF(E486*Q485<>0,E486*Q485,  )","v":2},null,null,null,null,null,null,null,null,null,null,null,null,null,null,null,null,null,null,null,null,null,null,null,null,null,null,null,null,null,null,null,null,null,null,null,null,null,null,null,null,null,null,null,null,null,null,null,null,null,null,null,null,null,null,null,null,null,null,null,null,null,null,null,null,null,null,null,null,null,null,null,null,{"$f":"Q486","v":2}]
[]
[null,null,"12"]
[null,null,null,"▷R5"]
[null,null,"13",null,{"$f":"IF(egTextCal(D490)<>0, egTextCal(D490),\"\")","v":""}]
[null,null,null,"벽관통 구멍 Φ50-벽두께 25cm",null,null,null,null,null,null,null,null,null,null,null,null,null,null,null,null,null,1]
[null,null,"14",{"$f":"목록별산출서!E417","v":"1"},{"$f":"IF(egTextCal(D492)<>0, egTextCal(D492),\"\")","v":1},null,null,null,null,null,null,null,null,null,null,null,null,null,null,null,null,{"$f":"IF(E492*V491<>0,E492*V491,  )","v":1},null,null,null,null,null,null,null,null,null,null,null,null,null,null,null,null,null,null,null,null,null,null,null,null,null,null,null,null,null,null,null,null,null,null,null,null,null,null,null,null,null,null,null,null,null,null,null,null,null,null,null,null,null,null,null,null,null,null,null,null,null,null,null,null,null,null,null,null,null,null,null,null,{"$f":"V492","v":1}]
[null,null,null,"FLEX 16C (HFIX 4sqx2,E4sq)",null,null,1,null,null,null,null,null,null,3]
[null,null,"15",{"$f":"목록별산출서!E418","v":"8+5+5+8"},{"$f":"IF(egTextCal(D494)<>0, egTextCal(D494),\"\")","v":26},null,{"$f":"IF(E494*G493<>0,E494*G493,  )","v":26},null,null,null,null,null,null,{"$f":"IF(E494*N493<>0,E494*N493,  )","v":78},null,null,null,null,null,null,null,null,null,null,null,null,null,null,null,null,null,null,null,null,null,null,null,null,null,null,null,null,null,null,null,null,null,null,null,null,null,null,null,null,null,null,null,null,null,null,null,null,null,null,null,null,null,null,null,null,null,null,null,null,null,null,null,null,null,{"$f":"G494","v":26},null,null,null,null,null,null,{"$f":"N494","v":78}]
[null,null,null,"난연CD 16C (HFIX 4sqx2,E4sq)",null,1,null,null,null,null,null,null,null,3]
[null,null,"16",{"$f":"목록별산출서!E420","v":"2+2"},{"$f":"IF(egTextCal(D496)<>0, egTextCal(D496),\"\")","v":4},{"$f":"IF(E496*F495<>0,E496*F495,  )","v":4},null,null,null,null,null,null,null,{"$f":"IF(E496*N495<>0,E496*N495,  )","v":12},null,null,null,null,null,null,null,null,null,null,null,null,null,null,null,null,null,null,null,null,null,null,null,null,null,null,null,null,null,null,null,null,null,null,null,null,null,null,null,null,null,null,null,null,null,null,null,null,null,null,null,null,null,null,null,null,null,null,null,null,null,null,null,null,{"$f":"F496","v":4},null,null,null,null,null,null,null,{"$f":"N496","v":12}]
[null,null,null,"벽관통 홈파기 Φ22이하",null,null,null,null,null,null,null,null,null,null,null,null,null,null,null,null,1]
[null,null,"17",{"$f":"목록별산출서!E422","v":"2+2"},{"$f":"IF(egTextCal(D498)<>0, egTextCal(D498),\"\")","v":4},null,null,null,null,null,null,null,null,null,null,null,null,null,null,null,{"$f":"IF(E498*U497<>0,E498*U497,  )","v":4},null,null,null,null,null,null,null,null,null,null,null,null,null,null,null,null,null,null,null,null,null,null,null,null,null,null,null,null,null,null,null,null,null,null,null,null,null,null,null,null,null,null,null,null,null,null,null,null,null,null,null,null,null,null,null,null,null,null,null,null,null,null,null,null,null,null,null,null,null,null,null,null,{"$f":"U498","v":4}]
[null,null,null,"방우형콘센트(2P 2구 접지)-말단",null,null,null,null,null,null,1,null,null,null,null,null,null,1]
[null,null,"18",{"$f":"목록별산출서!E423","v":"2"},{"$f":"IF(egTextCal(D500)<>0, egTextCal(D500),\"\")","v":2},null,null,null,null,null,{"$f":"IF(E500*K499<>0,E500*K499,  )","v":2},null,null,null,null,null,null,{"$f":"IF(E500*R499<>0,E500*R499,  )","v":2},null,null,null,null,null,null,null,null,null,null,null,null,null,null,null,null,null,null,null,null,null,null,null,null,null,null,null,null,null,null,null,null,null,null,null,null,null,null,null,null,null,null,null,null,null,null,null,null,null,null,null,null,null,null,null,null,null,null,null,null,null,null,null,null,null,{"$f":"K500","v":2},null,null,null,null,null,null,{"$f":"R500","v":2}]
[null,null,null,"아우트렛박스 8각 54㎜",null,null,null,null,2,1,null,null,1]
[null,null,"19",{"$f":"목록별산출서!E425","v":"2"},{"$f":"IF(egTextCal(D502)<>0, egTextCal(D502),\"\")","v":2},null,null,null,{"$f":"IF(E502*I501<>0,E502*I501,  )","v":4},{"$f":"IF(E502*J501<>0,E502*J501,  )","v":2},null,null,{"$f":"IF(E502*M501<>0,E502*M501,  )","v":2},null,null,null,null,null,null,null,null,null,null,null,null,null,null,null,null,null,null,null,null,null,null,null,null,null,null,null,null,null,null,null,null,null,null,null,null,null,null,null,null,null,null,null,null,null,null,null,null,null,null,null,null,null,null,null,null,null,null,null,null,null,null,null,null,null,null,null,null,{"$f":"I502","v":4},{"$f":"J502","v":2},null,null,{"$f":"M502","v":2}]
[]
[null,null,"20"]
[]
[null,null,"21"]
[]
[null,null,null,null,null,"전선관","1종가요","1종가요","1종가요","아우트렛","스위치","PVCBOX","박스커버","전선","접지전선","케이블","콘센트","방우콘","MCCBABS","압착단자","홈파기","벽관통"]
[null,null,"No","산 출 목 록 / 산 출 수 식","단위/계","(KS)","전선관","전선관","커넥터","8각박스","1구박스",null,"8각","HFIX","F-GV","F-CV","원형접지","매입접지","4P30AF","R형IEC90",null,"코어Φ50"]
[null,null,null,null,null,"CD16c","방수16c","방수28c","방수16c","54㎜","54mm","4각","평형","2.25mm","2.5_㎟","2.5_㎟/4c","250V","2구250V","20AT","2.5㎟","Φ22","25cm"]
[null,null,null,"▷ER6"]
[null,null,"1",null,{"$f":"IF(egTextCal(D512)<>0, egTextCal(D512),\"\")","v":""}]
[null,null,null,"벽관통 구멍 Φ50-벽두께 25cm",null,null,null,null,null,null,null,null,null,null,null,null,null,null,null,null,null,1]
[null,null,"2",{"$f":"목록별산출서!E431","v":"1"},{"$f":"IF(egTextCal(D514)<>0, egTextCal(D514),\"\")","v":1},null,null,null,null,null,null,null,null,null,null,null,null,null,null,null,null,{"$f":"IF(E514*V513<>0,E514*V513,  )","v":1},null,null,null,null,null,null,null,null,null,null,null,null,null,null,null,null,null,null,null,null,null,null,null,null,null,null,null,null,null,null,null,null,null,null,null,null,null,null,null,null,null,null,null,null,null,null,null,null,null,null,null,null,null,null,null,null,null,null,null,null,null,null,null,null,null,null,null,null,null,null,null,null,{"$f":"V514","v":1}]
[null,null,null,"FLEX 16C (HFIX 4sqx2,E4sq)",null,null,1,null,null,null,null,null,null,3]
[null,null,"3",{"$f":"목록별산출서!E432","v":"8+5+5+5+8"},{"$f":"IF(egTextCal(D516)<>0, egTextCal(D516),\"\")","v":31},null,{"$f":"IF(E516*G515<>0,E516*G515,  )","v":31},null,null,null,null,null,null,{"$f":"IF(E516*N515<>0,E516*N515,  )","v":93},null,null,null,null,null,null,null,null,null,null,null,null,null,null,null,null,null,null,null,null,null,null,null,null,null,null,null,null,null,null,null,null,null,null,null,null,null,null,null,null,null,null,null,null,null,null,null,null,null,null,null,null,null,null,null,null,null,null,null,null,null,null,null,null,null,{"$f":"G516","v":31},null,null,null,null,null,null,{"$f":"N516","v":93}]
[null,null,null,"콘센트 노출-접지형,250V 원형",null,null,null,null,null,null,null,null,null,null,null,null,1]
[null,null,"4",{"$f":"목록별산출서!E434","v":"2"},{"$f":"IF(egTextCal(D518)<>0, egTextCal(D518),\"\")","v":2},null,null,null,null,null,null,null,null,null,null,null,{"$f":"IF(E518*Q517<>0,E518*Q517,  )","v":2},null,null,null,null,null,null,null,null,null,null,null,null,null,null,null,null,null,null,null,null,null,null,null,null,null,null,null,null,null,null,null,null,null,null,null,null,null,null,null,null,null,null,null,null,null,null,null,null,null,null,null,null,null,null,null,null,null,null,null,null,null,null,null,null,null,null,null,null,null,null,null,null,{"$f":"Q518","v":2}]
[]
[null,null,"5"]
[null,null,null,"▷R6"]
[null,null,"6",null,{"$f":"IF(egTextCal(D522)<>0, egTextCal(D522),\"\")","v":""}]
[null,null,null,"벽관통 구멍 Φ50-벽두께 25cm",null,null,null,null,null,null,null,null,null,null,null,null,null,null,null,null,null,1]
[null,null,"7",{"$f":"목록별산출서!E437","v":"1"},{"$f":"IF(egTextCal(D524)<>0, egTextCal(D524),\"\")","v":1},null,null,null,null,null,null,null,null,null,null,null,null,null,null,null,null,{"$f":"IF(E524*V523<>0,E524*V523,  )","v":1},null,null,null,null,null,null,null,null,null,null,null,null,null,null,null,null,null,null,null,null,null,null,null,null,null,null,null,null,null,null,null,null,null,null,null,null,null,null,null,null,null,null,null,null,null,null,null,null,null,null,null,null,null,null,null,null,null,null,null,null,null,null,null,null,null,null,null,null,null,null,null,null,{"$f":"V524","v":1}]
[null,null,null,"FLEX 16C (HFIX 4sqx2,E4sq)",null,null,1,null,null,null,null,null,null,3]
[null,null,"8",{"$f":"목록별산출서!E438","v":"8+5+5+5+8"},{"$f":"IF(egTextCal(D526)<>0, egTextCal(D526),\"\")","v":31},null,{"$f":"IF(E526*G525<>0,E526*G525,  )","v":31},null,null,null,null,null,null,{"$f":"IF(E526*N525<>0,E526*N525,  )","v":93},null,null,null,null,null,null,null,null,null,null,null,null,null,null,null,null,null,null,null,null,null,null,null,null,null,null,null,null,null,null,null,null,null,null,null,null,null,null,null,null,null,null,null,null,null,null,null,null,null,null,null,null,null,null,null,null,null,null,null,null,null,null,null,null,null,{"$f":"G526","v":31},null,null,null,null,null,null,{"$f":"N526","v":93}]
[null,null,null,"난연CD 16C (HFIX 4sqx2,E4sq)",null,1,null,null,null,null,null,null,null,3]
[null,null,"9",{"$f":"목록별산출서!E440","v":"2+2"},{"$f":"IF(egTextCal(D528)<>0, egTextCal(D528),\"\")","v":4},{"$f":"IF(E528*F527<>0,E528*F527,  )","v":4},null,null,null,null,null,null,null,{"$f":"IF(E528*N527<>0,E528*N527,  )","v":12},null,null,null,null,null,null,null,null,null,null,null,null,null,null,null,null,null,null,null,null,null,null,null,null,null,null,null,null,null,null,null,null,null,null,null,null,null,null,null,null,null,null,null,null,null,null,null,null,null,null,null,null,null,null,null,null,null,null,null,null,null,null,null,null,{"$f":"F528","v":4},null,null,null,null,null,null,null,{"$f":"N528","v":12}]
[null,null,null,"벽관통 홈파기 Φ22이하",null,null,null,null,null,null,null,null,null,null,null,null,null,null,null,null,1]
[null,null,"10",{"$f":"목록별산출서!E442","v":"2+2"},{"$f":"IF(egTextCal(D530)<>0, egTextCal(D530),\"\")","v":4},null,null,null,null,null,null,null,null,null,null,null,null,null,null,null,{"$f":"IF(E530*U529<>0,E530*U529,  )","v":4},null,null,null,null,null,null,null,null,null,null,null,null,null,null,null,null,null,null,null,null,null,null,null,null,null,null,null,null,null,null,null,null,null,null,null,null,null,null,null,null,null,null,null,null,null,null,null,null,null,null,null,null,null,null,null,null,null,null,null,null,null,null,null,null,null,null,null,null,null,null,null,null,{"$f":"U530","v":4}]
[null,null,null,"방우형콘센트(2P 2구 접지)-말단",null,null,null,null,null,null,1,null,null,null,null,null,null,1]
[null,null,"11",{"$f":"목록별산출서!E443","v":"2"},{"$f":"IF(egTextCal(D532)<>0, egTextCal(D532),\"\")","v":2},null,null,null,null,null,{"$f":"IF(E532*K531<>0,E532*K531,  )","v":2},null,null,null,null,null,null,{"$f":"IF(E532*R531<>0,E532*R531,  )","v":2},null,null,null,null,null,null,null,null,null,null,null,null,null,null,null,null,null,null,null,null,null,null,null,null,null,null,null,null,null,null,null,null,null,null,null,null,null,null,null,null,null,null,null,null,null,null,null,null,null,null,null,null,null,null,null,null,null,null,null,null,null,null,null,null,null,{"$f":"K532","v":2},null,null,null,null,null,null,{"$f":"R532","v":2}]
[null,null,null,"아우트렛박스 8각 54㎜",null,null,null,null,2,1,null,null,1]
[null,null,"12",{"$f":"목록별산출서!E445","v":"2"},{"$f":"IF(egTextCal(D534)<>0, egTextCal(D534),\"\")","v":2},null,null,null,{"$f":"IF(E534*I533<>0,E534*I533,  )","v":4},{"$f":"IF(E534*J533<>0,E534*J533,  )","v":2},null,null,{"$f":"IF(E534*M533<>0,E534*M533,  )","v":2},null,null,null,null,null,null,null,null,null,null,null,null,null,null,null,null,null,null,null,null,null,null,null,null,null,null,null,null,null,null,null,null,null,null,null,null,null,null,null,null,null,null,null,null,null,null,null,null,null,null,null,null,null,null,null,null,null,null,null,null,null,null,null,null,null,null,null,null,{"$f":"I534","v":4},{"$f":"J534","v":2},null,null,{"$f":"M534","v":2}]
[]
[null,null,"13"]
[]
[null,null,"14"]
[]
[null,null,"15"]
[]
[null,null,"16"]
[]
[null,null,"17"]
[]
[null,null,"18"]
[]
[null,null,"19"]
[]
[null,null,"20"]
[null,"산출계",null,"소계","식",{"$f":"SUM(CA374:CA550)","v":20},215,48,20,10,10,1,10,705,48,48,10,10,1,5,20,10]
[null,null,"21","소계*(1)[공종]개소",1,{"$f":"E552*F551","v":20},{"$f":"E552*G551","v":215},{"$f":"E552*H551","v":48},{"$f":"E552*I551","v":20},{"$f":"E552*J551","v":10},{"$f":"E552*K551","v":10},{"$f":"E552*L551","v":1},{"$f":"E552*M551","v":10},{"$f":"E552*N551","v":705},{"$f":"E552*O551","v":48},{"$f":"E552*P551","v":48},{"$f":"E552*Q551","v":10},{"$f":"E552*R551","v":10},{"$f":"E552*S551","v":1},{"$f":"E552*T551","v":5},{"$f":"E552*U551","v":20},{"$f":"E552*V551","v":10}]

{"sheet":"목록별산출서","index":14,"n_rows":465,"n_cols":14,"rows_kept":465,"cut":false,"hidden":true,"merged":[[255,3,255,13],[297,3,297,13],[339,3,339,13],[3,3,3,13],[45,3,45,13],[87,3,87,13],[171,3,171,13],[213,3,213,13],[0,3,0,13],[1,13,2,13],[1,9,2,9],[1,10,2,10],[1,11,2,11],[1,12,2,12],[1,8,2,8],[1,3,2,3],[1,4,2,4],[1,6,2,6],[1,7,2,7]]}
["총줄수->","465","64Bit용","[ 교육시설(서일관) 승강기 증축공사 및 리모델링 전기공사 ]"]
[null,null,null,"산 출 목 록","산 출 수 식","줄","수식계","코드","명칭","규격","단위","단위수식","단위계","계"]
[null,null,null,null,null,"수"]
[null,"공종줄","1","1.엘리베이터::1-1.철거공사"]
["P0101","LED 면조명 철거",null,"LED 면조명 철거","2+1+1+2+4+4+3","-",{"$f":"IF(egTextCal(E5)<>0, egTextCal(E5),   )","v":17},"MM041720642","LED 면조명 철거",null,"개",1,{"$f":"IF(egTextCal(L5)<>0, egTextCal(L5),   )","v":1},{"$f":"SUM(G5:G5)*M5","v":17}]
["P0101","LED 파이프펜던트 철거",null,"LED 파이프펜던트 철거","2","-",{"$f":"IF(egTextCal(E6)<>0, egTextCal(E6),   )","v":2},"MM041720651","LED 파이프펜던트 철거",null,"개",1,{"$f":"IF(egTextCal(L6)<>0, egTextCal(L6),   )","v":1},2]
["P0101","LED 원형직부등 철거",null,"LED 원형직부등 철거","1","-",{"$f":"IF(egTextCal(E7)<>0, egTextCal(E7),   )","v":1},"MM041720653","LED 원형직부등 철거",null,"개",1,{"$f":"IF(egTextCal(L7)<>0, egTextCal(L7),   )","v":1},1]
["P0101","전등스위치 철거",null,"전등스위치 철거","1+1+1+2+2+1","-",{"$f":"IF(egTextCal(E8)<>0, egTextCal(E8),   )","v":8},"MM041720657","전등스위치 철거",null,"개",1,{"$f":"IF(egTextCal(L8)<>0, egTextCal(L8),   )","v":1},8]
["P0101","콘센트 철거",null,"콘센트 철거","2+2","-",{"$f":"IF(egTextCal(E9)<>0, egTextCal(E9),   )","v":4},"MM041720659","콘센트 철거",null,"개",1,{"$f":"IF(egTextCal(L9)<>0, egTextCal(L9),   )","v":1},4]
["P0101","기타 전기공사",null,"기타 전기공사","7","-",{"$f":"IF(egTextCal(E10)<>0, egTextCal(E10),   )","v":7},"MM041720663","기타 전기공사","배관, 배선정리","식",1,{"$f":"IF(egTextCal(L10)<>0, egTextCal(L10),   )","v":1},7]
["P0101"]
["P0101"]
["P0101"]
["P0101"]
["P0101"]
["P0101"]
["P0101"]
["P0101"]
["P0101"]
["P0101"]
["P0101"]
["P0101"]
["P0101"]
["P0101"]
["P0101"]
["P0101"]
["P0101"]
["P0101"]
["P0101"]
["P0101"]
["P0101"]
["P0101"]
["P0101"]
["P0101"]
["P0101"]
["P0101"]
["P0101"]
["P0101"]
["P0101"]
["P0101"]
["P0101"]
["P0101"]
["P0101"]
["P0101"]
["P0101"]
[null,"공종줄","1","1.엘리베이터::1-2.전력간선공사"]
["P0102","MCCB ABS + 4P 50AF + 50AT",null,"배선용차단기(ABS-54) 4P 50AF 50AT","1","-",{"$f":"IF(egTextCal(E47)<>0, egTextCal(E47),   )","v":1},"MM300015105","배선용차단기(ABS-54)","4P 50AF 50AT","EA",1,{"$f":"IF(egTextCal(L47)<>0, egTextCal(L47),   )","v":1},{"$f":"SUM(G47:G47)*M47","v":1}]
["P0102","케이블 + F-CV + 16_㎟/4c",null,"F-CV 4C×16㎟, F-GV 16SQ (FLEX 54C)","15+5+5+5+5+5+(10)","1",{"$f":"IF(egTextCal(E48)<>0, egTextCal(E48),   )","v":50},"E1450287565","폴리에틸렌 난연케이블","0.6/1kv F-CV 4C×16㎟","M",1,{"$f":"IF(egTextCal(L48)<>0, egTextCal(L48),   )","v":1},{"$f":"SUM(G48:G50)*M48","v":50}]
["P0102","접지전선 + F-GV + 16_㎟",null,null,null,"2",null,"E1450927205","접지용비닐절연전선(F-GV)","16㎟","M",1,{"$f":"IF(egTextCal(L49)<>0, egTextCal(L49),   )","v":1},{"$f":"SUM(G48:G50)*M49","v":50}]
["P0102","1종 가요 + 전선관 + 일반54c",null,null,null,"3",null,"59753017008","1종금속제가요전선관","54 mm 일반-비방수","M",1,{"$f":"IF(egTextCal(L50)<>0, egTextCal(L50),   )","v":1},{"$f":"SUM(G48:G50)*M50","v":50}]
["P0102","러그단자 + 동1홀 + 16 ㎟",null,"러그단자 동관단자 1 HOLE 16 ㎟","(4+1)*2","-",{"$f":"IF(egTextCal(E51)<>0, egTextCal(E51),   )","v":10},"E9400177002","러그단자","동관단자 1 HOLE 16 ㎟","개",1,{"$f":"IF(egTextCal(L51)<>0, egTextCal(L51),   )","v":1},{"$f":"SUM(G51:G51)*M51","v":10}]
["P0102","LP-ELEV 분전반",null,"LP-ELEV 분전반","1","-",{"$f":"IF(egTextCal(E52)<>0, egTextCal(E52),   )","v":1},"MM041720669","LP-ELEV 분전반","600Wx600Hx150D","면",1,{"$f":"IF(egTextCal(L52)<>0, egTextCal(L52),   )","v":1},{"$f":"SUM(G52:G52)*M52","v":1}]
["P0102",null,null,null,null,"-"]
["P0102","케이블 + F-CV + 10_㎟/4c",null,"F-CV 4C×10㎟, F-GV 10SQ (FLEX 42C)","3","1",{"$f":"IF(egTextCal(E54)<>0, egTextCal(E54),   )","v":3},"E1450287564","폴리에틸렌 난연케이블","0.6/1kv F-CV 4C×10㎟","M",1,{"$f":"IF(egTextCal(L54)<>0, egTextCal(L54),   )","v":1},{"$f":"SUM(G54:G56)*M54","v":3}]
["P0102","접지전선 + F-GV + 10_㎟",null,null,null,"2",null,"E1450927204","접지용비닐절연전선(F-GV)","10㎟","M",1,{"$f":"IF(egTextCal(L55)<>0, egTextCal(L55),   )","v":1},{"$f":"SUM(G54:G56)*M55","v":3}]
["P0102","1종 가요 + 전선관 + 일반42c",null,null,null,"3",null,"59753017007","1종금속제가요전선관","42 mm 일반-비방수","M",1,{"$f":"IF(egTextCal(L56)<>0, egTextCal(L56),   )","v":1},{"$f":"SUM(G54:G56)*M56","v":3}]
["P0102","러그단자 + 동1홀 + 10 ㎟",null,"러그단자 동관단자 1 HOLE 10 ㎟","(4+1)*2","-",{"$f":"IF(egTextCal(E57)<>0, egTextCal(E57),   )","v":10},"E9400177001","러그단자","동관단자 1 HOLE 10 ㎟","개",1,{"$f":"IF(egTextCal(L57)<>0, egTextCal(L57),   )","v":1},{"$f":"SUM(G57:G57)*M57","v":10}]
["P0102"]
["P0102"]
["P0102"]
["P0102"]
["P0102"]
["P0102"]
["P0102"]
["P0102"]
["P0102"]
["P0102"]
["P0102"]
["P0102"]
["P0102"]
["P0102"]
["P0102"]
["P0102"]
["P0102"]
["P0102"]
["P0102"]
["P0102"]
["P0102"]
["P0102"]
["P0102"]
["P0102"]
["P0102"]
["P0102"]
["P0102"]
["P0102"]
["P0102"]
["P0102"]
[null,"공종줄","1","1.엘리베이터::1-3.전등설비공사"]
["P0103",null,null,"2층",null,"-"]
["P0103","전선 + HFIX + 1.78mm",null,"HFIX 1.78mm(2.5㎟), 3L (FLEX 16C)","5+5+5+(10)","1",{"$f":"IF(egTextCal(E90)<>0, egTextCal(E90),   )","v":25},"MM481669624","450/750V 내열비닐절연전선","HFIX 1.78mm(2.5㎟)","M","2+1",{"$f":"IF(egTextCal(L90)<>0, egTextCal(L90),   )","v":3},{"$f":"SUM(G90:G91)*M90","v":75}]
["P0103","1종 가요 + 전선관 + 일반16c",null,null,null,"2",null,"59753017003","1종금속제가요전선관","16 mm 일반-비방수","M",1,{"$f":"IF(egTextCal(L91)<>0, egTextCal(L91),   )","v":1},{"$f":"SUM(G90:G91)*M91","v":25}]
["P0103","LED 파이프펜던트",null,"LED 파이프펜던트","2","-",{"$f":"IF(egTextCal(E92)<>0, egTextCal(E92),   )","v":2},"MM041720674","LED 파이프펜던트","기존","개",1,{"$f":"IF(egTextCal(L92)<>0, egTextCal(L92),   )","v":1},{"$f":"SUM(G92:G92)*M92","v":2}]
["P0103","매입 + 스위치 + 단로 4구",null,"매입스위치 250V 1로4구","1","1",{"$f":"IF(egTextCal(E93)<>0, egTextCal(E93),   )","v":1},"59301517004","매입스위치","250V 1로4구","개",1,{"$f":"IF(egTextCal(L93)<>0, egTextCal(L93),   )","v":1},{"$f":"SUM(G93:G94)*M93","v":1}]
["P0103","스위치 + 2구 박스 + 54mm",null,null,null,"2",null,"59753777111","스위치박스","2 개용 54 mm","개",1,{"$f":"IF(egTextCal(L94)<>0, egTextCal(L94),   )","v":1},{"$f":"SUM(G93:G94)*M94","v":1}]
["P0103",null,null,null,null,"-"]
["P0103",null,null,null,null,"-"]
["P0103",null,null,"3층",null,"-"]
["P0103","전선 + HFIX + 1.78mm",null,"HFIX 1.78mm(2.5㎟), 3L (FLEX 16C)","5+5+5+(10)","1",{"$f":"IF(egTextCal(E98)<>0, egTextCal(E98),   )","v":25},"MM481669624","450/750V 내열비닐절연전선","HFIX 1.78mm(2.5㎟)","M","2+1",{"$f":"IF(egTextCal(L98)<>0, egTextCal(L98),   )","v":3},{"$f":"SUM(G98:G99)*M98","v":75}]
["P0103","1종 가요 + 전선관 + 일반16c",null,null,null,"2",null,"59753017003","1종금속제가요전선관","16 mm 일반-비방수","M",1,{"$f":"IF(egTextCal(L99)<>0, egTextCal(L99),   )","v":1},{"$f":"SUM(G98:G99)*M99","v":25}]
["P0103","LED 면조명",null,"LED 면조명","2","-",{"$f":"IF(egTextCal(E100)<>0, egTextCal(E100),   )","v":2},"MM041720685","LED 면조명","기존","개",1,{"$f":"IF(egTextCal(L100)<>0, egTextCal(L100),   )","v":1},{"$f":"SUM(G100:G100)*M100","v":2}]
["P0103","매입 + 스위치 + 단로 3구",null,"매입스위치 250V 1로3구","1","1",{"$f":"IF(egTextCal(E101)<>0, egTextCal(E101),   )","v":1},"59301517003","매입스위치","250V 1로3구","개",1,{"$f":"IF(egTextCal(L101)<>0, egTextCal(L101),   )","v":1},{"$f":"SUM(G101:G102)*M101","v":1}]
["P0103","스위치 + 1구 박스 + 54mm",null,null,null,"2",null,"59753777102","스위치박스","1 개용 54 mm","개",1,{"$f":"IF(egTextCal(L102)<>0, egTextCal(L102),   )","v":1},{"$f":"SUM(G101:G102)*M102","v":1}]
["P0103",null,null,null,null,"-"]
["P0103",null,null,null,null,"-"]
["P0103",null,null,"4층",null,"-"]
["P0103","전선 + HFIX + 1.78mm",null,"HFIX 1.78mm(2.5㎟), 3L (FLEX 16C)","5+5+5+5+5+5+(10)","1",{"$f":"IF(egTextCal(E106)<>0, egTextCal(E106),   )","v":40},"MM481669624","450/750V 내열비닐절연전선","HFIX 1.78mm(2.5㎟)","M","2+1",{"$f":"IF(egTextCal(L106)<>0, egTextCal(L106),   )","v":3},{"$f":"SUM(G106:G107)*M106","v":120}]
["P0103","1종 가요 + 전선관 + 일반16c",null,null,null,"2",null,"59753017003","1종금속제가요전선관","16 mm 일반-비방수","M",1,{"$f":"IF(egTextCal(L107)<>0, egTextCal(L107),   )","v":1},{"$f":"SUM(G106:G107)*M107","v":40}]
["P0103","LED 면조명",null,"LED 면조명","4","-",{"$f":"IF(egTextCal(E108)<>0, egTextCal(E108),   )","v":4},"MM041720685","LED 면조명","기존","개",1,{"$f":"IF(egTextCal(L108)<>0, egTextCal(L108),   )","v":1},{"$f":"SUM(G108:G108)*M108","v":4}]
["P0103","매입 + 스위치 + 단로 2구",null,"매입스위치 250V 1로2구","1","1",{"$f":"IF(egTextCal(E109)<>0, egTextCal(E109),   )","v":1},"59301517002","매입스위치","250V 1로2구","개",1,{"$f":"IF(egTextCal(L109)<>0, egTextCal(L109),   )","v":1},{"$f":"SUM(G109:G110)*M109","v":1}]
["P0103","스위치 + 1구 박스 + 54mm",null,null,null,"2",null,"59753777102","스위치박스","1 개용 54 mm","개",1,{"$f":"IF(egTextCal(L110)<>0, egTextCal(L110),   )","v":1},{"$f":"SUM(G109:G110)*M110","v":1}]
["P0103","매입 + 스위치 + 단로 4구",null,"매입스위치 250V 1로4구","1","1",{"$f":"IF(egTextCal(E111)<>0, egTextCal(E111),   )","v":1},"59301517004","매입스위치","250V 1로4구","개",1,{"$f":"IF(egTextCal(L111)<>0, egTextCal(L111),   )","v":1},{"$f":"SUM(G111:G112)*M111","v":1}]
["P0103","스위치 + 2구 박스 + 54mm",null,null,null,"2",null,"59753777111","스위치박스","2 개용 54 mm","개",1,{"$f":"IF(egTextCal(L112)<>0, egTextCal(L112),   )","v":1},{"$f":"SUM(G111:G112)*M112","v":1}]
["P0103",null,null,null,null,"-"]
["P0103",null,null,null,null,"-"]
["P0103",null,null,"5층",null,"-"]
["P0103","전선 + HFIX + 1.78mm",null,"HFIX 1.78mm(2.5㎟), 3L (FLEX 16C)","5+5+5+5+5+5+(10)","1",{"$f":"IF(egTextCal(E116)<>0, egTextCal(E116),   )","v":40},"MM481669624","450/750V 내열비닐절연전선","HFIX 1.78mm(2.5㎟)","M","2+1",{"$f":"IF(egTextCal(L116)<>0, egTextCal(L116),   )","v":3},{"$f":"SUM(G116:G117)*M116","v":120}]
["P0103","1종 가요 + 전선관 + 일반16c",null,null,null,"2",null,"59753017003","1종금속제가요전선관","16 mm 일반-비방수","M",1,{"$f":"IF(egTextCal(L117)<>0, egTextCal(L117),   )","v":1},{"$f":"SUM(G116:G117)*M117","v":40}]
["P0103","LED 면조명",null,"LED 면조명","4","-",{"$f":"IF(egTextCal(E118)<>0, egTextCal(E118),   )","v":4},"MM041720685","LED 면조명","기존","개",1,{"$f":"IF(egTextCal(L118)<>0, egTextCal(L118),   )","v":1},{"$f":"SUM(G118:G118)*M118","v":4}]
["P0103","매입 + 스위치 + 단로 1구",null,"매입스위치 250V 1로1구","1","1",{"$f":"IF(egTextCal(E119)<>0, egTextCal(E119),   )","v":1},"59301517001","매입스위치","250V 1로1구","개",1,{"$f":"IF(egTextCal(L119)<>0, egTextCal(L119),   )","v":1},{"$f":"SUM(G119:G120)*M119","v":1}]
["P0103","스위치 + 1구 박스 + 54mm",null,null,null,"2",null,"59753777102","스위치박스","1 개용 54 mm","개",1,{"$f":"IF(egTextCal(L120)<>0, egTextCal(L120),   )","v":1},{"$f":"SUM(G119:G120)*M120","v":1}]
["P0103","매입 + 스위치 + 단로 3구",null,"매입스위치 250V 1로3구","1","1",{"$f":"IF(egTextCal(E121)<>0, egTextCal(E121),   )","v":1},"59301517003","매입스위치","250V 1로3구","개",1,{"$f":"IF(egTextCal(L121)<>0, egTextCal(L121),   )","v":1},{"$f":"SUM(G121:G122)*M121","v":1}]
["P0103","스위치 + 1구 박스 + 54mm",null,null,null,"2",null,"59753777102","스위치박스","1 개용 54 mm","개",1,{"$f":"IF(egTextCal(L122)<>0, egTextCal(L122),   )","v":1},{"$f":"SUM(G121:G122)*M122","v":1}]
["P0103",null,null,null,null,"-"]
["P0103",null,null,null,null,"-"]
["P0103",null,null,"6층",null,"-"]
["P0103","전선 + HFIX + 1.78mm",null,"HFIX 1.78mm(2.5㎟), 3L (FLEX 16C)","5+(10)","1",{"$f":"IF(egTextCal(E126)<>0, egTextCal(E126),   )","v":15},"MM481669624","450/750V 내열비닐절연전선","HFIX 1.78mm(2.5㎟)","M","2+1",{"$f":"IF(egTextCal(L126)<>0, egTextCal(L126),   )","v":3},{"$f":"SUM(G126:G127)*M126","v":45}]
["P0103","1종 가요 + 전선관 + 일반16c",null,null,null,"2",null,"59753017003","1종금속제가요전선관","16 mm 일반-비방수","M",1,{"$f":"IF(egTextCal(L127)<>0, egTextCal(L127),   )","v":1},{"$f":"SUM(G126:G127)*M127","v":15}]
["P0103","LED 면조명",null,"LED 면조명","3","-",{"$f":"IF(egTextCal(E128)<>0, egTextCal(E128),   )","v":3},"MM041720685","LED 면조명","기존","개",1,{"$f":"IF(egTextCal(L128)<>0, egTextCal(L128),   )","v":1},{"$f":"SUM(G128:G128)*M128","v":3}]
["P0103","매입 + 스위치 + 단로 3구","1","매입스위치 250V 1로3구","1","1",{"$f":"IF(egTextCal(E129)<>0, egTextCal(E129),   )","v":1},"59301517003","매입스위치","250V 1로3구","개",1,{"$f":"IF(egTextCal(L129)<>0, egTextCal(L129),   )","v":1},{"$f":"SUM(G129:G130)*M129","v":1}]
["P0103","스위치 + 1구 박스 + 54mm","◀앞 장에서 연결",null,null,"2",null,"59753777102","스위치박스","1 개용 54 mm","개",1,{"$f":"IF(egTextCal(L130)<>0, egTextCal(L130),   )","v":1},{"$f":"SUM(G129:G130)*M130","v":1}]
["P0103"]
["P0103"]
["P0103"]
["P0103"]
["P0103"]
["P0103"]
["P0103"]
["P0103"]
["P0103"]
["P0103"]
["P0103"]
["P0103"]
["P0103"]
["P0103"]
["P0103"]
["P0103"]
["P0103"]
["P0103"]
["P0103"]
["P0103"]
["P0103"]
["P0103"]
["P0103"]
["P0103"]
["P0103"]
["P0103"]
["P0103"]
["P0103"]
["P0103"]
["P0103"]
["P0103"]
["P0103"]
["P0103"]
["P0103"]
["P0103"]
["P0103"]
["P0103"]
["P0103"]
["P0103"]
["P0103"]
["P0103"]
[null,"공종줄","1","1.엘리베이터::1-4.전열설비공사"]
["P0104","ELB 2P + 30AF + 20AT",null,"누전차단기(32KGRc) 2P 30AF 20AT","5","-",{"$f":"IF(egTextCal(E173)<>0, egTextCal(E173),   )","v":5},"MM300020604","누전차단기(32KGRc)","2P 30AF 20AT","EA",1,{"$f":"IF(egTextCal(L173)<>0, egTextCal(L173),   )","v":1},{"$f":"SUM(G173:G173)*M173","v":5}]
["P0104","벽관통 + 코어Φ50 + 25cm",null,"벽관통 구멍 Φ50-벽두께 25cm","5","-",{"$f":"IF(egTextCal(E174)<>0, egTextCal(E174),   )","v":5},"56953100908","벽관통 구멍(코어드릴)","Φ50-벽두께 25cm","개소",1,{"$f":"IF(egTextCal(L174)<>0, egTextCal(L174),   )","v":1},{"$f":"SUM(G174:G174)*M174","v":5}]
["P0104",null,null,null,null,"-"]
["P0104","전선 + HFIX + 2.25mm",null,"FLEX 16C (HFIX 4sqx2,E4sq)","25*5+(30)","1",{"$f":"IF(egTextCal(E176)<>0, egTextCal(E176),   )","v":155},"E1450667003","450/750V 내열비닐절연전선","HFIX 2.25mm(4㎟)","M","2+1",{"$f":"IF(egTextCal(L176)<>0, egTextCal(L176),   )","v":3},{"$f":"SUM(G176:G177)*M176","v":465}]
["P0104","1종 가요 + 전선관 + 일반16c",null,null,null,"2",null,"59753017003","1종금속제가요전선관","16 mm 일반-비방수","M",1,{"$f":"IF(egTextCal(L177)<>0, egTextCal(L177),   )","v":1},{"$f":"SUM(G176:G177)*M177","v":155}]
["P0104","전선관 + (KS) + CD 16c",null,"난연CD 16C (HFIX 4sqx2,E4sq)","(2.5*3)*5","1",{"$f":"IF(egTextCal(E178)<>0, egTextCal(E178),   )","v":37.5},"59753097002","합성수지제 가요전선관","CD-난연성 16㎜","M",1,{"$f":"IF(egTextCal(L178)<>0, egTextCal(L178),   )","v":1},{"$f":"SUM(G178:G179)*M178","v":37.5}]
["P0104","전선 + HFIX + 2.25mm",null,null,null,"2",null,"E1450667003","450/750V 내열비닐절연전선","HFIX 2.25mm(4㎟)","M","2+1",{"$f":"IF(egTextCal(L179)<>0, egTextCal(L179),   )","v":3},{"$f":"SUM(G178:G179)*M179","v":112.5}]
["P0104","홈파기 + Φ22",null,"벽관통 홈파기 Φ22이하","(2.5*3)*5","-",{"$f":"IF(egTextCal(E180)<>0, egTextCal(E180),   )","v":37.5},"56959100801","배관용 홈파기","Φ22이하","M",1,{"$f":"IF(egTextCal(L180)<>0, egTextCal(L180),   )","v":1},{"$f":"SUM(G180:G180)*M180","v":37.5}]
["P0104","아우트렛 + 8각 박스 + 54㎜",null,"아우트렛박스 8각 54㎜","3*5","1",{"$f":"IF(egTextCal(E181)<>0, egTextCal(E181),   )","v":15},"59753767011","아우트렛박스","8각 54㎜","개",1,{"$f":"IF(egTextCal(L181)<>0, egTextCal(L181),   )","v":1},{"$f":"SUM(G181:G183)*M181","v":15}]
["P0104","박스커버 + 8 각 + 평형",null,null,null,"2",null,"59753767201","아우트렛박스 커버","커버, 8각, 평형","개",1,{"$f":"IF(egTextCal(L182)<>0, egTextCal(L182),   )","v":1},{"$f":"SUM(G181:G183)*M182","v":15}]
["P0104","1종 가요 + 커넥터 + 일반16c",null,null,null,"3",null,"59753017043","1종금속제가요전선관","커넥터, 16 mm 일반-비방수","개",2,{"$f":"IF(egTextCal(L183)<>0, egTextCal(L183),   )","v":2},{"$f":"SUM(G181:G183)*M183","v":30}]
["P0104","콘센트 + 매입2구E + 250V",null,"콘센트 매입-접지형,250V 2구","3*5","1",{"$f":"IF(egTextCal(E184)<>0, egTextCal(E184),   )","v":15},"59350317206","콘센트","매입-접지형, 250V 2구","개",1,{"$f":"IF(egTextCal(L184)<>0, egTextCal(L184),   )","v":1},{"$f":"SUM(G184:G185)*M184","v":15}]
["P0104","스위치 + 1구 박스 + 54mm",null,null,null,"2",null,"59753777102","스위치박스","1 개용 54 mm","개",1,{"$f":"IF(egTextCal(L185)<>0, egTextCal(L185),   )","v":1},{"$f":"SUM(G184:G185)*M185","v":15}]
["P0104"]
["P0104"]
["P0104"]
["P0104"]
["P0104"]
["P0104"]
["P0104"]
["P0104"]
["P0104"]
["P0104"]
["P0104"]
["P0104"]
["P0104"]
["P0104"]
["P0104"]
["P0104"]
["P0104"]
["P0104"]
["P0104"]
["P0104"]
["P0104"]
["P0104"]
["P0104"]
["P0104"]
["P0104"]
["P0104"]
["P0104"]
["P0104"]
[null,"공종줄","1","2.화장실::2-1.철거공사"]
["P0201","LED 다운라이트 철거",null,"LED 다운라이트 철거","85","-",{"$f":"IF(egTextCal(E215)<>0, egTextCal(E215),   )","v":85},"MM041720655","LED 다운라이트 철거",null,"개",1,{"$f":"IF(egTextCal(L215)<>0, egTextCal(L215),   )","v":1},{"$f":"SUM(G215:G215)*M215","v":85}]
["P0201","전등스위치 철거",null,"전등스위치 철거","7","-",{"$f":"IF(egTextCal(E216)<>0, egTextCal(E216),   )","v":7},"MM041720657","전등스위치 철거",null,"개",1,{"$f":"IF(egTextCal(L216)<>0, egTextCal(L216),   )","v":1},{"$f":"SUM(G216:G216)*M216","v":7}]
["P0201","콘센트 철거",null,"콘센트 철거","15","-",{"$f":"IF(egTextCal(E217)<>0, egTextCal(E217),   )","v":15},"MM041720659","콘센트 철거",null,"개",1,{"$f":"IF(egTextCal(L217)<>0, egTextCal(L217),   )","v":1},{"$f":"SUM(G217:G217)*M217","v":15}]
["P0201","PVC함 철거",null,"PVC함 철거","5","-",{"$f":"IF(egTextCal(E218)<>0, egTextCal(E218),   )","v":5},"MM041720661","PVC함 철거",null,"면",1,{"$f":"IF(egTextCal(L218)<>0, egTextCal(L218),   )","v":1},{"$f":"SUM(G218:G218)*M218","v":5}]
["P0201"]
["P0201"]
["P0201"]
["P0201"]
["P0201"]
["P0201"]
["P0201"]
["P0201"]
["P0201"]
["P0201"]
["P0201"]
["P0201"]
["P0201"]
["P0201"]
["P0201"]
["P0201"]
["P0201"]
["P0201"]
["P0201"]
["P0201"]
["P0201"]
["P0201"]
["P0201"]
["P0201"]
["P0201"]
["P0201"]
["P0201"]
["P0201"]
["P0201"]
["P0201"]
["P0201"]
["P0201"]
["P0201"]
["P0201"]
["P0201"]
["P0201"]
["P0201"]
[null,"공종줄","1","2.화장실::2-2.전력간선공사"]
["P0202","MCCB ABS + 4P 50AF + 50AT",null,"배선용차단기(ABS-54) 4P 50AF 50AT","1","-",{"$f":"IF(egTextCal(E257)<>0, egTextCal(E257),   )","v":1},"MM300015105","배선용차단기(ABS-54)","4P 50AF 50AT","EA",1,{"$f":"IF(egTextCal(L257)<>0, egTextCal(L257),   )","v":1},{"$f":"SUM(G257:G257)*M257","v":1}]
["P0202","케이블 + F-CV + 16_㎟/4c",null,"F-CV 4C×16㎟, F-GV 16SQ (FLEX 54C)","20+10+5+5+10+(10)","1",{"$f":"IF(egTextCal(E258)<>0, egTextCal(E258),   )","v":60},"E1450287565","폴리에틸렌 난연케이블","0.6/1kv F-CV 4C×16㎟","M",1,{"$f":"IF(egTextCal(L258)<>0, egTextCal(L258),   )","v":1},{"$f":"SUM(G258:G260)*M258","v":60}]
["P0202","접지전선 + F-GV + 16_㎟",null,null,null,"2",null,"E1450927205","접지용비닐절연전선(F-GV)","16㎟","M",1,{"$f":"IF(egTextCal(L259)<>0, egTextCal(L259),   )","v":1},{"$f":"SUM(G258:G260)*M259","v":60}]
["P0202","1종 가요 + 전선관 + 일반54c",null,null,null,"3",null,"59753017008","1종금속제가요전선관","54 mm 일반-비방수","M",1,{"$f":"IF(egTextCal(L260)<>0, egTextCal(L260),   )","v":1},{"$f":"SUM(G258:G260)*M260","v":60}]
["P0202","케이블 + F-CV + 16_㎟/4c",null,"F-CV 4C×16㎟, F-GV 16SQ (IN TRAY)","30","1",{"$f":"IF(egTextCal(E261)<>0, egTextCal(E261),   )","v":30},"E1450287565","폴리에틸렌 난연케이블","0.6/1kv F-CV 4C×16㎟","M",1,{"$f":"IF(egTextCal(L261)<>0, egTextCal(L261),   )","v":1},{"$f":"SUM(G261:G262)*M261","v":30}]
["P0202","접지전선 + F-GV + 16_㎟",null,null,null,"2",null,"E1450927205","접지용비닐절연전선(F-GV)","16㎟","M",1,{"$f":"IF(egTextCal(L262)<>0, egTextCal(L262),   )","v":1},{"$f":"SUM(G261:G262)*M262","v":30}]
["P0202","러그단자 + 동1홀 + 16 ㎟",null,"러그단자 동관단자 1 HOLE 16 ㎟","(4+1)*2","-",{"$f":"IF(egTextCal(E263)<>0, egTextCal(E263),   )","v":10},"E9400177002","러그단자","동관단자 1 HOLE 16 ㎟","개",1,{"$f":"IF(egTextCal(L263)<>0, egTextCal(L263),   )","v":1},{"$f":"SUM(G263:G263)*M263","v":10}]
["P0202","LP-화장실 분전반",null,"LP-화장실 분전반","1","-",{"$f":"IF(egTextCal(E264)<>0, egTextCal(E264),   )","v":1},"MM041720676","LP-화장실 분전반","600Wx700Hx150D","면",1,{"$f":"IF(egTextCal(L264)<>0, egTextCal(L264),   )","v":1},{"$f":"SUM(G264:G264)*M264","v":1}]
["P0202","AL 덕트 + 150x100",null,"전선덕트 알루미늄 150x100 mm","2","-",{"$f":"IF(egTextCal(E265)<>0, egTextCal(E265),   )","v":2},"MM300040379","전선덕트","알루미늄 150x100mm","M",1,{"$f":"IF(egTextCal(L265)<>0, egTextCal(L265),   )","v":1},{"$f":"SUM(G265:G265)*M265","v":2}]
["P0202",null,null,null,null,"-"]
["P0202","벽관통 + 코어Φ50 + 25cm",null,"벽관통 구멍 Φ50-벽두께 25cm","1","-",{"$f":"IF(egTextCal(E267)<>0, egTextCal(E267),   )","v":1},"56953100908","벽관통 구멍(코어드릴)","Φ50-벽두께 25cm","개소",1,{"$f":"IF(egTextCal(L267)<>0, egTextCal(L267),   )","v":1},{"$f":"SUM(G267:G267)*M267","v":1}]
["P0202"]
["P0202"]
["P0202"]
["P0202"]
["P0202"]
["P0202"]
["P0202"]
["P0202"]
["P0202"]
["P0202"]
["P0202"]
["P0202"]
["P0202"]
["P0202"]
["P0202"]
["P0202"]
["P0202"]
["P0202"]
["P0202"]
["P0202"]
["P0202"]
["P0202"]
["P0202"]
["P0202"]
["P0202"]
["P0202"]
["P0202"]
["P0202"]
["P0202"]
["P0202"]
[null,"공종줄","1","2.화장실::2-3.전등설비공사"]
["P0203",null,null,"L1",null,"-"]
["P0203","홈파기 + Φ22",null,"벽관통 홈파기 Φ22이하","1.8*5","-",{"$f":"IF(egTextCal(E300)<>0, egTextCal(E300),   )","v":9},"56959100801","배관용 홈파기","Φ22이하","M",1,{"$f":"IF(egTextCal(L300)<>0, egTextCal(L300),   )","v":1},{"$f":"SUM(G300:G300)*M300","v":9}]
["P0203","전선 + HFIX + 1.78mm",null,"FLEX 16C(HFIX 2.5mm x2,E1.78mm)","15+15+15+15+15+5+5+5+5+5","1",{"$f":"IF(egTextCal(E301)<>0, egTextCal(E301),   )","v":100},"MM481669624","450/750V 내열비닐절연전선","HFIX 1.78mm(2.5㎟)","M","2+1",{"$f":"IF(egTextCal(L301)<>0, egTextCal(L301),   )","v":3},{"$f":"SUM(G301:G302)*M301","v":300}]
["P0203","1종 가요 + 전선관 + 방수16c",null,null,null,"2",null,"59753017023","1종금속제가요전선관","16 mm 일반-방수","M",1,{"$f":"IF(egTextCal(L302)<>0, egTextCal(L302),   )","v":1},{"$f":"SUM(G301:G302)*M302","v":100}]
["P0203","전선 + HFIX + 1.78mm",null,"FLEX 16C(HFIX 2.5mm x3,E1.78mm)","8+8+6+6+6","1",{"$f":"IF(egTextCal(E303)<>0, egTextCal(E303),   )","v":34},"MM481669624","450/750V 내열비닐절연전선","HFIX 1.78mm(2.5㎟)","M","3+1",{"$f":"IF(egTextCal(L303)<>0, egTextCal(L303),   )","v":4},{"$f":"SUM(G303:G304)*M303","v":136}]
["P0203","1종 가요 + 전선관 + 방수16c",null,null,null,"2",null,"59753017023","1종금속제가요전선관","16 mm 일반-방수","M",1,{"$f":"IF(egTextCal(L304)<>0, egTextCal(L304),   )","v":1},{"$f":"SUM(G303:G304)*M304","v":34}]
["P0203",null,null,null,null,"-"]
["P0203","전선 + HFIX + 1.78mm",null,"HFIX 2.5-2(FLEX 16C)스위치 평면","1.5*7","1",{"$f":"IF(egTextCal(E306)<>0, egTextCal(E306),   )","v":10.5},"MM481669624","450/750V 내열비닐절연전선","HFIX 1.78mm(2.5㎟)","M",2,{"$f":"IF(egTextCal(L306)<>0, egTextCal(L306),   )","v":2},{"$f":"SUM(G306:G307)*M306","v":21}]
["P0203","1종 가요 + 전선관 + 방수16c",null,null,null,"2",null,"59753017023","1종금속제가요전선관","16 mm 일반-방수","M",1,{"$f":"IF(egTextCal(L307)<>0, egTextCal(L307),   )","v":1},{"$f":"SUM(G306:G307)*M307","v":10.5}]
["P0203",null,null,null,null,"-"]
["P0203","전선 + HFIX + 1.78mm",null,"HFIX 2.5-2(CD 16C)스위치 벽체","(7)*(3m-1.2m)","1",{"$f":"IF(egTextCal(E309)<>0, egTextCal(E309),   )","v":12.6},"MM481669624","450/750V 내열비닐절연전선","HFIX 1.78mm(2.5㎟)","M",2,{"$f":"IF(egTextCal(L309)<>0, egTextCal(L309),   )","v":2},{"$f":"SUM(G309:G310)*M309","v":25.2}]
["P0203","전선관 + (KS) + CD 16c",null,null,null,"2",null,"59753097002","합성수지제 가요전선관","CD-난연성 16㎜","M",1,{"$f":"IF(egTextCal(L310)<>0, egTextCal(L310),   )","v":1},{"$f":"SUM(G309:G310)*M310","v":12.6}]
["P0203",null,null,null,null,"-"]
["P0203","전선 + HFIX + 1.78mm",null,"HFIX 2.5-2 E-2.5(CD 16C)귀로 벽체","(1)*(3m-1.8m)","1",{"$f":"IF(egTextCal(E312)<>0, egTextCal(E312),   )","v":1.2},"MM481669624","450/750V 내열비닐절연전선","HFIX 1.78mm(2.5㎟)","M","2+1E",{"$f":"IF(egTextCal(L312)<>0, egTextCal(L312),   )","v":3},{"$f":"SUM(G312:G313)*M312","v":3.5999999999999996}]
["P0203","전선관 + (KS) + CD 16c",null,null,null,"2",null,"59753097002","합성수지제 가요전선관","CD-난연성 16㎜","M",1,{"$f":"IF(egTextCal(L313)<>0, egTextCal(L313),   )","v":1},{"$f":"SUM(G312:G313)*M313","v":1.2}]
["P0203","전선 + HFIX + 1.78mm",null,"HFIX 2.5-2 E-2.5(PNL 내부결선)","(1)*(1.0m)","-",{"$f":"IF(egTextCal(E314)<>0, egTextCal(E314),   )","v":1},"MM481669624","450/750V 내열비닐절연전선","HFIX 1.78mm(2.5㎟)","M","2+1E",{"$f":"IF(egTextCal(L314)<>0, egTextCal(L314),   )","v":3},{"$f":"SUM(G314:G314)*M314","v":3}]
["P0203",null,null,null,null,"-"]
["P0203","스위치 + 1구 박스 + 54mm",null,"스위치(1로 1구)-S/W 1G BOX","7","1",{"$f":"IF(egTextCal(E316)<>0, egTextCal(E316),   )","v":7},"59753777102","스위치박스","1 개용 54 mm","개",1,{"$f":"IF(egTextCal(L316)<>0, egTextCal(L316),   )","v":1},{"$f":"SUM(G316:G317)*M316","v":7}]
["P0203","매입 + 스위치 + 단로 1구",null,null,null,"2",null,"59301517001","매입스위치","250V 1로1구","개",1,{"$f":"IF(egTextCal(L317)<>0, egTextCal(L317),   )","v":1},{"$f":"SUM(G316:G317)*M317","v":7}]
["P0203",null,null,null,null,"-"]
["P0203","아우트렛 + 박스중형 + 4각54㎜",null,"4각 박스(W/T COVER)","14+15+15+16+15","1",{"$f":"IF(egTextCal(E319)<>0, egTextCal(E319),   )","v":75},"59753767041","아우트렛박스","중형4각 54㎜","개",1,{"$f":"IF(egTextCal(L319)<>0, egTextCal(L319),   )","v":1},{"$f":"SUM(G319:G323)*M319","v":75}]
["P0203","박스커버 + 4 각 + 평형",null,null,null,"2",null,"59753767231","아우트렛박스 커버","커버, 4각, 평형","개",1,{"$f":"IF(egTextCal(L320)<>0, egTextCal(L320),   )","v":1},{"$f":"SUM(G319:G323)*M320","v":75}]
["P0203","전선 + HFIX + 1.78mm",null,null,null,"3",null,"MM481669624","450/750V 내열비닐절연전선","HFIX 1.78mm(2.5㎟)","M","2+1",{"$f":"IF(egTextCal(L321)<>0, egTextCal(L321),   )","v":3},{"$f":"SUM(G319:G323)*M321","v":225}]
["P0203","1종 가요 + 전선관 + 방수16c",null,null,null,"4",null,"59753017023","1종금속제가요전선관","16 mm 일반-방수","M",1,{"$f":"IF(egTextCal(L322)<>0, egTextCal(L322),   )","v":1},{"$f":"SUM(G319:G323)*M322","v":75}]
["P0203","1종 가요 + 커넥터 + 방수16c",null,null,null,"5",null,"59753017063","1종금속제가요전선관","커넥터, 16 mm 일반-방수","개",2,{"$f":"IF(egTextCal(L323)<>0, egTextCal(L323),   )","v":2},{"$f":"SUM(G319:G323)*M323","v":150}]
["P0203","LED 다운라이트",null,"LED 다운라이트","75","-",{"$f":"IF(egTextCal(E324)<>0, egTextCal(E324),   )","v":75},"MM041720729","LED 다운라이트","12W","개",1,{"$f":"IF(egTextCal(L324)<>0, egTextCal(L324),   )","v":1},{"$f":"SUM(G324:G324)*M324","v":75}]
["P0203"]
["P0203"]
["P0203"]
["P0203"]
["P0203"]
["P0203"]
["P0203"]
["P0203"]
["P0203"]
["P0203"]
["P0203"]
["P0203"]
["P0203"]
["P0203"]
["P0203"]
[null,"공종줄","1","2.화장실::2-4.전열설비공사"]
["P0204",null,null,"시로코팬 전원",null,"-"]
["P0204","MCCB ABS + 4P 30AF + 20AT",null,"배선용차단기(ABS-34) 4P 30AF 20AT","1","-",{"$f":"IF(egTextCal(E342)<>0, egTextCal(E342),   )","v":1},"MM300014814","배선용차단기(ABS-34)","4P 30AF 20AT","EA",1,{"$f":"IF(egTextCal(L342)<>0, egTextCal(L342),   )","v":1},{"$f":"SUM(G342:G342)*M342","v":1}]
["P0204","케이블 + F-CV + 2.5_㎟/4c",null,"F-CV 4C×2.5㎟, F-GV 2.5SQ (FLEX 28C)","10+2+30+6","1",{"$f":"IF(egTextCal(E343)<>0, egTextCal(E343),   )","v":48},"E1450287561","폴리에틸렌 난연케이블","0.6/1kv F-CV 4C×2.5㎟","M",1,{"$f":"IF(egTextCal(L343)<>0, egTextCal(L343),   )","v":1},{"$f":"SUM(G343:G345)*M343","v":48}]
["P0204","접지전선 + F-GV + 2.5_㎟",null,null,null,"2",null,"E1450927201","접지용비닐절연전선(F-GV)","2.5㎟","M",1,{"$f":"IF(egTextCal(L344)<>0, egTextCal(L344),   )","v":1},{"$f":"SUM(G343:G345)*M344","v":48}]
["P0204","1종 가요 + 전선관 + 방수28c",null,null,null,"3",null,"59753017025","1종금속제가요전선관","28 mm 일반-방수","M",1,{"$f":"IF(egTextCal(L345)<>0, egTextCal(L345),   )","v":1},{"$f":"SUM(G343:G345)*M345","v":48}]
["P0204","PVC BOX + 4각",null,"PVC BOX 4각 4 각","1","-",{"$f":"IF(egTextCal(E346)<>0, egTextCal(E346),   )","v":1},"MM300003404","PVC BOX 4각","4 각","개",1,{"$f":"IF(egTextCal(L346)<>0, egTextCal(L346),   )","v":1},{"$f":"SUM(G346:G346)*M346","v":1}]
["P0204","압착단자 + R형IEC90 + 2.5 ㎟",null,"압착단자(IEC 90) R형동선 나압착 2.5 ㎟","4+1","-",{"$f":"IF(egTextCal(E347)<>0, egTextCal(E347),   )","v":5},"E9400267002","압착단자","R형동선 나압착 2.5 ㎟","개",1,{"$f":"IF(egTextCal(L347)<>0, egTextCal(L347),   )","v":1},{"$f":"SUM(G347:G347)*M347","v":5}]
["P0204",null,null,null,null,"-"]
["P0204",null,null,null,null,"-"]
["P0204",null,null,"▷ER2",null,"-"]
["P0204","벽관통 + 코어Φ50 + 25cm",null,"벽관통 구멍 Φ50-벽두께 25cm","1","-",{"$f":"IF(egTextCal(E351)<>0, egTextCal(E351),   )","v":1},"56953100908","벽관통 구멍(코어드릴)","Φ50-벽두께 25cm","개소",1,{"$f":"IF(egTextCal(L351)<>0, egTextCal(L351),   )","v":1},{"$f":"SUM(G351:G351)*M351","v":1}]
["P0204","전선 + HFIX + 2.25mm",null,"FLEX 16C (HFIX 4sqx2,E4sq)","8+5+8","1",{"$f":"IF(egTextCal(E352)<>0, egTextCal(E352),   )","v":21},"E1450667003","450/750V 내열비닐절연전선","HFIX 2.25mm(4㎟)","M","2+1",{"$f":"IF(egTextCal(L352)<>0, egTextCal(L352),   )","v":3},{"$f":"SUM(G352:G353)*M352","v":63}]
["P0204","1종 가요 + 전선관 + 방수16c",null,null,null,"2",null,"59753017023","1종금속제가요전선관","16 mm 일반-방수","M",1,{"$f":"IF(egTextCal(L353)<>0, egTextCal(L353),   )","v":1},{"$f":"SUM(G352:G353)*M353","v":21}]
["P0204","콘센트 + 원형접지 + 250V",null,"콘센트 노출-접지형,250V 원형","2","-",{"$f":"IF(egTextCal(E354)<>0, egTextCal(E354),   )","v":2},"59350317121","콘센트","노출-접지형, 250V 원형","개",1,{"$f":"IF(egTextCal(L354)<>0, egTextCal(L354),   )","v":1},{"$f":"SUM(G354:G354)*M354","v":2}]
["P0204",null,null,null,null,"-"]
["P0204",null,null,"▷R2",null,"-"]
["P0204","벽관통 + 코어Φ50 + 25cm",null,"벽관통 구멍 Φ50-벽두께 25cm","1","-",{"$f":"IF(egTextCal(E357)<>0, egTextCal(E357),   )","v":1},"56953100908","벽관통 구멍(코어드릴)","Φ50-벽두께 25cm","개소",1,{"$f":"IF(egTextCal(L357)<>0, egTextCal(L357),   )","v":1},{"$f":"SUM(G357:G357)*M357","v":1}]
["P0204","전선 + HFIX + 2.25mm",null,"FLEX 16C (HFIX 4sqx2,E4sq)","8+5+8","1",{"$f":"IF(egTextCal(E358)<>0, egTextCal(E358),   )","v":21},"E1450667003","450/750V 내열비닐절연전선","HFIX 2.25mm(4㎟)","M","2+1",{"$f":"IF(egTextCal(L358)<>0, egTextCal(L358),   )","v":3},{"$f":"SUM(G358:G359)*M358","v":63}]
["P0204","1종 가요 + 전선관 + 방수16c",null,null,null,"2",null,"59753017023","1종금속제가요전선관","16 mm 일반-방수","M",1,{"$f":"IF(egTextCal(L359)<>0, egTextCal(L359),   )","v":1},{"$f":"SUM(G358:G359)*M359","v":21}]
["P0204","전선관 + (KS) + CD 16c",null,"난연CD 16C (HFIX 4sqx2,E4sq)","2+2","1",{"$f":"IF(egTextCal(E360)<>0, egTextCal(E360),   )","v":4},"59753097002","합성수지제 가요전선관","CD-난연성 16㎜","M",1,{"$f":"IF(egTextCal(L360)<>0, egTextCal(L360),   )","v":1},{"$f":"SUM(G360:G361)*M360","v":4}]
["P0204","전선 + HFIX + 2.25mm",null,null,null,"2",null,"E1450667003","450/750V 내열비닐절연전선","HFIX 2.25mm(4㎟)","M","2+1",{"$f":"IF(egTextCal(L361)<>0, egTextCal(L361),   )","v":3},{"$f":"SUM(G360:G361)*M361","v":12}]
["P0204","홈파기 + Φ22",null,"벽관통 홈파기 Φ22이하","2+2","-",{"$f":"IF(egTextCal(E362)<>0, egTextCal(E362),   )","v":4},"56959100801","배관용 홈파기","Φ22이하","M",1,{"$f":"IF(egTextCal(L362)<>0, egTextCal(L362),   )","v":1},{"$f":"SUM(G362:G362)*M362","v":4}]
["P0204","스위치 + 1구 박스 + 54mm",null,"방우형콘센트(2P 2구 접지)-말단","2","1",{"$f":"IF(egTextCal(E363)<>0, egTextCal(E363),   )","v":2},"59753777102","스위치박스","1 개용 54 mm","개",1,{"$f":"IF(egTextCal(L363)<>0, egTextCal(L363),   )","v":1},{"$f":"SUM(G363:G364)*M363","v":2}]
["P0204","방우콘 + 매입접지 + 2구 250V",null,null,null,"2",null,"59350317208","방우콘센트","매입-접지형, 250V 2구","개",1,{"$f":"IF(egTextCal(L364)<>0, egTextCal(L364),   )","v":1},{"$f":"SUM(G363:G364)*M364","v":2}]
["P0204","아우트렛 + 8각 박스 + 54㎜",null,"아우트렛박스 8각 54㎜","2","1",{"$f":"IF(egTextCal(E365)<>0, egTextCal(E365),   )","v":2},"59753767011","아우트렛박스","8각 54㎜","개",1,{"$f":"IF(egTextCal(L365)<>0, egTextCal(L365),   )","v":1},{"$f":"SUM(G365:G367)*M365","v":2}]
["P0204","박스커버 + 8 각 + 평형",null,null,null,"2",null,"59753767201","아우트렛박스 커버","커버, 8각, 평형","개",1,{"$f":"IF(egTextCal(L366)<>0, egTextCal(L366),   )","v":1},{"$f":"SUM(G365:G367)*M366","v":2}]
["P0204","1종 가요 + 커넥터 + 방수16c",null,null,null,"3",null,"59753017063","1종금속제가요전선관","커넥터, 16 mm 일반-방수","개",2,{"$f":"IF(egTextCal(L367)<>0, egTextCal(L367),   )","v":2},{"$f":"SUM(G365:G367)*M367","v":4}]
["P0204",null,null,null,null,"-"]
["P0204",null,null,null,null,"-"]
["P0204",null,null,"▷ER3",null,"-"]
["P0204","벽관통 + 코어Φ50 + 25cm",null,"벽관통 구멍 Φ50-벽두께 25cm","1","-",{"$f":"IF(egTextCal(E371)<>0, egTextCal(E371),   )","v":1},"56953100908","벽관통 구멍(코어드릴)","Φ50-벽두께 25cm","개소",1,{"$f":"IF(egTextCal(L371)<>0, egTextCal(L371),   )","v":1},{"$f":"SUM(G371:G371)*M371","v":1}]
["P0204","전선 + HFIX + 2.25mm",null,"FLEX 16C (HFIX 4sqx2,E4sq)","10+2","1",{"$f":"IF(egTextCal(E372)<>0, egTextCal(E372),   )","v":12},"E1450667003","450/750V 내열비닐절연전선","HFIX 2.25mm(4㎟)","M","2+1",{"$f":"IF(egTextCal(L372)<>0, egTextCal(L372),   )","v":3},{"$f":"SUM(G372:G373)*M372","v":36}]
["P0204","1종 가요 + 전선관 + 방수16c",null,null,null,"2",null,"59753017023","1종금속제가요전선관","16 mm 일반-방수","M",1,{"$f":"IF(egTextCal(L373)<>0, egTextCal(L373),   )","v":1},{"$f":"SUM(G372:G373)*M373","v":12}]
["P0204","콘센트 + 원형접지 + 250V",null,"콘센트 노출-접지형,250V 원형","2","-",{"$f":"IF(egTextCal(E374)<>0, egTextCal(E374),   )","v":2},"59350317121","콘센트","노출-접지형, 250V 원형","개",1,{"$f":"IF(egTextCal(L374)<>0, egTextCal(L374),   )","v":1},{"$f":"SUM(G374:G374)*M374","v":2}]
["P0204",null,null,null,null,"-"]
["P0204",null,null,"▷R3",null,"-"]
["P0204","벽관통 + 코어Φ50 + 25cm",null,"벽관통 구멍 Φ50-벽두께 25cm","1","-",{"$f":"IF(egTextCal(E377)<>0, egTextCal(E377),   )","v":1},"56953100908","벽관통 구멍(코어드릴)","Φ50-벽두께 25cm","개소",1,{"$f":"IF(egTextCal(L377)<>0, egTextCal(L377),   )","v":1},{"$f":"SUM(G377:G377)*M377","v":1}]
["P0204","전선 + HFIX + 2.25mm",null,"FLEX 16C (HFIX 4sqx2,E4sq)","5","1",{"$f":"IF(egTextCal(E378)<>0, egTextCal(E378),   )","v":5},"E1450667003","450/750V 내열비닐절연전선","HFIX 2.25mm(4㎟)","M","2+1",{"$f":"IF(egTextCal(L378)<>0, egTextCal(L378),   )","v":3},{"$f":"SUM(G378:G379)*M378","v":15}]
["P0204","1종 가요 + 전선관 + 방수16c",null,null,null,"2",null,"59753017023","1종금속제가요전선관","16 mm 일반-방수","M",1,{"$f":"IF(egTextCal(L379)<>0, egTextCal(L379),   )","v":1},{"$f":"SUM(G378:G379)*M379","v":5}]
["P0204","전선관 + (KS) + CD 16c",null,"난연CD 16C (HFIX 4sqx2,E4sq)","2+2","1",{"$f":"IF(egTextCal(E380)<>0, egTextCal(E380),   )","v":4},"59753097002","합성수지제 가요전선관","CD-난연성 16㎜","M",1,{"$f":"IF(egTextCal(L380)<>0, egTextCal(L380),   )","v":1},{"$f":"SUM(G380:G381)*M380","v":4}]
["P0204","전선 + HFIX + 2.25mm","뒷 장으로 연결▶",null,null,"2",null,"E1450667003","450/750V 내열비닐절연전선","HFIX 2.25mm(4㎟)","M","2+1",{"$f":"IF(egTextCal(L381)<>0, egTextCal(L381),   )","v":3},{"$f":"SUM(G380:G381)*M381","v":12}]
["P0204","홈파기 + Φ22",null,"벽관통 홈파기 Φ22이하","2+2","-",{"$f":"IF(egTextCal(E382)<>0, egTextCal(E382),   )","v":4},"56959100801","배관용 홈파기","Φ22이하","M",1,{"$f":"IF(egTextCal(L382)<>0, egTextCal(L382),   )","v":1},{"$f":"SUM(G382:G382)*M382","v":4}]
["P0204","스위치 + 1구 박스 + 54mm",null,"방우형콘센트(2P 2구 접지)-말단","2","1",{"$f":"IF(egTextCal(E383)<>0, egTextCal(E383),   )","v":2},"59753777102","스위치박스","1 개용 54 mm","개",1,{"$f":"IF(egTextCal(L383)<>0, egTextCal(L383),   )","v":1},{"$f":"SUM(G383:G384)*M383","v":2}]
["P0204","방우콘 + 매입접지 + 2구 250V",null,null,null,"2",null,"59350317208","방우콘센트","매입-접지형, 250V 2구","개",1,{"$f":"IF(egTextCal(L384)<>0, egTextCal(L384),   )","v":1},{"$f":"SUM(G383:G384)*M384","v":2}]
["P0204","아우트렛 + 8각 박스 + 54㎜",null,"아우트렛박스 8각 54㎜","2","1",{"$f":"IF(egTextCal(E385)<>0, egTextCal(E385),   )","v":2},"59753767011","아우트렛박스","8각 54㎜","개",1,{"$f":"IF(egTextCal(L385)<>0, egTextCal(L385),   )","v":1},{"$f":"SUM(G385:G387)*M385","v":2}]
["P0204","박스커버 + 8 각 + 평형",null,null,null,"2",null,"59753767201","아우트렛박스 커버","커버, 8각, 평형","개",1,{"$f":"IF(egTextCal(L386)<>0, egTextCal(L386),   )","v":1},{"$f":"SUM(G385:G387)*M386","v":2}]
["P0204","1종 가요 + 커넥터 + 방수16c",null,null,null,"3",null,"59753017063","1종금속제가요전선관","커넥터, 16 mm 일반-방수","개",2,{"$f":"IF(egTextCal(L387)<>0, egTextCal(L387),   )","v":2},{"$f":"SUM(G385:G387)*M387","v":4}]
["P0204",null,null,null,null,"-"]
["P0204",null,null,null,null,"-"]
["P0204",null,null,"▷ER4",null,"-"]
["P0204","벽관통 + 코어Φ50 + 25cm",null,"벽관통 구멍 Φ50-벽두께 25cm","1","-",{"$f":"IF(egTextCal(E391)<>0, egTextCal(E391),   )","v":1},"56953100908","벽관통 구멍(코어드릴)","Φ50-벽두께 25cm","개소",1,{"$f":"IF(egTextCal(L391)<>0, egTextCal(L391),   )","v":1},{"$f":"SUM(G391:G391)*M391","v":1}]
["P0204","전선 + HFIX + 2.25mm",null,"FLEX 16C (HFIX 4sqx2,E4sq)","8+5+8","1",{"$f":"IF(egTextCal(E392)<>0, egTextCal(E392),   )","v":21},"E1450667003","450/750V 내열비닐절연전선","HFIX 2.25mm(4㎟)","M","2+1",{"$f":"IF(egTextCal(L392)<>0, egTextCal(L392),   )","v":3},{"$f":"SUM(G392:G393)*M392","v":63}]
["P0204","1종 가요 + 전선관 + 방수16c",null,null,null,"2",null,"59753017023","1종금속제가요전선관","16 mm 일반-방수","M",1,{"$f":"IF(egTextCal(L393)<>0, egTextCal(L393),   )","v":1},{"$f":"SUM(G392:G393)*M393","v":21}]
["P0204","콘센트 + 원형접지 + 250V",null,"콘센트 노출-접지형,250V 원형","2","-",{"$f":"IF(egTextCal(E394)<>0, egTextCal(E394),   )","v":2},"59350317121","콘센트","노출-접지형, 250V 원형","개",1,{"$f":"IF(egTextCal(L394)<>0, egTextCal(L394),   )","v":1},{"$f":"SUM(G394:G394)*M394","v":2}]
["P0204",null,null,null,null,"-"]
["P0204",null,null,"▷R4",null,"-"]
["P0204","벽관통 + 코어Φ50 + 25cm",null,"벽관통 구멍 Φ50-벽두께 25cm","1","-",{"$f":"IF(egTextCal(E397)<>0, egTextCal(E397),   )","v":1},"56953100908","벽관통 구멍(코어드릴)","Φ50-벽두께 25cm","개소",1,{"$f":"IF(egTextCal(L397)<>0, egTextCal(L397),   )","v":1},{"$f":"SUM(G397:G397)*M397","v":1}]
["P0204","전선 + HFIX + 2.25mm",null,"FLEX 16C (HFIX 4sqx2,E4sq)","8+5+8","1",{"$f":"IF(egTextCal(E398)<>0, egTextCal(E398),   )","v":21},"E1450667003","450/750V 내열비닐절연전선","HFIX 2.25mm(4㎟)","M","2+1",{"$f":"IF(egTextCal(L398)<>0, egTextCal(L398),   )","v":3},{"$f":"SUM(G398:G399)*M398","v":63}]
["P0204","1종 가요 + 전선관 + 방수16c",null,null,null,"2",null,"59753017023","1종금속제가요전선관","16 mm 일반-방수","M",1,{"$f":"IF(egTextCal(L399)<>0, egTextCal(L399),   )","v":1},{"$f":"SUM(G398:G399)*M399","v":21}]
["P0204","전선관 + (KS) + CD 16c",null,"난연CD 16C (HFIX 4sqx2,E4sq)","2+2","1",{"$f":"IF(egTextCal(E400)<>0, egTextCal(E400),   )","v":4},"59753097002","합성수지제 가요전선관","CD-난연성 16㎜","M",1,{"$f":"IF(egTextCal(L400)<>0, egTextCal(L400),   )","v":1},{"$f":"SUM(G400:G401)*M400","v":4}]
["P0204","전선 + HFIX + 2.25mm",null,null,null,"2",null,"E1450667003","450/750V 내열비닐절연전선","HFIX 2.25mm(4㎟)","M","2+1",{"$f":"IF(egTextCal(L401)<>0, egTextCal(L401),   )","v":3},{"$f":"SUM(G400:G401)*M401","v":12}]
["P0204","홈파기 + Φ22",null,"벽관통 홈파기 Φ22이하","2+2","-",{"$f":"IF(egTextCal(E402)<>0, egTextCal(E402),   )","v":4},"56959100801","배관용 홈파기","Φ22이하","M",1,{"$f":"IF(egTextCal(L402)<>0, egTextCal(L402),   )","v":1},{"$f":"SUM(G402:G402)*M402","v":4}]
["P0204","스위치 + 1구 박스 + 54mm",null,"방우형콘센트(2P 2구 접지)-말단","2","1",{"$f":"IF(egTextCal(E403)<>0, egTextCal(E403),   )","v":2},"59753777102","스위치박스","1 개용 54 mm","개",1,{"$f":"IF(egTextCal(L403)<>0, egTextCal(L403),   )","v":1},{"$f":"SUM(G403:G404)*M403","v":2}]
["P0204","방우콘 + 매입접지 + 2구 250V",null,null,null,"2",null,"59350317208","방우콘센트","매입-접지형, 250V 2구","개",1,{"$f":"IF(egTextCal(L404)<>0, egTextCal(L404),   )","v":1},{"$f":"SUM(G403:G404)*M404","v":2}]
["P0204","아우트렛 + 8각 박스 + 54㎜",null,"아우트렛박스 8각 54㎜","2","1",{"$f":"IF(egTextCal(E405)<>0, egTextCal(E405),   )","v":2},"59753767011","아우트렛박스","8각 54㎜","개",1,{"$f":"IF(egTextCal(L405)<>0, egTextCal(L405),   )","v":1},{"$f":"SUM(G405:G407)*M405","v":2}]
["P0204","박스커버 + 8 각 + 평형",null,null,null,"2",null,"59753767201","아우트렛박스 커버","커버, 8각, 평형","개",1,{"$f":"IF(egTextCal(L406)<>0, egTextCal(L406),   )","v":1},{"$f":"SUM(G405:G407)*M406","v":2}]
["P0204","1종 가요 + 커넥터 + 방수16c",null,null,null,"3",null,"59753017063","1종금속제가요전선관","커넥터, 16 mm 일반-방수","개",2,{"$f":"IF(egTextCal(L407)<>0, egTextCal(L407),   )","v":2},{"$f":"SUM(G405:G407)*M407","v":4}]
["P0204",null,null,null,null,"-"]
["P0204",null,null,null,null,"-"]
["P0204",null,null,"▷ER5",null,"-"]
["P0204","벽관통 + 코어Φ50 + 25cm",null,"벽관통 구멍 Φ50-벽두께 25cm","1","-",{"$f":"IF(egTextCal(E411)<>0, egTextCal(E411),   )","v":1},"56953100908","벽관통 구멍(코어드릴)","Φ50-벽두께 25cm","개소",1,{"$f":"IF(egTextCal(L411)<>0, egTextCal(L411),   )","v":1},{"$f":"SUM(G411:G411)*M411","v":1}]
["P0204","전선 + HFIX + 2.25mm",null,"FLEX 16C (HFIX 4sqx2,E4sq)","8+5+5+8","1",{"$f":"IF(egTextCal(E412)<>0, egTextCal(E412),   )","v":26},"E1450667003","450/750V 내열비닐절연전선","HFIX 2.25mm(4㎟)","M","2+1",{"$f":"IF(egTextCal(L412)<>0, egTextCal(L412),   )","v":3},{"$f":"SUM(G412:G413)*M412","v":78}]
["P0204","1종 가요 + 전선관 + 방수16c",null,null,null,"2",null,"59753017023","1종금속제가요전선관","16 mm 일반-방수","M",1,{"$f":"IF(egTextCal(L413)<>0, egTextCal(L413),   )","v":1},{"$f":"SUM(G412:G413)*M413","v":26}]
["P0204","콘센트 + 원형접지 + 250V",null,"콘센트 노출-접지형,250V 원형","2","-",{"$f":"IF(egTextCal(E414)<>0, egTextCal(E414),   )","v":2},"59350317121","콘센트","노출-접지형, 250V 원형","개",1,{"$f":"IF(egTextCal(L414)<>0, egTextCal(L414),   )","v":1},{"$f":"SUM(G414:G414)*M414","v":2}]
["P0204",null,null,null,null,"-"]
["P0204",null,null,"▷R5",null,"-"]
["P0204","벽관통 + 코어Φ50 + 25cm",null,"벽관통 구멍 Φ50-벽두께 25cm","1","-",{"$f":"IF(egTextCal(E417)<>0, egTextCal(E417),   )","v":1},"56953100908","벽관통 구멍(코어드릴)","Φ50-벽두께 25cm","개소",1,{"$f":"IF(egTextCal(L417)<>0, egTextCal(L417),   )","v":1},{"$f":"SUM(G417:G417)*M417","v":1}]
["P0204","전선 + HFIX + 2.25mm",null,"FLEX 16C (HFIX 4sqx2,E4sq)","8+5+5+8","1",{"$f":"IF(egTextCal(E418)<>0, egTextCal(E418),   )","v":26},"E1450667003","450/750V 내열비닐절연전선","HFIX 2.25mm(4㎟)","M","2+1",{"$f":"IF(egTextCal(L418)<>0, egTextCal(L418),   )","v":3},{"$f":"SUM(G418:G419)*M418","v":78}]
["P0204","1종 가요 + 전선관 + 방수16c",null,null,null,"2",null,"59753017023","1종금속제가요전선관","16 mm 일반-방수","M",1,{"$f":"IF(egTextCal(L419)<>0, egTextCal(L419),   )","v":1},{"$f":"SUM(G418:G419)*M419","v":26}]
["P0204","전선관 + (KS) + CD 16c",null,"난연CD 16C (HFIX 4sqx2,E4sq)","2+2","1",{"$f":"IF(egTextCal(E420)<>0, egTextCal(E420),   )","v":4},"59753097002","합성수지제 가요전선관","CD-난연성 16㎜","M",1,{"$f":"IF(egTextCal(L420)<>0, egTextCal(L420),   )","v":1},{"$f":"SUM(G420:G421)*M420","v":4}]
["P0204","전선 + HFIX + 2.25mm",null,null,null,"2",null,"E1450667003","450/750V 내열비닐절연전선","HFIX 2.25mm(4㎟)","M","2+1",{"$f":"IF(egTextCal(L421)<>0, egTextCal(L421),   )","v":3},{"$f":"SUM(G420:G421)*M421","v":12}]
["P0204","홈파기 + Φ22",null,"벽관통 홈파기 Φ22이하","2+2","-",{"$f":"IF(egTextCal(E422)<>0, egTextCal(E422),   )","v":4},"56959100801","배관용 홈파기","Φ22이하","M",1,{"$f":"IF(egTextCal(L422)<>0, egTextCal(L422),   )","v":1},{"$f":"SUM(G422:G422)*M422","v":4}]
["P0204","스위치 + 1구 박스 + 54mm","1","방우형콘센트(2P 2구 접지)-말단","2","1",{"$f":"IF(egTextCal(E423)<>0, egTextCal(E423),   )","v":2},"59753777102","스위치박스","1 개용 54 mm","개",1,{"$f":"IF(egTextCal(L423)<>0, egTextCal(L423),   )","v":1},{"$f":"SUM(G423:G424)*M423","v":2}]
["P0204","방우콘 + 매입접지 + 2구 250V","◀앞 장에서 연결",null,null,"2",null,"59350317208","방우콘센트","매입-접지형, 250V 2구","개",1,{"$f":"IF(egTextCal(L424)<>0, egTextCal(L424),   )","v":1},{"$f":"SUM(G423:G424)*M424","v":2}]
["P0204","아우트렛 + 8각 박스 + 54㎜",null,"아우트렛박스 8각 54㎜","2","1",{"$f":"IF(egTextCal(E425)<>0, egTextCal(E425),   )","v":2},"59753767011","아우트렛박스","8각 54㎜","개",1,{"$f":"IF(egTextCal(L425)<>0, egTextCal(L425),   )","v":1},{"$f":"SUM(G425:G427)*M425","v":2}]
["P0204","박스커버 + 8 각 + 평형",null,null,null,"2",null,"59753767201","아우트렛박스 커버","커버, 8각, 평형","개",1,{"$f":"IF(egTextCal(L426)<>0, egTextCal(L426),   )","v":1},{"$f":"SUM(G425:G427)*M426","v":2}]
["P0204","1종 가요 + 커넥터 + 방수16c",null,null,null,"3",null,"59753017063","1종금속제가요전선관","커넥터, 16 mm 일반-방수","개",2,{"$f":"IF(egTextCal(L427)<>0, egTextCal(L427),   )","v":2},{"$f":"SUM(G425:G427)*M427","v":4}]
["P0204",null,null,null,null,"-"]
["P0204",null,null,null,null,"-"]
["P0204",null,null,"▷ER6",null,"-"]
["P0204","벽관통 + 코어Φ50 + 25cm",null,"벽관통 구멍 Φ50-벽두께 25cm","1","-",{"$f":"IF(egTextCal(E431)<>0, egTextCal(E431),   )","v":1},"56953100908","벽관통 구멍(코어드릴)","Φ50-벽두께 25cm","개소",1,{"$f":"IF(egTextCal(L431)<>0, egTextCal(L431),   )","v":1},{"$f":"SUM(G431:G431)*M431","v":1}]
["P0204","전선 + HFIX + 2.25mm",null,"FLEX 16C (HFIX 4sqx2,E4sq)","8+5+5+5+8","1",{"$f":"IF(egTextCal(E432)<>0, egTextCal(E432),   )","v":31},"E1450667003","450/750V 내열비닐절연전선","HFIX 2.25mm(4㎟)","M","2+1",{"$f":"IF(egTextCal(L432)<>0, egTextCal(L432),   )","v":3},{"$f":"SUM(G432:G433)*M432","v":93}]
["P0204","1종 가요 + 전선관 + 방수16c",null,null,null,"2",null,"59753017023","1종금속제가요전선관","16 mm 일반-방수","M",1,{"$f":"IF(egTextCal(L433)<>0, egTextCal(L433),   )","v":1},{"$f":"SUM(G432:G433)*M433","v":31}]
["P0204","콘센트 + 원형접지 + 250V",null,"콘센트 노출-접지형,250V 원형","2","-",{"$f":"IF(egTextCal(E434)<>0, egTextCal(E434),   )","v":2},"59350317121","콘센트","노출-접지형, 250V 원형","개",1,{"$f":"IF(egTextCal(L434)<>0, egTextCal(L434),   )","v":1},{"$f":"SUM(G434:G434)*M434","v":2}]
["P0204",null,null,null,null,"-"]
["P0204",null,null,"▷R6",null,"-"]
["P0204","벽관통 + 코어Φ50 + 25cm",null,"벽관통 구멍 Φ50-벽두께 25cm","1","-",{"$f":"IF(egTextCal(E437)<>0, egTextCal(E437),   )","v":1},"56953100908","벽관통 구멍(코어드릴)","Φ50-벽두께 25cm","개소",1,{"$f":"IF(egTextCal(L437)<>0, egTextCal(L437),   )","v":1},{"$f":"SUM(G437:G437)*M437","v":1}]
["P0204","전선 + HFIX + 2.25mm",null,"FLEX 16C (HFIX 4sqx2,E4sq)","8+5+5+5+8","1",{"$f":"IF(egTextCal(E438)<>0, egTextCal(E438),   )","v":31},"E1450667003","450/750V 내열비닐절연전선","HFIX 2.25mm(4㎟)","M","2+1",{"$f":"IF(egTextCal(L438)<>0, egTextCal(L438),   )","v":3},{"$f":"SUM(G438:G439)*M438","v":93}]
["P0204","1종 가요 + 전선관 + 방수16c",null,null,null,"2",null,"59753017023","1종금속제가요전선관","16 mm 일반-방수","M",1,{"$f":"IF(egTextCal(L439)<>0, egTextCal(L439),   )","v":1},{"$f":"SUM(G438:G439)*M439","v":31}]
["P0204","전선관 + (KS) + CD 16c",null,"난연CD 16C (HFIX 4sqx2,E4sq)","2+2","1",{"$f":"IF(egTextCal(E440)<>0, egTextCal(E440),   )","v":4},"59753097002","합성수지제 가요전선관","CD-난연성 16㎜","M",1,{"$f":"IF(egTextCal(L440)<>0, egTextCal(L440),   )","v":1},{"$f":"SUM(G440:G441)*M440","v":4}]
["P0204","전선 + HFIX + 2.25mm",null,null,null,"2",null,"E1450667003","450/750V 내열비닐절연전선","HFIX 2.25mm(4㎟)","M","2+1",{"$f":"IF(egTextCal(L441)<>0, egTextCal(L441),   )","v":3},{"$f":"SUM(G440:G441)*M441","v":12}]
["P0204","홈파기 + Φ22",null,"벽관통 홈파기 Φ22이하","2+2","-",{"$f":"IF(egTextCal(E442)<>0, egTextCal(E442),   )","v":4},"56959100801","배관용 홈파기","Φ22이하","M",1,{"$f":"IF(egTextCal(L442)<>0, egTextCal(L442),   )","v":1},{"$f":"SUM(G442:G442)*M442","v":4}]
["P0204","스위치 + 1구 박스 + 54mm",null,"방우형콘센트(2P 2구 접지)-말단","2","1",{"$f":"IF(egTextCal(E443)<>0, egTextCal(E443),   )","v":2},"59753777102","스위치박스","1 개용 54 mm","개",1,{"$f":"IF(egTextCal(L443)<>0, egTextCal(L443),   )","v":1},{"$f":"SUM(G443:G444)*M443","v":2}]
["P0204","방우콘 + 매입접지 + 2구 250V",null,null,null,"2",null,"59350317208","방우콘센트","매입-접지형, 250V 2구","개",1,{"$f":"IF(egTextCal(L444)<>0, egTextCal(L444),   )","v":1},{"$f":"SUM(G443:G444)*M444","v":2}]
["P0204","아우트렛 + 8각 박스 + 54㎜",null,"아우트렛박스 8각 54㎜","2","1",{"$f":"IF(egTextCal(E445)<>0, egTextCal(E445),   )","v":2},"59753767011","아우트렛박스","8각 54㎜","개",1,{"$f":"IF(egTextCal(L445)<>0, egTextCal(L445),   )","v":1},{"$f":"SUM(G445:G447)*M445","v":2}]
["P0204","박스커버 + 8 각 + 평형",null,null,null,"2",null,"59753767201","아우트렛박스 커버","커버, 8각, 평형","개",1,{"$f":"IF(egTextCal(L446)<>0, egTextCal(L446),   )","v":1},{"$f":"SUM(G445:G447)*M446","v":2}]
["P0204","1종 가요 + 커넥터 + 방수16c",null,null,null,"3",null,"59753017063","1종금속제가요전선관","커넥터, 16 mm 일반-방수","개",2,{"$f":"IF(egTextCal(L447)<>0, egTextCal(L447),   )","v":2},{"$f":"SUM(G445:G447)*M447","v":4}]
["P0204"]
["P0204"]
["P0204"]
["P0204"]
["P0204"]
["P0204"]
["P0204"]
["P0204"]
["P0204"]
["P0204"]
["P0204"]
["P0204"]
["P0204"]
["P0204"]
["P0204"]
["P0204"]
["P0204"]
["P0204"]

{"sheet":"옵션","index":15,"n_rows":48,"n_cols":8,"rows_kept":48,"cut":false,"hidden":true,"merged":[[2,7,3,12],[5,7,6,12],[8,7,9,12],[11,7,12,12],[32,7,33,12]]}
[" ","재료비","노무비","경비"," ","계"]
["총 급 액",{"$f":"총괄표!I29","v":0},{"$f":"총괄표!L29","v":0},{"$f":"총괄표!N29","v":0},null,{"$f":"SUM(B2,C2,D2)","v":0}]
["관급 자재비",null,null,null,null,{"$f":"SUM(B3,C3,D3)","v":0},null,"금액조정이 안되나요?"]
[" "]
[" ",null," "]
[" ",null,null,null,null,null,null,"이지테크에서 변환할 때 2번 옵션을 지정하여 다시 해보세요"]
[]
[]
[null,null,null,null,null,null,null,"시트를 삭제할 때 에러가 뜨면 1번 옵션으로 하면 됩니다."]
[null,"적용율(%)","끝자리","적용율(%)/100","일위대가소수"]
["전체자재 적용율(%)(공종/일위대가)",100,1,{"$f":"$B$11/100","v":1}]
["전체노임 적용율(%)(공종)",80,1,{"$f":"$B$12/100","v":0.8},2,null,null,"2번 옵션으로 변환했을 때에는 결과값이 다를 수 있습니다."]
["전체노임 적용율(%)(일위대가)",80,1,{"$f":"$B$13/100","v":0.8},5]
[]
[]
[]
[]
[" "]
[" "]
["*(그룹별 자재 단가 추가 할증)*","적용율(%)",null,"적용율(%)/100"]
["Cable(CAB) 할증(%)",{"$f":"B11","v":100},null,{"$f":"$B$21/100","v":1}]
["Wire (WIR) 할증(%)",{"$f":"B11","v":100},null,{"$f":"$B$22/100","v":1}]
["Pipe (PIP) 할증(%)",{"$f":"B11","v":100},null,{"$f":"$B$23/100","v":1}]
["제 4그룹   할증(%)",{"$f":"B11","v":100},null,{"$f":"$B$24/100","v":1}]
["제 5그룹   할증(%)",{"$f":"B11","v":100},null,{"$f":"$B$25/100","v":1}]
[]
[]
[]
[]
["*(그룹별 노임 추가 할증)*","적용율(%)","자동부속재(전기)","자동부속재(통신)"]
["배관부속재(%)",15,15,20]
["CD관부속재(%)",40,40,40]
["소모잡자재(%)",2,null,null,null,null,null,"본 파일은 이지테크에서 2번 옵션으로 만들었습니다."]
["방폭할증(%)"]
["고소할증(%)",2]
["공구손료(%)",3]
[]
[]
[]
["*(공종별 노임 적용율(%))*","적용율(%)","소수자릿수"]
["1-1.철거공사",100,0]
["1-2.전력간선공사",100,0]
["1-3.전등설비공사",100,0]
["1-4.전열설비공사",100,0]
["2-1.철거공사",100,0]
["2-2.전력간선공사",100,0]
["2-3.전등설비공사",100,0]
["2-4.전열설비공사",100,0]

{"sheet":"사용설명","index":16,"n_rows":18,"n_cols":2,"rows_kept":18,"cut":false,"hidden":true,"merged":[]}
[null,"** 반드시 다음 사항을 숙지하신 다음 수정 작업을 하십시오 **"]
["1.","산출 양식은 공식이 연결되어 있지 않습니다."]
[null,"수정 작업은 본 프로그램에서 하신 후 다시 작성(엑셀파일) 하십시오."]
["2.","본 파일의 내용을 인쇄할 경우, 미리보기를 통하여 페이지 절선을 확인 후 인쇄하십시오."]
["3.","페이지 절선이 맞지 않으면 다음을 참고하십시오."]
[]
[]
[]
[]
[]
[]
[]
[]
[]
[]
[]
[null,"a. 해당시트의 셀 전체를 선택합니다."]
[null,"b. 행높이를 적절히 가감하면 페이지 절선을 맞출 수 있습니다."]